Workbook

Sheet Перегородки SOFToffice
B8: АКУСТИЧЕСКИЕ МОБИЛЬНЫЕ ПЕРЕГОРОДКИ SOFToffice | Q8: 45376
B10: Цены указаны с учетом скидки: | G10: =Скидка!C3/100 -> 0 | Q10: стр. 1
F12: Ширина | G12: Высота | H12: Арт | I12: Цена | N12: Ширина | O12: Высота | P12: Арт | Q12: Цена
F13: 800мм | G13: 1100мм | H13: моб. опоры | I13: =((Скидка!Q27*(100-Скидка!$C$3))*Скидка!$D$4)/100 -> 12424.16 | N13: 1000мм | O13: 1100мм | P13: моб. опоры | Q13: =((Скидка!X27*(100-Скидка!$C$3))*Скидка!$D$4)/100 -> 13117.44
H15: 011.МП.8011 | P15: 011.МП.1011
H16: стац. опоры | P16: стац. опоры
H18: 011.МПО.8011 | P18: 011.МПО.1011
G19: 1200мм | H19: моб. опоры | I19: =((Скидка!Q33*(100-Скидка!$C$3))*Скидка!$D$4)/100 -> 12602.24 | O19: 1200мм | P19: моб. опоры | Q19: =((Скидка!X33*(100-Скидка!$C$3))*Скидка!$D$4)/100 -> 13320.16
H21: 011.МП.8012 | P21: 011.МП.1012
H22: стац.опоры | P22: стац.опоры
H24: 011.МПО.8012 | P24: 011.МПО.1012
G25: 1400мм | H25: моб. опоры | I25: =((Скидка!Q39*(100-Скидка!$C$3))*Скидка!$D$4)/100 -> 12880 | O25: 1400мм | P25: моб. опоры | Q25: =((Скидка!X39*(100-Скидка!$C$3))*Скидка!$D$4)/100 -> 14038.08
H27: 011.МП.8014 | P27: 011.МП.1014
H28: стац. опоры | P28: стац.опоры
H30: 011.МПО.8014 | P30: 011.МПО.1014
G31: 1600мм | H31: моб. опоры | I31: =((Скидка!Q45*(100-Скидка!$C$3))*Скидка!$D$4)/100 -> 14892.64 | O31: 1600мм | P31: моб. опоры | Q31: =((Скидка!X45*(100-Скидка!$C$3))*Скидка!$D$4)/100 -> 15254.4
H33: 011.МП.8016 | P33: 011.МП.1016
H34: стац. опоры | P34: стац.опоры
H36: 011.МПО.8016 | P36: 011.МПО.1016
F38: Ширина | G38: Высота | H38: Арт | I38: Цена | N38: Ширина | O38: Высота | P38: Арт | Q38: Цена
F39: 1200мм | G39: 1100мм | H39: моб. опоры | I39: =((Скидка!Q53*(100-Скидка!$C$3))*Скидка!$D$4)/100 -> 13817.44 | N39: 1400мм | O39: 1100мм | P39: моб. опоры | Q39: =((Скидка!X53*(100-Скидка!$C$3))*Скидка!$D$4)/100 -> 14960.96
H41: 011.МП.1211 | P41: 011.МП.1411
H42: стац. опоры | P42: стац. опоры
H44: 011.МПО.1211 | P44: 011.МПО.1411
G45: 1200мм | H45: моб. опоры | I45: =((Скидка!Q59*(100-Скидка!$C$3))*Скидка!$D$4)/100 -> 14044.8 | O45: 1200мм | P45: моб. опоры | Q45: =((Скидка!X59*(100-Скидка!$C$3))*Скидка!$D$4)/100 -> 15223.04
H47: 011.МП.1212 | P47: 011.МП.1412
H48: стац. опоры | P48: стац. опоры
H50: 011.МПО.1212 | P50: 011.МПО.1412
G51: 1400мм | H51: моб. опоры | I51: =((Скидка!Q65*(100-Скидка!$C$3))*Скидка!$D$4)/100 -> 14712.32 | O51: 1400мм | P51: моб. опоры | Q51: =((Скидка!X65*(100-Скидка!$C$3))*Скидка!$D$4)/100 -> 15967.84
H53: 011.МП.1214 | P53: 011.МП.1414
H54: стац. опоры | P54: стац. опоры
H56: 011.МПО.1214 | P56: 011.МПО.1414
G57: 1600мм | H57: моб. опоры | I57: =((Скидка!Q71*(100-Скидка!$C$3))*Скидка!$D$4)/100 -> 15996.96 | N57: 1350мм * | O57: 1600мм | P57: моб. опоры | Q57: =((Скидка!X71*(100-Скидка!$C$3))*Скидка!$D$4)/100 -> 16346.4
H59: 011.МП.1216 | P59: 011.МП.1316
H60: стац. опоры | P60: стац. опоры
H62: 011.МПО.1216 | P62: 011.МПО.1316
N64: Ширина | O64: Высота | P64: Арт | Q64: Цена
N65: 1600мм | O65: 1100мм | P65: моб. опоры | Q65: =((Скидка!X79*(100-Скидка!$C$3))*Скидка!$D$4)/100 -> 19334.56
P67: 011.МП.1611
P68: стац. опоры
...

Sheet Барьеры SOFToffice ткань (1)
B8: НАСТОЛЬНЫЕ БАРЬЕРЫ - ТКАНЬ | O8: ='Перегородки SOFToffice'!Q8 -> 45376
B10: Цены указаны с учетом скидки: | F10: =Скидка!C3/100 -> 0 | P10: стр. 2
B11: Настольные барьеры с мягким наполнением - GLOSS
B12: Барьеры фронтальные
B14: Способ установки: крепление к столешнице снизу | H14: Способ установки: крепление к двум столешницам снизу
B15: Толщина столешницы мин.16мм, макс.38мм | H15: Толщина столешницы мин.16мм, макс.38мм
E16: 9БР.307.1 (1200х27х300) | G16: =((Скидка!AG31*(100-Скидка!$C$3))*Скидка!$D$4)/100 -> 5513.76 | L16: 9БР.307.3 (1200х27х300) | O16: =((Скидка!AO31*(100-Скидка!$C$3))*Скидка!$D$4)/100 -> 5888.96
E17: 9БР.308.1 (1400х27х300) | G17: =((Скидка!AG32*(100-Скидка!$C$3))*Скидка!$D$4)/100 -> 6273.12 | L17: 9БР.308.3 (1400х27х300) | O17: =((Скидка!AO32*(100-Скидка!$C$3))*Скидка!$D$4)/100 -> 6648.32
E18: 9БР.309.1 (1600х27х300) | G18: =((Скидка!AG33*(100-Скидка!$C$3))*Скидка!$D$4)/100 -> 6988.8 | L18: 9БР.309.3 (1600х27х300) | O18: =((Скидка!AO33*(100-Скидка!$C$3))*Скидка!$D$4)/100 -> 7406.56
E19: 9БР.302.1 (1800х27х300) | G19: =((Скидка!AG34*(100-Скидка!$C$3))*Скидка!$D$4)/100 -> 7450.24 | L19: 9БР.302.3 (1800х27х300) | O19: =((Скидка!AO34*(100-Скидка!$C$3))*Скидка!$D$4)/100 -> 7824.32
E20: 9БР.107.1 (1200х27х400) | G20: =((Скидка!AG35*(100-Скидка!$C$3))*Скидка!$D$4)/100 -> 5838.56 | L20: 9БР.107.3 (1200х27х400) | O20: =((Скидка!AO35*(100-Скидка!$C$3))*Скидка!$D$4)/100 -> 6128.64
E21: 9БР.108.1 (1400х27х400) | G21: =((Скидка!AG36*(100-Скидка!$C$3))*Скидка!$D$4)/100 -> 6550.88 | L21: 9БР.108.3 (1400х27х400) | O21: =((Скидка!AO36*(100-Скидка!$C$3))*Скидка!$D$4)/100 -> 6926.08
E22: 9БР.109.1 (1600х27х400) | G22: =((Скидка!AG37*(100-Скидка!$C$3))*Скидка!$D$4)/100 -> 7349.44 | L22: 9БР.109.3 (1600х27х400) | O22: =((Скидка!AO37*(100-Скидка!$C$3))*Скидка!$D$4)/100 -> 7724.64
E23: 9БР.102.1 (1800х27х400) | G23: =((Скидка!AG38*(100-Скидка!$C$3))*Скидка!$D$4)/100 -> 7824.32 | L23: 9БР.102.3 (1800х27х400) | O23: =((Скидка!AO38*(100-Скидка!$C$3))*Скидка!$D$4)/100 -> 8199.52
B24: Барьеры боковые
B26: Способ установки: крепление к столешнице снизу | H26: Способ крепления: крепится к столешнице снизу и к перегородке
B27: Толщина столешницы 25мм | H27: Толщина столешницы 25мм
L28: 9БРЛ.301.9 (680х27х300) | O28: =((Скидка!AO43*(100-Скидка!$C$3))*Скидка!$D$4)/100 -> 5121.76
L29: 9БРЛ.311.9 (780х27х300) | O29: =((Скидка!AO44*(100-Скидка!$C$3))*Скидка!$D$4)/100 -> 5335.68
L30: 9БРП.301.9 (680х27х300) | O30: =((Скидка!AO45*(100-Скидка!$C$3))*Скидка!$D$4)/100 -> 5121.76
L31: 9БРП.311.9 (780х27х300) | O31: =((Скидка!AO46*(100-Скидка!$C$3))*Скидка!$D$4)/100 -> 5335.68
E32: 9БР.305.4 (700х27х300) | G32: =((Скидка!AG47*(100-Скидка!$C$3))*Скидка!$D$4)/100 -> 4010.72 | L32: 9БРЛ.101.9 (680х27х400) | O32: =((Скидка!AO47*(100-Скидка!$C$3))*Скидка!$D$4)/100 -> 5270.72
E33: 9БР.303.4 (800х27х300) | G33: =((Скидка!AG48*(100-Скидка!$C$3))*Скидка!$D$4)/100 -> 4225.76 | L33: 9БРЛ.111.9 (780х27х400) | O33: =((Скидка!AO48*(100-Скидка!$C$3))*Скидка!$D$4)/100 -> 5477.92
E34: 9БР.105.4 (700х27х400) | G34: =((Скидка!AG49*(100-Скидка!$C$3))*Скидка!$D$4)/100 -> 4154.08 | L34: 9БРП.101.9 (680х27х400) | O34: =((Скидка!AO49*(100-Скидка!$C$3))*Скидка!$D$4)/100 -> 5270.72
E35: 9БР.103.4 (800х27х400) | G35: =((Скидка!AG50*(100-Скидка!$C$3))*Скидка!$D$4)/100 -> 4381.44 | L35: 9БРП.111.9 (780х27х400) | O35: =((Скидка!AO50*(100-Скидка!$C$3))*Скидка!$D$4)/100 -> 5477.92
B36: Настольные барьеры - AVANCE
B37: Барьеры фронтальные
B43: Способ установки: крепление к столешнице снизу | F43: Способ установки: крепление к металл-каркасу снизу | K43: Способ установки: крепление к двум столешницам снизу
B44: Толщина столешницы мин.16мм, макс.38мм | F44: Толщина столешницы с металлом мин.56мм, макс.70мм | K44: Толщина столешницы мин.16мм, макс.38мм
B45: 6БР.306.1 (1000х18х300) | E45: =((Скидка!AE60*(100-Скидка!$C$3))*Скидка!$D$4)/100 -> 4539.36 | F45: 6БР.306.2 (1000х18х300) | I45: =((Скидка!AI60*(100-Скидка!$C$3))*Скидка!$D$4)/100 -> 4635.68 | K45: 6БР.306.3 (1000х18х300) | O45: =((Скидка!AO60*(100-Скидка!$C$3))*Скидка!$D$4)/100 -> 4915.68
B46: 6БР.307.1 (1200х18х300) | E46: =((Скидка!AE61*(100-Скидка!$C$3))*Скидка!$D$4)/100 -> 4991.84 | F46: 6БР.307.2 (1200х18х300) | I46: =((Скидка!AI61*(100-Скидка!$C$3))*Скидка!$D$4)/100 -> 5089.28 | K46: 6БР.307.3 (1200х18х300) | O46: =((Скидка!AO61*(100-Скидка!$C$3))*Скидка!$D$4)/100 -> 5364.8
B47: 6БР.308.1 (1400х18х300) | E47: =((Скидка!AE62*(100-Скидка!$C$3))*Скидка!$D$4)/100 -> 5675.04 | F47: 6БР.308.2 (1400х18х300) | I47: =((Скидка!AI62*(100-Скидка!$C$3))*Скидка!$D$4)/100 -> 5772.48 | K47: 6БР.308.3 (1400х18х300) | O47: =((Скидка!AO62*(100-Скидка!$C$3))*Скидка!$D$4)/100 -> 6048
B48: 6БР.309.1 (1600х18х300) | E48: =((Скидка!AE63*(100-Скидка!$C$3))*Скидка!$D$4)/100 -> 6363.84 | F48: 6БР.309.2 (1600х18х300) | I48: =((Скидка!AI63*(100-Скидка!$C$3))*Скидка!$D$4)/100 -> 6461.28 | K48: 6БР.309.3 (1600х18х300) | O48: =((Скидка!AO63*(100-Скидка!$C$3))*Скидка!$D$4)/100 -> 6735.68
B49: 6БР.406.1 (1000х18х400) | E49: =((Скидка!AE64*(100-Скидка!$C$3))*Скидка!$D$4)/100 -> 4702.88 | F49: 6БР.406.2 (1000х18х400) | I49: =((Скидка!AI64*(100-Скидка!$C$3))*Скидка!$D$4)/100 -> 4800.32 | K49: 6БР.406.3 (1000х18х400) | O49: =((Скидка!AO64*(100-Скидка!$C$3))*Скидка!$D$4)/100 -> 5075.84
B50: 6БР.407.1 (1200х18х400) | E50: =((Скидка!AE65*(100-Скидка!$C$3))*Скидка!$D$4)/100 -> 5180 | F50: 6БР.407.2 (1200х18х400) | I50: =((Скидка!AI65*(100-Скидка!$C$3))*Скидка!$D$4)/100 -> 5277.44 | K50: 6БР.407.3 (1200х18х400) | O50: =((Скидка!AO65*(100-Скидка!$C$3))*Скидка!$D$4)/100 -> 5552.96
B51: 6БР.408.1 (1400х18х400) | E51: =((Скидка!AE66*(100-Скидка!$C$3))*Скидка!$D$4)/100 -> 5911.36 | F51: 6БР.408.2 (1400х18х400) | I51: =((Скидка!AI66*(100-Скидка!$C$3))*Скидка!$D$4)/100 -> 6008.8 | K51: 6БР.408.3 (1400х18х400) | O51: =((Скидка!AO66*(100-Скидка!$C$3))*Скидка!$D$4)/100 -> 6285.44
B52: 6БР.409.1 (1600х18х400) | E52: =((Скидка!AE67*(100-Скидка!$C$3))*Скидка!$D$4)/100 -> 6615.84 | F52: 6БР.409.2 (1600х18х400) | I52: =((Скидка!AI67*(100-Скидка!$C$3))*Скидка!$D$4)/100 -> 6713.28 | K52: 6БР.409.3 (1600х18х400) | O52: =((Скидка!AO67*(100-Скидка!$C$3))*Скидка!$D$4)/100 -> 6989.92
B53: Барьеры боковые
B59: Способ установки: крепление к столешнице снизу | F59: Способ установки: крепление к металл-каркасу снизу
B60: Толщина столешницы мин.16мм, макс.38мм | F60: Толщина столешницы с металлом мин.56мм, макс.70мм
...

Sheet Барьеры SOFToffice ткань (2)
B8: НАСТОЛЬНЫЕ БАРЬЕРЫ- ТКАНЬ | O8: ='Перегородки SOFToffice'!Q8 -> 45376
P10: стр. 3
B11: Настольные барьеры с мягким наполнением ARREDO
B12: Барьеры боковые | H12: Барьеры фронтальные
B14: Способ установки: крепление к столешнице снизу | H14: Способ установки: крепление к столешнице снизу
B15: Толщина столешницы 25мм | H15: Толщина столешницы 25мм
F16: Порошк. покрытие | G16: Металл глянец | O16: Порошк. покрытие | P16: Металл глянец
E18: 010.БТБ.583 (580х27х300) | F18: =((Скидка!AW16*(100-Скидка!$C$3))*Скидка!$D$4)/100 -> 5201.28 | G18: =((Скидка!AX16*(100-Скидка!$C$3))*Скидка!$D$4)/100 -> 6259.68
E19: 010.БТБ.603 (600х27х300) | F19: =((Скидка!AW17*(100-Скидка!$C$3))*Скидка!$D$4)/100 -> 5311.04 | G19: =((Скидка!AX17*(100-Скидка!$C$3))*Скидка!$D$4)/100 -> 6368.32 | M19: 010.БТФ.103 (1000х27х300) | O19: =((Скидка!BF17*(100-Скидка!$C$3))*Скидка!$D$4)/100 -> 5970.72 | P19: =((Скидка!BG17*(100-Скидка!$C$3))*Скидка!$D$4)/100 -> 7024.64
E20: 010.БТБ.683 (680х27х300) | F20: =((Скидка!AW18*(100-Скидка!$C$3))*Скидка!$D$4)/100 -> 5496.96 | G20: =((Скидка!AX18*(100-Скидка!$C$3))*Скидка!$D$4)/100 -> 6544.16 | M20: 010.БТФ.123 (1200х27х300) | O20: =((Скидка!BF18*(100-Скидка!$C$3))*Скидка!$D$4)/100 -> 6335.84 | P20: =((Скидка!BG18*(100-Скидка!$C$3))*Скидка!$D$4)/100 -> 7395.36
E21: 010.БТБ.703 (700х27х300) | F21: =((Скидка!AW19*(100-Скидка!$C$3))*Скидка!$D$4)/100 -> 5559.68 | G21: =((Скидка!AX19*(100-Скидка!$C$3))*Скидка!$D$4)/100 -> 6606.88 | M21: 010.БТФ.143 (1400х27х300) | O21: =((Скидка!BF19*(100-Скидка!$C$3))*Скидка!$D$4)/100 -> 7052.64 | P21: =((Скидка!BG19*(100-Скидка!$C$3))*Скидка!$D$4)/100 -> 8090.88
E22: 010.БТБ.783 (780х27х300) | F22: =((Скидка!AW20*(100-Скидка!$C$3))*Скидка!$D$4)/100 -> 5743.36 | G22: =((Скидка!AX20*(100-Скидка!$C$3))*Скидка!$D$4)/100 -> 6789.44 | M22: 010.БТФ.163 (1600х27х300) | O22: =((Скидка!BF20*(100-Скидка!$C$3))*Скидка!$D$4)/100 -> 7680.96 | P22: =((Скидка!BG20*(100-Скидка!$C$3))*Скидка!$D$4)/100 -> 8737.12
E23: 010.БТБ.803 (800х27х300) | F23: =((Скидка!AW21*(100-Скидка!$C$3))*Скидка!$D$4)/100 -> 5809.44 | G23: =((Скидка!AX21*(100-Скидка!$C$3))*Скидка!$D$4)/100 -> 6855.52 | M23: 010.БТФ.183 (1800х27х300) | O23: =((Скидка!BF21*(100-Скидка!$C$3))*Скидка!$D$4)/100 -> 9120.16 | P23: =((Скидка!BG21*(100-Скидка!$C$3))*Скидка!$D$4)/100 -> 10700.48
E25: 010.БТБ.584 (580х27х400) | F25: =((Скидка!AW23*(100-Скидка!$C$3))*Скидка!$D$4)/100 -> 5306.56 | G25: =((Скидка!AX23*(100-Скидка!$C$3))*Скидка!$D$4)/100 -> 6332.48
E26: 010.БТБ.604 (600х27х400) | F26: =((Скидка!AW24*(100-Скидка!$C$3))*Скидка!$D$4)/100 -> 5349.12 | G26: =((Скидка!AX24*(100-Скидка!$C$3))*Скидка!$D$4)/100 -> 6376.16 | M26: 010.БТФ.104 (1000х27х400) | O26: =((Скидка!BF24*(100-Скидка!$C$3))*Скидка!$D$4)/100 -> 6241.76 | P26: =((Скидка!BG24*(100-Скидка!$C$3))*Скидка!$D$4)/100 -> 7264.32
E27: 010.БТБ.684 (680х27х400) | F27: =((Скидка!AW25*(100-Скидка!$C$3))*Скидка!$D$4)/100 -> 5530.56 | G27: =((Скидка!AX25*(100-Скидка!$C$3))*Скидка!$D$4)/100 -> 6554.24 | M27: 010.БТФ.124 (1200х27х400) | O27: =((Скидка!BF25*(100-Скидка!$C$3))*Скидка!$D$4)/100 -> 6725.6 | P27: =((Скидка!BG25*(100-Скидка!$C$3))*Скидка!$D$4)/100 -> 7751.52
E28: 010.БТБ.704 (700х27х400) | F28: =((Скидка!AW26*(100-Скидка!$C$3))*Скидка!$D$4)/100 -> 5574.24 | G28: =((Скидка!AX26*(100-Скидка!$C$3))*Скидка!$D$4)/100 -> 6597.92 | M28: 010.БТФ.144 (1400х27х400) | O28: =((Скидка!BF26*(100-Скидка!$C$3))*Скидка!$D$4)/100 -> 7493.92 | P28: =((Скидка!BG26*(100-Скидка!$C$3))*Скидка!$D$4)/100 -> 8516.48
E29: 010.БТБ.784 (780х27х400) | F29: =((Скидка!AW27*(100-Скидка!$C$3))*Скидка!$D$4)/100 -> 5755.68 | G29: =((Скидка!AX27*(100-Скидка!$C$3))*Скидка!$D$4)/100 -> 6776 | M29: 010.БТФ.164 (1600х27х400) | O29: =((Скидка!BF27*(100-Скидка!$C$3))*Скидка!$D$4)/100 -> 8275.68 | P29: =((Скидка!BG27*(100-Скидка!$C$3))*Скидка!$D$4)/100 -> 9459.52
E30: 010.БТБ.804 (800х27х400) | F30: =((Скидка!AW28*(100-Скидка!$C$3))*Скидка!$D$4)/100 -> 5796 | G30: =((Скидка!AX28*(100-Скидка!$C$3))*Скидка!$D$4)/100 -> 6820.8 | M30: 010.БТФ.184 (1800х27х400) | O30: =((Скидка!BF28*(100-Скидка!$C$3))*Скидка!$D$4)/100 -> 9804.48 | P30: =((Скидка!BG28*(100-Скидка!$C$3))*Скидка!$D$4)/100 -> 11753.28
E32: 010.БТБ.585 (580х27х500) | F32: =((Скидка!AW30*(100-Скидка!$C$3))*Скидка!$D$4)/100 -> 5418.56 | G32: =((Скидка!AX30*(100-Скидка!$C$3))*Скидка!$D$4)/100 -> 6442.24
E33: 010.БТБ.605 (600х27х500) | F33: =((Скидка!AW31*(100-Скидка!$C$3))*Скидка!$D$4)/100 -> 5467.84 | G33: =((Скидка!AX31*(100-Скидка!$C$3))*Скидка!$D$4)/100 -> 6490.4 | M33: 010.БТФ.105 (1000х27х500) | O33: =((Скидка!BF31*(100-Скидка!$C$3))*Скидка!$D$4)/100 -> 6432.16 | P33: =((Скидка!BG31*(100-Скидка!$C$3))*Скидка!$D$4)/100 -> 7454.72
E34: 010.БТБ.685 (680х27х500) | F34: =((Скидка!AW32*(100-Скидка!$C$3))*Скидка!$D$4)/100 -> 5564.16 | G34: =((Скидка!AX32*(100-Скидка!$C$3))*Скидка!$D$4)/100 -> 6588.96 | M34: 010.БТФ.125 (1200х27х500) | O34: =((Скидка!BF32*(100-Скидка!$C$3))*Скидка!$D$4)/100 -> 6949.6 | P34: =((Скидка!BG32*(100-Скидка!$C$3))*Скидка!$D$4)/100 -> 7980
E35: 010.БТБ.705 (700х27х500) | F35: =((Скидка!AW33*(100-Скидка!$C$3))*Скидка!$D$4)/100 -> 5710.88 | G35: =((Скидка!AX33*(100-Скидка!$C$3))*Скидка!$D$4)/100 -> 6731.2 | M35: 010.БТФ.145 (1400х27х500) | O35: =((Скидка!BF33*(100-Скидка!$C$3))*Скидка!$D$4)/100 -> 8086.4 | P35: =((Скидка!BG33*(100-Скидка!$C$3))*Скидка!$D$4)/100 -> 9125.76
E36: 010.БТБ.785 (780х27х500) | F36: =((Скидка!AW34*(100-Скидка!$C$3))*Скидка!$D$4)/100 -> 5903.52 | G36: =((Скидка!AX34*(100-Скидка!$C$3))*Скидка!$D$4)/100 -> 6923.84 | M36: 010.БТФ.165 (1600х27х500) | O36: =((Скидка!BF34*(100-Скидка!$C$3))*Скидка!$D$4)/100 -> 8574.72 | P36: =((Скидка!BG34*(100-Скидка!$C$3))*Скидка!$D$4)/100 -> 9870.56
E37: 010.БТБ.805 (800х27х500) | F37: =((Скидка!AW35*(100-Скидка!$C$3))*Скидка!$D$4)/100 -> 5939.36 | G37: =((Скидка!AX35*(100-Скидка!$C$3))*Скидка!$D$4)/100 -> 6972 | M37: 010.БТФ.185 (1800х27х500) | O37: =((Скидка!BF35*(100-Скидка!$C$3))*Скидка!$D$4)/100 -> 10146.08 | P37: =((Скидка!BG35*(100-Скидка!$C$3))*Скидка!$D$4)/100 -> 12213.6
B39: Барьеры фронтальные с карманами, односторонние | H39: Барьеры фронтальные для сдвоенного бенч
B41: Способ установки: крепление к столешнице снизу | H41: Способ установки: крепление к столешнице снизу
B42: Толщина столешницы 25мм | H42: Толщина столешницы 25мм
F43: Порошк. покрытие | G43: Металл глянец | O43: Порошк. покрытие | P43: Металл глянец
M45: 010.БТБГ.103 (1000х27х300) | O45: =((Скидка!BF41*(100-Скидка!$C$3))*Скидка!$D$4)/100 -> 5939.36 | P45: =((Скидка!BG41*(100-Скидка!$C$3))*Скидка!$D$4)/100 -> 6992.16
M46: 010.БТБГ.123 (1200х27х300) | O46: =((Скидка!BF42*(100-Скидка!$C$3))*Скидка!$D$4)/100 -> 6315.68 | P46: =((Скидка!BG42*(100-Скидка!$C$3))*Скидка!$D$4)/100 -> 7367.36
E47: 010.БТК.104 (1000х27х400) | F47: =((Скидка!AW43*(100-Скидка!$C$3))*Скидка!$D$4)/100 -> 7422.24 | G47: =((Скидка!AX43*(100-Скидка!$C$3))*Скидка!$D$4)/100 -> 8445.92 | M47: 010.БТБГ.143 (1400х27х300) | O47: =((Скидка!BF43*(100-Скидка!$C$3))*Скидка!$D$4)/100 -> 6995.52 | P47: =((Скидка!BG43*(100-Скидка!$C$3))*Скидка!$D$4)/100 -> 8058.4
E48: 010.БТК.124 (1200х27х400) | F48: =((Скидка!AW44*(100-Скидка!$C$3))*Скидка!$D$4)/100 -> 7859.04 | G48: =((Скидка!AX44*(100-Скидка!$C$3))*Скидка!$D$4)/100 -> 8884.96 | M48: 010.БТБГ.163 (1600х27х300) | O48: =((Скидка!BF44*(100-Скидка!$C$3))*Скидка!$D$4)/100 -> 7664.16 | P48: =((Скидка!BG44*(100-Скидка!$C$3))*Скидка!$D$4)/100 -> 8711.36
E49: 010.БТК.144 (1400х27х400) | F49: =((Скидка!AW45*(100-Скидка!$C$3))*Скидка!$D$4)/100 -> 8300.32 | G49: =((Скидка!AX45*(100-Скидка!$C$3))*Скидка!$D$4)/100 -> 9327.36 | M49: 010.БТБГ.183 (1800х27х300) | O49: =((Скидка!BF45*(100-Скидка!$C$3))*Скидка!$D$4)/100 -> 9072 | P49: =((Скидка!BG45*(100-Скидка!$C$3))*Скидка!$D$4)/100 -> 10669.12
E50: 010.БТК.164 (1600х27х400) | F50: =((Скидка!AW46*(100-Скидка!$C$3))*Скидка!$D$4)/100 -> 9620.8 | G50: =((Скидка!AX46*(100-Скидка!$C$3))*Скидка!$D$4)/100 -> 10638.88
E51: 010.БТК.184 (1800х27х400) | F51: =((Скидка!AW47*(100-Скидка!$C$3))*Скидка!$D$4)/100 -> 11163.04 | G51: =((Скидка!AX47*(100-Скидка!$C$3))*Скидка!$D$4)/100 -> 12660.48 | M51: 010.БТБГ.104 (1000х27х400) | O51: =((Скидка!BF47*(100-Скидка!$C$3))*Скидка!$D$4)/100 -> 6210.4 | P51: =((Скидка!BG47*(100-Скидка!$C$3))*Скидка!$D$4)/100 -> 7304.64
M52: 010.БТБГ.124 (1200х27х400) | O52: =((Скидка!BF48*(100-Скидка!$C$3))*Скидка!$D$4)/100 -> 6704.32 | P52: =((Скидка!BG48*(100-Скидка!$C$3))*Скидка!$D$4)/100 -> 7835.52
M53: 010.БТБГ.144 (1400х27х400) | O53: =((Скидка!BF49*(100-Скидка!$C$3))*Скидка!$D$4)/100 -> 7470.4 | P53: =((Скидка!BG49*(100-Скидка!$C$3))*Скидка!$D$4)/100 -> 8741.6
M54: 010.БТБГ.164 (1600х27х400) | O54: =((Скидка!BF50*(100-Скидка!$C$3))*Скидка!$D$4)/100 -> 8255.52 | P54: =((Скидка!BG50*(100-Скидка!$C$3))*Скидка!$D$4)/100 -> 9647.68
E55: 010.БТК.105 (1000х27х500) | F55: =((Скидка!AW51*(100-Скидка!$C$3))*Скидка!$D$4)/100 -> 7607.04 | G55: =((Скидка!AX51*(100-Скидка!$C$3))*Скидка!$D$4)/100 -> 8654.24 | M55: 010.БТБГ.184 (1800х27х400) | O55: =((Скидка!BF51*(100-Скидка!$C$3))*Скидка!$D$4)/100 -> 9766.4 | P55: =((Скидка!BG51*(100-Скидка!$C$3))*Скидка!$D$4)/100 -> 12034.4
...

Sheet Барьеры SOFToffice - Фетр
B8: НАСТОЛЬНЫЕ БАРЬЕРЫ - ФЕТР | O8: ='Перегородки SOFToffice'!Q8 -> 45376
P10: стр. 4
B11: Настольные барьеры с мягким наполнением FETR
B12: Барьеры из фетра, боковые | H12: Барьеры из фетра, фронтальные
B14: Способ установки: крепление к столешнице снизу | H14: Способ установки: крепление к столешнице снизу
B15: Толщина столешницы 25мм | H15: Толщина столешницы 25мм
F16: Порошк. покрытие | G16: Металл глянец | O16: Порошк. покрытие | P16: Металл глянец
E18: 010.ФБ.583 (580х20х300) | F18: =((Скидка!BN16*(100-Скидка!$C$3))*Скидка!$D$4)/100 -> 5691.84 | G18: =((Скидка!BO16*(100-Скидка!$C$3))*Скидка!$D$4)/100 -> 6735.68
E19: 010.ФБ.603 (600х20х300) | F19: =((Скидка!BN17*(100-Скидка!$C$3))*Скидка!$D$4)/100 -> 5738.88 | G19: =((Скидка!BO17*(100-Скидка!$C$3))*Скидка!$D$4)/100 -> 6782.72
E20: 010.ФБ.683 (680х20х300) | F20: =((Скидка!BN18*(100-Скидка!$C$3))*Скидка!$D$4)/100 -> 5975.2 | G20: =((Скидка!BO18*(100-Скидка!$C$3))*Скидка!$D$4)/100 -> 7019.04 | M20: 010.ФФ.103 (1000х20х300) | O20: =((Скидка!BW18*(100-Скидка!$C$3))*Скидка!$D$4)/100 -> 7234.08 | P20: =((Скидка!BX18*(100-Скидка!$C$3))*Скидка!$D$4)/100 -> 8277.92
E21: 010.ФБ.703 (700х20х300) | F21: =((Скидка!BN19*(100-Скидка!$C$3))*Скидка!$D$4)/100 -> 6040.16 | G21: =((Скидка!BO19*(100-Скидка!$C$3))*Скидка!$D$4)/100 -> 7084 | M21: 010.ФФ.123 (1200х20х300) | O21: =((Скидка!BW19*(100-Скидка!$C$3))*Скидка!$D$4)/100 -> 7832.16 | P21: =((Скидка!BX19*(100-Скидка!$C$3))*Скидка!$D$4)/100 -> 8876
E22: 010.ФБ.783 (780х20х300) | F22: =((Скидка!BN20*(100-Скидка!$C$3))*Скидка!$D$4)/100 -> 6278.72 | G22: =((Скидка!BO20*(100-Скидка!$C$3))*Скидка!$D$4)/100 -> 7322.56 | M22: 010.ФФ.143 (1400х20х300) | O22: =((Скидка!BW20*(100-Скидка!$C$3))*Скидка!$D$4)/100 -> 8759.52 | P22: =((Скидка!BX20*(100-Скидка!$C$3))*Скидка!$D$4)/100 -> 9803.36
E23: 010.ФБ.803 (800х20х300) | F23: =((Скидка!BN21*(100-Скидка!$C$3))*Скидка!$D$4)/100 -> 6332.48 | G23: =((Скидка!BO21*(100-Скидка!$C$3))*Скидка!$D$4)/100 -> 7376.32 | M23: 010.ФФ.163 (1600х20х300) | O23: =((Скидка!BW21*(100-Скидка!$C$3))*Скидка!$D$4)/100 -> 10729.6 | P23: =((Скидка!BX21*(100-Скидка!$C$3))*Скидка!$D$4)/100 -> 12295.36
E25: 010.ФБ.584 (580х20х400) | F25: =((Скидка!BN23*(100-Скидка!$C$3))*Скидка!$D$4)/100 -> 5761.28 | G25: =((Скидка!BO23*(100-Скидка!$C$3))*Скидка!$D$4)/100 -> 6805.12
E26: 010.ФБ.604 (600х20х400) | F26: =((Скидка!BN24*(100-Скидка!$C$3))*Скидка!$D$4)/100 -> 5825.12 | G26: =((Скидка!BO24*(100-Скидка!$C$3))*Скидка!$D$4)/100 -> 6868.96 | M26: 010.ФФ.104 (1000х20х400) | O26: =((Скидка!BW24*(100-Скидка!$C$3))*Скидка!$D$4)/100 -> 7328.16 | P26: =((Скидка!BX24*(100-Скидка!$C$3))*Скидка!$D$4)/100 -> 8372
E27: 010.ФБ.684 (680х20х400) | F27: =((Скидка!BN25*(100-Скидка!$C$3))*Скидка!$D$4)/100 -> 6076 | G27: =((Скидка!BO25*(100-Скидка!$C$3))*Скидка!$D$4)/100 -> 7119.84 | M27: 010.ФФ.124 (1200х20х400) | O27: =((Скидка!BW25*(100-Скидка!$C$3))*Скидка!$D$4)/100 -> 8009.12 | P27: =((Скидка!BX25*(100-Скидка!$C$3))*Скидка!$D$4)/100 -> 9052.96
E28: 010.ФБ.704 (700х20х400) | F28: =((Скидка!BN26*(100-Скидка!$C$3))*Скидка!$D$4)/100 -> 6133.12 | G28: =((Скидка!BO26*(100-Скидка!$C$3))*Скидка!$D$4)/100 -> 7176.96 | M28: 010.ФФ.144 (1400х20х400) | O28: =((Скидка!BW26*(100-Скидка!$C$3))*Скидка!$D$4)/100 -> 8955.52 | P28: =((Скидка!BX26*(100-Скидка!$C$3))*Скидка!$D$4)/100 -> 9999.36
E29: 010.ФБ.784 (780х20х400) | F29: =((Скидка!BN27*(100-Скидка!$C$3))*Скидка!$D$4)/100 -> 6392.96 | G29: =((Скидка!BO27*(100-Скидка!$C$3))*Скидка!$D$4)/100 -> 7436.8 | M29: 010.ФФ.164 (1600х20х400) | O29: =((Скидка!BW27*(100-Скидка!$C$3))*Скидка!$D$4)/100 -> 10964.8 | P29: =((Скидка!BX27*(100-Скидка!$C$3))*Скидка!$D$4)/100 -> 12530.56
E30: 010.ФБ.804 (800х20х400) | F30: =((Скидка!BN28*(100-Скидка!$C$3))*Скидка!$D$4)/100 -> 6450.08 | G30: =((Скидка!BO28*(100-Скидка!$C$3))*Скидка!$D$4)/100 -> 7493.92
E32: 010.ФБ.585 (580х20х500) | F32: =((Скидка!BN30*(100-Скидка!$C$3))*Скидка!$D$4)/100 -> 6883.52 | G32: =((Скидка!BO30*(100-Скидка!$C$3))*Скидка!$D$4)/100 -> 7927.36 | M32: 010.ФФ.105 (1000х20х500) | O32: =((Скидка!BW30*(100-Скидка!$C$3))*Скидка!$D$4)/100 -> 7474.88 | P32: =((Скидка!BX30*(100-Скидка!$C$3))*Скидка!$D$4)/100 -> 8518.72
E33: 010.ФБ.605 (600х20х500) | F33: =((Скидка!BN31*(100-Скидка!$C$3))*Скидка!$D$4)/100 -> 6886.88 | G33: =((Скидка!BO31*(100-Скидка!$C$3))*Скидка!$D$4)/100 -> 7930.72 | M33: 010.ФФ.125 (1200х20х500) | O33: =((Скидка!BW31*(100-Скидка!$C$3))*Скидка!$D$4)/100 -> 8183.84 | P33: =((Скидка!BX31*(100-Скидка!$C$3))*Скидка!$D$4)/100 -> 9227.68
E34: 010.ФБ.685 (680х20х500) | F34: =((Скидка!BN32*(100-Скидка!$C$3))*Скидка!$D$4)/100 -> 6946.24 | G34: =((Скидка!BO32*(100-Скидка!$C$3))*Скидка!$D$4)/100 -> 7990.08 | M34: 010.ФФ.145 (1400х20х500) | O34: =((Скидка!BW32*(100-Скидка!$C$3))*Скидка!$D$4)/100 -> 9180.64 | P34: =((Скидка!BX32*(100-Скидка!$C$3))*Скидка!$D$4)/100 -> 10224.48
E35: 010.ФБ.705 (700х20х500) | F35: =((Скидка!BN33*(100-Скидка!$C$3))*Скидка!$D$4)/100 -> 6959.68 | G35: =((Скидка!BO33*(100-Скидка!$C$3))*Скидка!$D$4)/100 -> 8003.52 | M35: 010.ФФ.165 (1600х20х500) | O35: =((Скидка!BW33*(100-Скидка!$C$3))*Скидка!$D$4)/100 -> 11200 | P35: =((Скидка!BX33*(100-Скидка!$C$3))*Скидка!$D$4)/100 -> 12765.76
E36: 010.ФБ.785 (780х20х500) | F36: =((Скидка!BN34*(100-Скидка!$C$3))*Скидка!$D$4)/100 -> 7019.04 | G36: =((Скидка!BO34*(100-Скидка!$C$3))*Скидка!$D$4)/100 -> 8062.88
E37: 010.ФБ.805 (800х20х500) | F37: =((Скидка!BN35*(100-Скидка!$C$3))*Скидка!$D$4)/100 -> 7032.48 | G37: =((Скидка!BO35*(100-Скидка!$C$3))*Скидка!$D$4)/100 -> 8076.32
B39: Барьеры из фетра, для сдвоенного бенч | H39: Барьеры из фетра, торцевые
B41: Способ установки: крепление к столешнице снизу | H41: Способ установки: крепление к столешнице снизу
B42: Толщина столешницы 25мм | H42: Толщина столешницы 25мм
F43: Порошк. покрытие | G43: Металл глянец | O43: Порошк. покрытие | P43: Металл глянец
E45: 010.ФДБ.103 (1000х20х300) | F45: =((Скидка!BN42*(100-Скидка!$C$3))*Скидка!$D$4)/100 -> 7207.2 | G45: =((Скидка!BO42*(100-Скидка!$C$3))*Скидка!$D$4)/100 -> 8237.6
E46: 010.ФДБ.123 (1200х20х300) | F46: =((Скидка!BN43*(100-Скидка!$C$3))*Скидка!$D$4)/100 -> 7805.28 | G46: =((Скидка!BO43*(100-Скидка!$C$3))*Скидка!$D$4)/100 -> 8835.68 | M46: 010.ФТ.603 (600х20х300) | O46: =((Скидка!BW43*(100-Скидка!$C$3))*Скидка!$D$4)/100 -> 5163.2 | P46: =((Скидка!BX43*(100-Скидка!$C$3))*Скидка!$D$4)/100 -> 6084.96
E47: 010.ФДБ.143 (1400х20х300) | F47: =((Скидка!BN44*(100-Скидка!$C$3))*Скидка!$D$4)/100 -> 8732.64 | G47: =((Скидка!BO44*(100-Скидка!$C$3))*Скидка!$D$4)/100 -> 9764.16 | M47: 010.ФТ.703 (700х20х300) | O47: =((Скидка!BW44*(100-Скидка!$C$3))*Скидка!$D$4)/100 -> 5464.48 | P47: =((Скидка!BX44*(100-Скидка!$C$3))*Скидка!$D$4)/100 -> 6386.24
E48: 010.ФДБ.163 (1600х20х300) | F48: =((Скидка!BN45*(100-Скидка!$C$3))*Скидка!$D$4)/100 -> 10689.28 | G48: =((Скидка!BO45*(100-Скидка!$C$3))*Скидка!$D$4)/100 -> 12236 | M48: 010.ФТ.803 (800х20х300) | O48: =((Скидка!BW45*(100-Скидка!$C$3))*Скидка!$D$4)/100 -> 5757.92 | P48: =((Скидка!BX45*(100-Скидка!$C$3))*Скидка!$D$4)/100 -> 6678.56
E50: 010.ФДБ.104 (1000х20х400) | F50: =((Скидка!BN47*(100-Скидка!$C$3))*Скидка!$D$4)/100 -> 7301.28 | G50: =((Скидка!BO47*(100-Скидка!$C$3))*Скидка!$D$4)/100 -> 8332.8
E51: 010.ФДБ.124 (1200х20х400) | F51: =((Скидка!BN48*(100-Скидка!$C$3))*Скидка!$D$4)/100 -> 7982.24 | G51: =((Скидка!BO48*(100-Скидка!$C$3))*Скидка!$D$4)/100 -> 9012.64 | M51: 010.ФТ.604 (600х20х400) | O51: =((Скидка!BW48*(100-Скидка!$C$3))*Скидка!$D$4)/100 -> 5249.44 | P51: =((Скидка!BX48*(100-Скидка!$C$3))*Скидка!$D$4)/100 -> 6171.2
E52: 010.ФДБ.144 (1400х20х400) | F52: =((Скидка!BN49*(100-Скидка!$C$3))*Скидка!$D$4)/100 -> 8928.64 | G52: =((Скидка!BO49*(100-Скидка!$C$3))*Скидка!$D$4)/100 -> 9960.16 | M52: 010.ФТ.704 (700х20х400) | O52: =((Скидка!BW49*(100-Скидка!$C$3))*Скидка!$D$4)/100 -> 5557.44 | P52: =((Скидка!BX49*(100-Скидка!$C$3))*Скидка!$D$4)/100 -> 6479.2
E53: 010.ФДБ.164 (1600х20х400) | F53: =((Скидка!BN50*(100-Скидка!$C$3))*Скидка!$D$4)/100 -> 10924.48 | G53: =((Скидка!BO50*(100-Скидка!$C$3))*Скидка!$D$4)/100 -> 12470.08 | M53: 010.ФТ.804 (800х20х400) | O53: =((Скидка!BW50*(100-Скидка!$C$3))*Скидка!$D$4)/100 -> 5874.4 | P53: =((Скидка!BX50*(100-Скидка!$C$3))*Скидка!$D$4)/100 -> 6796.16
E55: 010.ФДБ.105 (1000х20х500) | F55: =((Скидка!BN52*(100-Скидка!$C$3))*Скидка!$D$4)/100 -> 7448 | G55: =((Скидка!BO52*(100-Скидка!$C$3))*Скидка!$D$4)/100 -> 8479.52
E56: 010.ФДБ.125 (1200х20х500) | F56: =((Скидка!BN53*(100-Скидка!$C$3))*Скидка!$D$4)/100 -> 8156.96 | G56: =((Скидка!BO53*(100-Скидка!$C$3))*Скидка!$D$4)/100 -> 9187.36 | M56: 010.ФТ.605 (600х20х500) | O56: =((Скидка!BW53*(100-Скидка!$C$3))*Скидка!$D$4)/100 -> 6311.2 | P56: =((Скидка!BX53*(100-Скидка!$C$3))*Скидка!$D$4)/100 -> 7232.96
E57: 010.ФДБ.145 (1400х20х500) | F57: =((Скидка!BN54*(100-Скидка!$C$3))*Скидка!$D$4)/100 -> 9153.76 | G57: =((Скидка!BO54*(100-Скидка!$C$3))*Скидка!$D$4)/100 -> 10184.16 | M57: 010.ФТ.705 (700х20х500) | O57: =((Скидка!BW54*(100-Скидка!$C$3))*Скидка!$D$4)/100 -> 6385.12 | P57: =((Скидка!BX54*(100-Скидка!$C$3))*Скидка!$D$4)/100 -> 7305.76
...

Sheet Барьеры Оргстекло
B8: НАСТОЛЬНЫЕ БАРЬЕРЫ - ОРГСТЕКЛО | P8: ='Перегородки SOFToffice'!Q8 -> 45376
Q10: стр. 5
B11: Барьеры Оргстекло, фронтальные AVANCE*
E16: Белый глянец | F16: Orange, Kiwi | J16: Белый глянец | K16: Orange, Kiwi | P16: Белый глянец | Q16: Orange, Kiwi
B18: 6БР.050.1 | C18: (900х4х300) | E18: =((Скидка!CD17*(100-Скидка!$C$3))*Скидка!$D$4)/100 -> 5754.56 | F18: =((Скидка!CE17*(100-Скидка!$C$3))*Скидка!$D$4)/100 -> 9266.88 | G18: 6БР.050.2 | H18: (900х4х300) | J18: =((Скидка!CJ17*(100-Скидка!$C$3))*Скидка!$D$4)/100 -> 5806.08 | K18: =((Скидка!CK17*(100-Скидка!$C$3))*Скидка!$D$4)/100 -> 9266.88 | L18: 6БР.050.3 | O18: (900х4х300) | P18: =((Скидка!CO17*(100-Скидка!$C$3))*Скидка!$D$4)/100 -> 5989.76 | Q18: =((Скидка!CP17*(100-Скидка!$C$3))*Скидка!$D$4)/100 -> 9266.88
B19: 6БР.010.1 | C19: (1100х4х300) | E19: =((Скидка!CD18*(100-Скидка!$C$3))*Скидка!$D$4)/100 -> 6349.28 | F19: =((Скидка!CE18*(100-Скидка!$C$3))*Скидка!$D$4)/100 -> 10099.04 | G19: 6БР.010.2 | H19: (1100х4х300) | J19: =((Скидка!CJ18*(100-Скидка!$C$3))*Скидка!$D$4)/100 -> 6426.56 | K19: =((Скидка!CK18*(100-Скидка!$C$3))*Скидка!$D$4)/100 -> 10099.04 | L19: 6БР.010.3 | O19: (1100х4х300) | P19: =((Скидка!CO18*(100-Скидка!$C$3))*Скидка!$D$4)/100 -> 6702.08 | Q19: =((Скидка!CP18*(100-Скидка!$C$3))*Скидка!$D$4)/100 -> 10099.04
B20: 6БР.020.1 | C20: (1300х4х300) | E20: =((Скидка!CD19*(100-Скидка!$C$3))*Скидка!$D$4)/100 -> 7159.04 | F20: =((Скидка!CE19*(100-Скидка!$C$3))*Скидка!$D$4)/100 -> 11447.52 | G20: 6БР.020.2 | H20: (1300х4х300) | J20: =((Скидка!CJ19*(100-Скидка!$C$3))*Скидка!$D$4)/100 -> 7236.32 | K20: =((Скидка!CK19*(100-Скидка!$C$3))*Скидка!$D$4)/100 -> 11447.52 | L20: 6БР.020.3 | O20: (1300х4х300) | P20: =((Скидка!CO19*(100-Скидка!$C$3))*Скидка!$D$4)/100 -> 7511.84 | Q20: =((Скидка!CP19*(100-Скидка!$C$3))*Скидка!$D$4)/100 -> 11447.52
B21: 6БР.030.1 | C21: (1500х4х300) | E21: =((Скидка!CD20*(100-Скидка!$C$3))*Скидка!$D$4)/100 -> 7738.08 | F21: =((Скидка!CE20*(100-Скидка!$C$3))*Скидка!$D$4)/100 -> 12411.84 | G21: 6БР.030.2 | H21: (1500х4х300) | J21: =((Скидка!CJ20*(100-Скидка!$C$3))*Скидка!$D$4)/100 -> 7815.36 | K21: =((Скидка!CK20*(100-Скидка!$C$3))*Скидка!$D$4)/100 -> 12411.84 | L21: 6БР.030.3 | O21: (1500х4х300) | P21: =((Скидка!CO20*(100-Скидка!$C$3))*Скидка!$D$4)/100 -> 8090.88 | Q21: =((Скидка!CP20*(100-Скидка!$C$3))*Скидка!$D$4)/100 -> 12411.84
B22: Барьеры Оргстекло, боковые AVANCE *
E27: Белый глянец | F27: Orange, Kiwi | J27: Белый глянец | K27: Orange, Kiwi | P27: Белый глянец | Q27: Orange, Kiwi
B29: 6БР.040.1 | C29: (600х4х300) | E29: =((Скидка!CD30*(100-Скидка!$C$3))*Скидка!$D$4)/100 -> 4771.2 | F29: =((Скидка!CE30*(100-Скидка!$C$3))*Скидка!$D$4)/100 -> 7629.44 | G29: 6БР.040.2 | I29: (600х4х300) | J29: =((Скидка!CJ30*(100-Скидка!$C$3))*Скидка!$D$4)/100 -> 4822.72 | K29: =((Скидка!CK30*(100-Скидка!$C$3))*Скидка!$D$4)/100 -> 7629.44 | L29: 6БР.040.7 | O29: (600х4х300) | P29: =((Скидка!CO30*(100-Скидка!$C$3))*Скидка!$D$4)/100 -> 4829.44 | Q29: =((Скидка!CP30*(100-Скидка!$C$3))*Скидка!$D$4)/100 -> 7629.44
B30: 6БР.070.1 | C30: (700х4х300) | E30: =((Скидка!CD31*(100-Скидка!$C$3))*Скидка!$D$4)/100 -> 5101.6 | F30: =((Скидка!CE31*(100-Скидка!$C$3))*Скидка!$D$4)/100 -> 8183.84 | G30: 6БР.070.2 | I30: (700х4х300) | J30: =((Скидка!CJ31*(100-Скидка!$C$3))*Скидка!$D$4)/100 -> 5153.12 | K30: =((Скидка!CK31*(100-Скидка!$C$3))*Скидка!$D$4)/100 -> 8237.6 | L30: 6БР.070.7 | O30: (700х4х300) | P30: =((Скидка!CO31*(100-Скидка!$C$3))*Скидка!$D$4)/100 -> 5159.84 | Q30: =((Скидка!CP31*(100-Скидка!$C$3))*Скидка!$D$4)/100 -> 8247.68
B31: БАРЬЕРЫ ОРГСТЕКЛО GLOSS
B32: Барьеры оргстекло боковые | F32: Барьеры оргстекло боковые | J32: Барьеры оргстекло фронтальные | N32: Барьеры оргстекло фронтальные, для сдвоенных бенч-систем
L36: Белый | M36: Orange | P36: Белый | Q36: Orange
L37: глянец | M37: Kiwi | P37: глянец | Q37: Kiwi
J38: 9БР.050.1 (1000х4х300) | L38: =((Скидка!CK37*(100-Скидка!$C$3))*Скидка!$D$4)/100 -> 5218.08 | M38: =((Скидка!CL37*(100-Скидка!$C$3))*Скидка!$D$4)/100 -> 8257.76 | N38: 9БР.050.3 (1000х4х300) | P38: =((Скидка!CO37*(100-Скидка!$C$3))*Скидка!$D$4)/100 -> 5453.28 | Q38: =((Скидка!CP37*(100-Скидка!$C$3))*Скидка!$D$4)/100 -> 8476.16
J39: 9БР.010.1 (1200х4х300) | L39: =((Скидка!CK38*(100-Скидка!$C$3))*Скидка!$D$4)/100 -> 6054.72 | M39: =((Скидка!CL38*(100-Скидка!$C$3))*Скидка!$D$4)/100 -> 9431.52 | N39: 9БР.010.3 (1200х4х300) | P39: =((Скидка!CO38*(100-Скидка!$C$3))*Скидка!$D$4)/100 -> 6407.52 | Q39: =((Скидка!CP38*(100-Скидка!$C$3))*Скидка!$D$4)/100 -> 9760.8
D40: Белый | E40: Orange | H40: Белый | I40: Orange | J40: 9БР.020.1 (1400х4х300) | L40: =((Скидка!CK39*(100-Скидка!$C$3))*Скидка!$D$4)/100 -> 6627.04 | M40: =((Скидка!CL39*(100-Скидка!$C$3))*Скидка!$D$4)/100 -> 10384.64 | N40: 9БР.020.3 (1400х4х300) | P40: =((Скидка!CO39*(100-Скидка!$C$3))*Скидка!$D$4)/100 -> 6979.84 | Q40: =((Скидка!CP39*(100-Скидка!$C$3))*Скидка!$D$4)/100 -> 10713.92
D41: глянец | E41: Kiwi | H41: глянец | I41: Kiwi | J41: 9БР.030.1 (1600х4х300) | L41: =((Скидка!CK40*(100-Скидка!$C$3))*Скидка!$D$4)/100 -> 7387.52 | M41: =((Скидка!CL40*(100-Скидка!$C$3))*Скидка!$D$4)/100 -> 11654.72 | N41: 9БР.030.3 (1600х4х300) | P41: =((Скидка!CO40*(100-Скидка!$C$3))*Скидка!$D$4)/100 -> 7740.32 | Q41: =((Скидка!CP40*(100-Скидка!$C$3))*Скидка!$D$4)/100 -> 11984
B42: 9БР.040.1 (600х4х300) | D42: =((Скидка!CC41*(100-Скидка!$C$3))*Скидка!$D$4)/100 -> 4771.2 | E42: =((Скидка!CD41*(100-Скидка!$C$3))*Скидка!$D$4)/100 -> 7116.48 | F42: 9БР.040.7 (600х4х300) | H42: =((Скидка!CG41*(100-Скидка!$C$3))*Скидка!$D$4)/100 -> 4829.44 | I42: =((Скидка!CH41*(100-Скидка!$C$3))*Скидка!$D$4)/100 -> 7170.24 | J42: 9БР.150.1 (1000х4х400) | L42: =((Скидка!CK41*(100-Скидка!$C$3))*Скидка!$D$4)/100 -> 6049.12 | M42: =((Скидка!CL41*(100-Скидка!$C$3))*Скидка!$D$4)/100 -> 9642.08 | N42: 9БР.150.3 (1000х4х400) | P42: =((Скидка!CO41*(100-Скидка!$C$3))*Скидка!$D$4)/100 -> 6284.32 | Q42: =((Скидка!CP41*(100-Скидка!$C$3))*Скидка!$D$4)/100 -> 9861.6
B43: 9БР.070.1 (700х4х300) | D43: =((Скидка!CC42*(100-Скидка!$C$3))*Скидка!$D$4)/100 -> 5101.6 | E43: =((Скидка!CD42*(100-Скидка!$C$3))*Скидка!$D$4)/100 -> 7637.28 | F43: 9БР.070.7 (700х4х300) | H43: =((Скидка!CG42*(100-Скидка!$C$3))*Скидка!$D$4)/100 -> 5159.84 | I43: =((Скидка!CH42*(100-Скидка!$C$3))*Скидка!$D$4)/100 -> 7693.28 | J43: 9БР.110.1 (1200х4х400) | L43: =((Скидка!CK42*(100-Скидка!$C$3))*Скидка!$D$4)/100 -> 6980.96 | M43: =((Скидка!CL42*(100-Скидка!$C$3))*Скидка!$D$4)/100 -> 10973.76 | N43: 9БР.110.3 (1200х4х400) | P43: =((Скидка!CO42*(100-Скидка!$C$3))*Скидка!$D$4)/100 -> 7333.76 | Q43: =((Скидка!CP42*(100-Скидка!$C$3))*Скидка!$D$4)/100 -> 11303.04
B44: 9БР.140.1 (600х4х400) | D44: =((Скидка!CC43*(100-Скидка!$C$3))*Скидка!$D$4)/100 -> 4552.8 | E44: =((Скидка!CD43*(100-Скидка!$C$3))*Скидка!$D$4)/100 -> 7146.72 | F44: 9БР.140.7 (600х4х400) | H44: =((Скидка!CG43*(100-Скидка!$C$3))*Скидка!$D$4)/100 -> 4611.04 | I44: =((Скидка!CH43*(100-Скидка!$C$3))*Скидка!$D$4)/100 -> 7200.48 | J44: 9БР.120.1 (1400х4х400) | L44: =((Скидка!CK43*(100-Скидка!$C$3))*Скидка!$D$4)/100 -> 7603.68 | M44: =((Скидка!CL43*(100-Скидка!$C$3))*Скидка!$D$4)/100 -> 12614.56 | N44: 9БР.120.3 (1400х4х400) | P44: =((Скидка!CO43*(100-Скидка!$C$3))*Скидка!$D$4)/100 -> 7956.48 | Q44: =((Скидка!CP43*(100-Скидка!$C$3))*Скидка!$D$4)/100 -> 12960.64
B45: 9БР.170.1 (700х4х400) | D45: =((Скидка!CC44*(100-Скидка!$C$3))*Скидка!$D$4)/100 -> 4864.16 | E45: =((Скидка!CD44*(100-Скидка!$C$3))*Скидка!$D$4)/100 -> 7667.52 | F45: 9БР.170.7 (700х4х400) | H45: =((Скидка!CG44*(100-Скидка!$C$3))*Скидка!$D$4)/100 -> 4922.4 | I45: =((Скидка!CH44*(100-Скидка!$C$3))*Скидка!$D$4)/100 -> 7721.28 | J45: 9БР.130.1 (1600х4х400) | L45: =((Скидка!CK44*(100-Скидка!$C$3))*Скидка!$D$4)/100 -> 8340.64 | M45: =((Скидка!CL44*(100-Скидка!$C$3))*Скидка!$D$4)/100 -> 13903.68 | N45: 9БР.130.3 (1600х4х400) | P45: =((Скидка!CO44*(100-Скидка!$C$3))*Скидка!$D$4)/100 -> 8693.44 | Q45: =((Скидка!CP44*(100-Скидка!$C$3))*Скидка!$D$4)/100 -> 14519.68
B46: БАРЬЕРЫ ОРГСТЕКЛО ARREDO
B47: Барьеры боковые, оргстекло | J47: Барьеры фронтальные, оргстекло
P50: Белый глянец/ Металл глянец | Q50: Белый глянец/ порошк. покрытие
H52: Белый глянец/ Металл глянец | I52: Белый глянец/ порошк. покрытие
J54: 10БФО.104 (1000х4х400) | P54: =((Скидка!CM53*(100-Скидка!$C$3))*Скидка!$D$4)/100 -> 7835.52 | Q54: =((Скидка!CN53*(100-Скидка!$C$3))*Скидка!$D$4)/100 -> 6782.72
J55: 10БФО.124 (1200х4х400) | P55: =((Скидка!CM54*(100-Скидка!$C$3))*Скидка!$D$4)/100 -> 8635.2 | Q55: =((Скидка!CN54*(100-Скидка!$C$3))*Скидка!$D$4)/100 -> 7582.4
B56: 10ББО.504 (500х4х400) | H56: =((Скидка!CF55*(100-Скидка!$C$3))*Скидка!$D$4)/100 -> 5591.04 | I56: =((Скидка!CG55*(100-Скидка!$C$3))*Скидка!$D$4)/100 -> 4538.24 | J56: 10БФО.144 (1400х4х400) | P56: =((Скидка!CM55*(100-Скидка!$C$3))*Скидка!$D$4)/100 -> 9436 | Q56: =((Скидка!CN55*(100-Скидка!$C$3))*Скидка!$D$4)/100 -> 8384.32
B57: 10ББО.604 (600х4х400) | H57: =((Скидка!CF56*(100-Скидка!$C$3))*Скидка!$D$4)/100 -> 5990.88 | I57: =((Скидка!CG56*(100-Скидка!$C$3))*Скидка!$D$4)/100 -> 4938.08 | J57: 10БФО.164 (1600х4х400) | P57: =((Скидка!CM56*(100-Скидка!$C$3))*Скидка!$D$4)/100 -> 10236.8 | Q57: =((Скидка!CN56*(100-Скидка!$C$3))*Скидка!$D$4)/100 -> 9185.12
B58: 10ББО.704 (700х4х400) | H58: =((Скидка!CF57*(100-Скидка!$C$3))*Скидка!$D$4)/100 -> 6391.84 | I58: =((Скидка!CG57*(100-Скидка!$C$3))*Скидка!$D$4)/100 -> 5340.16 | J58: 10БФО.184 (1800х4х400) | P58: =((Скидка!CM57*(100-Скидка!$C$3))*Скидка!$D$4)/100 -> 12709.76 | Q58: =((Скидка!CN57*(100-Скидка!$C$3))*Скидка!$D$4)/100 -> 11131.68
B59: 10ББО.804 (800х4х400) | H59: =((Скидка!CF58*(100-Скидка!$C$3))*Скидка!$D$4)/100 -> 6791.68 | I59: =((Скидка!CG58*(100-Скидка!$C$3))*Скидка!$D$4)/100 -> 5740 | J59: 10БФО.105 (1000х4х500) | P59: =((Скидка!CM58*(100-Скидка!$C$3))*Скидка!$D$4)/100 -> 8880.48 | Q59: =((Скидка!CN58*(100-Скидка!$C$3))*Скидка!$D$4)/100 -> 7827.68
B60: 10ББО.505 (500х4х500) | H60: =((Скидка!CF59*(100-Скидка!$C$3))*Скидка!$D$4)/100 -> 6091.68 | I60: =((Скидка!CG59*(100-Скидка!$C$3))*Скидка!$D$4)/100 -> 5038.88 | J60: 10БФО.125 (1200х4х500) | P60: =((Скидка!CM59*(100-Скидка!$C$3))*Скидка!$D$4)/100 -> 9929.92 | Q60: =((Скидка!CN59*(100-Скидка!$C$3))*Скидка!$D$4)/100 -> 8878.24
B61: 10ББО.605 (600х4х500) | H61: =((Скидка!CF60*(100-Скидка!$C$3))*Скидка!$D$4)/100 -> 6591.2 | I61: =((Скидка!CG60*(100-Скидка!$C$3))*Скидка!$D$4)/100 -> 5539.52 | J61: 10БФО.145 (1400х4х500) | P61: =((Скидка!CM60*(100-Скидка!$C$3))*Скидка!$D$4)/100 -> 10838.24 | Q61: =((Скидка!CN60*(100-Скидка!$C$3))*Скидка!$D$4)/100 -> 9785.44
B62: 10ББО.705 (700х4х500) | H62: =((Скидка!CF61*(100-Скидка!$C$3))*Скидка!$D$4)/100 -> 7091.84 | I62: =((Скидка!CG61*(100-Скидка!$C$3))*Скидка!$D$4)/100 -> 6040.16 | J62: 10БФО.165 (1600х4х500) | P62: =((Скидка!CM61*(100-Скидка!$C$3))*Скидка!$D$4)/100 -> 11838.4 | Q62: =((Скидка!CN61*(100-Скидка!$C$3))*Скидка!$D$4)/100 -> 10786.72
B63: 10ББО.805 (800х4х500) | H63: =((Скидка!CF62*(100-Скидка!$C$3))*Скидка!$D$4)/100 -> 7593.6 | I63: =((Скидка!CG62*(100-Скидка!$C$3))*Скидка!$D$4)/100 -> 6540.8 | J63: 10БФО.185 (1800х4х500) | P63: =((Скидка!CM62*(100-Скидка!$C$3))*Скидка!$D$4)/100 -> 14511.84 | Q63: =((Скидка!CN62*(100-Скидка!$C$3))*Скидка!$D$4)/100 -> 12933.76
B64: Барьеры для сдвоенного бенч, оргстекло | J64: Барьеры торцевые, оргстекло
H67: Белый глянец / Металл глянец | I67: Белый глянец/ порошк. покрытие
...

Sheet Барьеры HPL
B8: БАРЬЕРЫ и ЭКРАНЫ HPL | P8: ='Перегородки SOFToffice'!Q8 -> 45376
Q10: стр. 6
B11: БАРЬЕРЫ и ЭКРАНЫ HPL- GLOSS
B12: Барьеры боковые HPL | G12: Барьеры фронтальные HPL | M12: Экраны подстольные HPL
G25: 9БРН.250.1 (1000х4х300) | L25: =((Скидка!DB26*(100-Скидка!$C$3))*Скидка!$D$4)/100 -> 7512.96 | M25: 9ЭН.350.1 (1000х4х300) | Q25: =((Скидка!DG26*(100-Скидка!$C$3))*Скидка!$D$4)/100 -> 7215.04
G26: 9БРН.210.1 (1200х4х300) | L26: =((Скидка!DB27*(100-Скидка!$C$3))*Скидка!$D$4)/100 -> 8733.76 | M26: 9ЭН.310.1 (1200х4х300) | Q26: =((Скидка!DG27*(100-Скидка!$C$3))*Скидка!$D$4)/100 -> 8435.84
G27: 9БРН.220.1 (1400х4х300) | L27: =((Скидка!DB28*(100-Скидка!$C$3))*Скидка!$D$4)/100 -> 9956.8 | M27: 9ЭН.320.1 (1400х4х300) | Q27: =((Скидка!DG28*(100-Скидка!$C$3))*Скидка!$D$4)/100 -> 9658.88
G28: 9БРН.230.1 (1600х4х300) | L28: =((Скидка!DB29*(100-Скидка!$C$3))*Скидка!$D$4)/100 -> 11178.72 | M28: 9ЭН.330.1 (1600х4х300) | Q28: =((Скидка!DG29*(100-Скидка!$C$3))*Скидка!$D$4)/100 -> 11476.64
B29: 9БРН.040.1 (600х4х300) | F29: =((Скидка!CV30*(100-Скидка!$C$3))*Скидка!$D$4)/100 -> 4515.84 | G29: 9БРН.150.1 (1000х4х400) | L29: =((Скидка!DB30*(100-Скидка!$C$3))*Скидка!$D$4)/100 -> 9035.04 | M29: 9ЭН.450.1 (1000х4х400) | Q29: =((Скидка!DG30*(100-Скидка!$C$3))*Скидка!$D$4)/100 -> 8737.12
B30: 9БРН.070.1 (700х4х300) | F30: =((Скидка!CV31*(100-Скидка!$C$3))*Скидка!$D$4)/100 -> 5128.48 | G30: 9БРН.110.1 (1200х4х400) | L30: =((Скидка!DB31*(100-Скидка!$C$3))*Скидка!$D$4)/100 -> 10536.96 | M30: 9ЭН.410.1 (1200х4х400) | Q30: =((Скидка!DG31*(100-Скидка!$C$3))*Скидка!$D$4)/100 -> 10239.04
B31: 9БРН.140.1 (600х4х400) | F31: =((Скидка!CV32*(100-Скидка!$C$3))*Скидка!$D$4)/100 -> 5417.44 | G31: 9БРН.120.1 (1400х4х400) | L31: =((Скидка!DB32*(100-Скидка!$C$3))*Скидка!$D$4)/100 -> 12041.12 | M31: 9ЭН.420.1 (1400х4х400) | Q31: =((Скидка!DG32*(100-Скидка!$C$3))*Скидка!$D$4)/100 -> 11743.2
B32: 9БРН.170.1 (700х4х400) | F32: =((Скидка!CV33*(100-Скидка!$C$3))*Скидка!$D$4)/100 -> 6170.08 | G32: 9БРН.130.1 (1600х4х400) | L32: =((Скидка!DB33*(100-Скидка!$C$3))*Скидка!$D$4)/100 -> 13544.16 | M32: 9ЭН.430.1 (1600х4х400) | Q32: =((Скидка!DG33*(100-Скидка!$C$3))*Скидка!$D$4)/100 -> 13842.08
B33: Барьеры боковые HPL | G33: Барьеры фронтальные HPL, для сдвоенных бенч-систем
G39: 9БРН.250.3 (1000х4х300) | L39: =((Скидка!DB40*(100-Скидка!$C$3))*Скидка!$D$4)/100 -> 7865.76
G40: 9БРН.210.3 (1200х4х300) | L40: =((Скидка!DB41*(100-Скидка!$C$3))*Скидка!$D$4)/100 -> 9086.56
G41: 9БРН.220.3 (1400х4х300) | L41: =((Скидка!DB42*(100-Скидка!$C$3))*Скидка!$D$4)/100 -> 10309.6
G42: 9БРН.230.3 (1600х4х300) | L42: =((Скидка!DB43*(100-Скидка!$C$3))*Скидка!$D$4)/100 -> 11531.52
B43: 9БРН.040.7 (600х4х300) | F43: =((Скидка!CV44*(100-Скидка!$C$3))*Скидка!$D$4)/100 -> 4574.08 | G43: 9БРН.150.3 (1000х4х400) | L43: =((Скидка!DB44*(100-Скидка!$C$3))*Скидка!$D$4)/100 -> 9387.84
B44: 9БРН.070.7 (700х4х300) | F44: =((Скидка!CV45*(100-Скидка!$C$3))*Скидка!$D$4)/100 -> 5186.72 | G44: 9БРН.110.3 (1200х4х400) | L44: =((Скидка!DB45*(100-Скидка!$C$3))*Скидка!$D$4)/100 -> 10889.76
B45: 9БРН.140.7 (600х4х400) | F45: =((Скидка!CV46*(100-Скидка!$C$3))*Скидка!$D$4)/100 -> 5475.68 | G45: 9БРН.120.3 (1400х4х400) | L45: =((Скидка!DB46*(100-Скидка!$C$3))*Скидка!$D$4)/100 -> 12393.92
B46: 9БРН.170.7 (700х4х400) | F46: =((Скидка!CV47*(100-Скидка!$C$3))*Скидка!$D$4)/100 -> 6228.32 | G46: 9БРН.130.3 (1600х4х400) | L46: =((Скидка!DB47*(100-Скидка!$C$3))*Скидка!$D$4)/100 -> 13896.96
B47: БАРЬЕРЫ HPL - ARREDO
B48: Барьеры торцевые HPL | G48: Барьеры боковые HPL | L48: Барьеры фронтальные HPL
P54: Порошк. покрытие | Q54: Металл глянец
J56: Порошк. покрытие | K56: Металл глянец | L56: 10БФН.104 (1000х4х400) | P56: =((Скидка!DE58*(100-Скидка!$C$3))*Скидка!$D$4)/100 -> 9899.68 | Q56: =((Скидка!DF58*(100-Скидка!$C$3))*Скидка!$D$4)/100 -> 11055.52
L57: 10БФН.124 (1200х4х400) | P57: =((Скидка!DE59*(100-Скидка!$C$3))*Скидка!$D$4)/100 -> 11436.32 | Q57: =((Скидка!DF59*(100-Скидка!$C$3))*Скидка!$D$4)/100 -> 12489.12
E58: Порошк. покрытие | F58: Металл глянец | G58: 10ББН.504 (500х4х400) | J58: =((Скидка!CZ60*(100-Скидка!$C$3))*Скидка!$D$4)/100 -> 6176.8 | K58: =((Скидка!DA60*(100-Скидка!$C$3))*Скидка!$D$4)/100 -> 7228.48 | L58: 10БФН.144 (1400х4х400) | P58: =((Скидка!DE60*(100-Скидка!$C$3))*Скидка!$D$4)/100 -> 12905.76 | Q58: =((Скидка!DF60*(100-Скидка!$C$3))*Скидка!$D$4)/100 -> 13922.72
G59: 10ББН.604 (600х4х400) | J59: =((Скидка!CZ61*(100-Скидка!$C$3))*Скидка!$D$4)/100 -> 6883.52 | K59: =((Скидка!DA61*(100-Скидка!$C$3))*Скидка!$D$4)/100 -> 7936.32 | L59: 10БФН.164 (1600х4х400) | P59: =((Скидка!DE61*(100-Скидка!$C$3))*Скидка!$D$4)/100 -> 14408.8 | Q59: =((Скидка!DF61*(100-Скидка!$C$3))*Скидка!$D$4)/100 -> 15170.4
B60: 10БТН.604 (600х4х400) | E60: =((Скидка!CU62*(100-Скидка!$C$3))*Скидка!$D$4)/100 -> 6434.4 | F60: =((Скидка!CV62*(100-Скидка!$C$3))*Скидка!$D$4)/100 -> 7216.16 | G60: 10ББН.704 (700х4х400) | J60: =((Скидка!CZ62*(100-Скидка!$C$3))*Скидка!$D$4)/100 -> 7610.4 | K60: =((Скидка!DA62*(100-Скидка!$C$3))*Скидка!$D$4)/100 -> 8662.08 | L60: 10БФН.184 (1800х4х400) | P60: =((Скидка!DE62*(100-Скидка!$C$3))*Скидка!$D$4)/100 -> 16792.16 | Q60: =((Скидка!DF62*(100-Скидка!$C$3))*Скидка!$D$4)/100 -> 18464.32
B61: 10БТН.704 (700х4х400) | E61: =((Скидка!CU63*(100-Скидка!$C$3))*Скидка!$D$4)/100 -> 7187.04 | F61: =((Скидка!CV63*(100-Скидка!$C$3))*Скидка!$D$4)/100 -> 7968.8 | G61: 10ББН.804 (800х4х400) | J61: =((Скидка!CZ63*(100-Скидка!$C$3))*Скидка!$D$4)/100 -> 8318.24 | K61: =((Скидка!DA63*(100-Скидка!$C$3))*Скидка!$D$4)/100 -> 9371.04 | L61: 10БФН.105 (1000х4х500) | P61: =((Скидка!DE63*(100-Скидка!$C$3))*Скидка!$D$4)/100 -> 11790.24 | Q61: =((Скидка!DF63*(100-Скидка!$C$3))*Скидка!$D$4)/100 -> 12843.04
B62: 10БТН.804 (800х4х400) | E62: =((Скидка!CU64*(100-Скидка!$C$3))*Скидка!$D$4)/100 -> 7939.68 | F62: =((Скидка!CV64*(100-Скидка!$C$3))*Скидка!$D$4)/100 -> 8721.44 | G62: 10ББН.505 (500х4х500) | J62: =((Скидка!CZ64*(100-Скидка!$C$3))*Скидка!$D$4)/100 -> 7060.48 | K62: =((Скидка!DA64*(100-Скидка!$C$3))*Скидка!$D$4)/100 -> 8112.16 | L62: 10БФН.125 (1200х4х500) | P62: =((Скидка!DE64*(100-Скидка!$C$3))*Скидка!$D$4)/100 -> 13649.44 | Q62: =((Скидка!DF64*(100-Скидка!$C$3))*Скидка!$D$4)/100 -> 14630.56
B63: 10БТН.605 (600х4х500) | E63: =((Скидка!CU65*(100-Скидка!$C$3))*Скидка!$D$4)/100 -> 7558.88 | F63: =((Скидка!CV65*(100-Скидка!$C$3))*Скидка!$D$4)/100 -> 8340.64 | G63: 10ББН.605 (600х4х500) | J63: =((Скидка!CZ65*(100-Скидка!$C$3))*Скидка!$D$4)/100 -> 7964.32 | K63: =((Скидка!DA65*(100-Скидка!$C$3))*Скидка!$D$4)/100 -> 9017.12 | L63: 10БФН.145 (1400х4х500) | P63: =((Скидка!DE65*(100-Скидка!$C$3))*Скидка!$D$4)/100 -> 15523.2 | Q63: =((Скидка!DF65*(100-Скидка!$C$3))*Скидка!$D$4)/100 -> 16248.96
B64: 10БТН.705 (700х4х500) | E64: =((Скидка!CU66*(100-Скидка!$C$3))*Скидка!$D$4)/100 -> 8497.44 | F64: =((Скидка!CV66*(100-Скидка!$C$3))*Скидка!$D$4)/100 -> 9279.2 | G64: 10ББН.705 (700х4х500) | J64: =((Скидка!CZ66*(100-Скидка!$C$3))*Скидка!$D$4)/100 -> 8849.12 | K64: =((Скидка!DA66*(100-Скидка!$C$3))*Скидка!$D$4)/100 -> 9901.92 | L64: 10БФН.165 (1600х4х500) | P64: =((Скидка!DE66*(100-Скидка!$C$3))*Скидка!$D$4)/100 -> 17395.84 | Q64: =((Скидка!DF66*(100-Скидка!$C$3))*Скидка!$D$4)/100 -> 18207.84
B65: 10БТН.805 (800х4х500) | E65: =((Скидка!CU67*(100-Скидка!$C$3))*Скидка!$D$4)/100 -> 9433.76 | F65: =((Скидка!CV67*(100-Скидка!$C$3))*Скидка!$D$4)/100 -> 10215.52 | G65: 10ББН.805 (800х4х500) | J65: =((Скидка!CZ67*(100-Скидка!$C$3))*Скидка!$D$4)/100 -> 9751.84 | K65: =((Скидка!DA67*(100-Скидка!$C$3))*Скидка!$D$4)/100 -> 10804.64 | L65: 10БФН.185 (1800х4х500) | P65: =((Скидка!DE67*(100-Скидка!$C$3))*Скидка!$D$4)/100 -> 20148.8 | Q65: =((Скидка!DF67*(100-Скидка!$C$3))*Скидка!$D$4)/100 -> 21668.64
B66: Барьеры для сдвоенного бенч HLP | J66: Экраны подстольные HPL
H71: Порошк. покрытие | I71: Металл глянец
Q72: Порошк. Покрытие (Черный)
B73: 10БСБН.104 (1000х4х400) | H73: =((Скидка!CX75*(100-Скидка!$C$3))*Скидка!$D$4)/100 -> 10000.48 | I73: =((Скидка!CY75*(100-Скидка!$C$3))*Скидка!$D$4)/100 -> 11039.84
B74: 10БСБН.124 (1200х4х400) | H74: =((Скидка!CX76*(100-Скидка!$C$3))*Скидка!$D$4)/100 -> 11305.28 | I74: =((Скидка!CY76*(100-Скидка!$C$3))*Скидка!$D$4)/100 -> 12473.44
B75: 10БСБН.144 (1400х4х400) | H75: =((Скидка!CX77*(100-Скидка!$C$3))*Скидка!$D$4)/100 -> 12809.44 | I75: =((Скидка!CY77*(100-Скидка!$C$3))*Скидка!$D$4)/100 -> 13752.48 | J75: 10ЭН.050.1 (1000х4х300) | Q75: =((Скидка!DF77*(100-Скидка!$C$3))*Скидка!$D$4)/100 -> 6805.12
...

Sheet Барьеры ЛДСП, Алюм. профиль
B8: БАРЬЕРЫ ИЗ ЛДСП, БАРЬЕРЫ В АЛЮМИНИЕВОМ ПРОФИЛЕ | P8: ='Перегородки SOFToffice'!Q8 -> 45376
Q10: стр. 7
B11: Барьеры ЛДСП, фронтальные - AVANCE
B17: 6БР.006.1 | D17: (1000х16х300) | F17: =((Скидка!DN18*(100-Скидка!$C$3))*Скидка!$D$4)/100 -> 2653.28 | G17: 6БР.006.2 | J17: (1000х16х300) | L17: =((Скидка!DS18*(100-Скидка!$C$3))*Скидка!$D$4)/100 -> 2653.28 | M17: 6БР.006.3 | O17: (1000х16х300) | Q17: =((Скидка!DX18*(100-Скидка!$C$3))*Скидка!$D$4)/100 -> 2653.28
B18: 6БР.007.1 | D18: (1200х16х300) | F18: =((Скидка!DN19*(100-Скидка!$C$3))*Скидка!$D$4)/100 -> 2768.64 | G18: 6БР.007.2 | J18: (1200х16х300) | L18: =((Скидка!DS19*(100-Скидка!$C$3))*Скидка!$D$4)/100 -> 2768.64 | M18: 6БР.007.3 | O18: (1200х16х300) | Q18: =((Скидка!DX19*(100-Скидка!$C$3))*Скидка!$D$4)/100 -> 2768.64
B19: 6БР.008.1 | D19: (1400х16х300) | F19: =((Скидка!DN20*(100-Скидка!$C$3))*Скидка!$D$4)/100 -> 3207.68 | G19: 6БР.008.2 | J19: (1400х16х300) | L19: =((Скидка!DS20*(100-Скидка!$C$3))*Скидка!$D$4)/100 -> 3207.68 | M19: 6БР.008.3 | O19: (1400х16х300) | Q19: =((Скидка!DX20*(100-Скидка!$C$3))*Скидка!$D$4)/100 -> 3207.68
B20: 6БР.009.1 | D20: (1600х16х300) | F20: =((Скидка!DN21*(100-Скидка!$C$3))*Скидка!$D$4)/100 -> 3653.44 | G20: 6БР.009.2 | J20: (1600х16х300) | L20: =((Скидка!DS21*(100-Скидка!$C$3))*Скидка!$D$4)/100 -> 3653.44 | M20: 6БР.009.3 | O20: (1600х16х300) | Q20: =((Скидка!DX21*(100-Скидка!$C$3))*Скидка!$D$4)/100 -> 3653.44
B21: Барьеры ЛДСП, боковые - AVANCE
B30: 6БР.012.1 | C30: (583х16х300)-5р/д | D30: =((Скидка!DL25*(100-Скидка!$C$3))*Скидка!$D$4)/100 -> 2343.04 | E30: 6БР.012.2 | F30: (583х16х300)-5р/д | G30: =((Скидка!DO25*(100-Скидка!$C$3))*Скидка!$D$4)/100 -> 2394.56 | L30: 6БР.012.7 | M30: (583х16х300) -5р/д | N30: =((Скидка!DV25*(100-Скидка!$C$3))*Скидка!$D$4)/100 -> 2335.2 | O30: 6БРЛ.012.9 | P30: (583х16х300)-5р/д | Q30: =((Скидка!DY25*(100-Скидка!$C$3))*Скидка!$D$4)/100 -> 2401.28
B31: 6БР.004.1 | C31: (600х16х300) | D31: =((Скидка!DL26*(100-Скидка!$C$3))*Скидка!$D$4)/100 -> 2356.48 | E31: 6БР.004.2 | F31: (600х16х300) | G31: =((Скидка!DO26*(100-Скидка!$C$3))*Скидка!$D$4)/100 -> 2411.36 | L31: 6БР.004.7 | M31: (600х16х300) | N31: =((Скидка!DV26*(100-Скидка!$C$3))*Скидка!$D$4)/100 -> 2335.2 | O31: 6БРЛ.001.9 | P31: (683х16х300) | Q31: =((Скидка!DY26*(100-Скидка!$C$3))*Скидка!$D$4)/100 -> 2418.08
B32: 6БР.001.1 | C32: (683х16х300) | D32: =((Скидка!DL27*(100-Скидка!$C$3))*Скидка!$D$4)/100 -> 2384.48 | E32: 6БР.001.2 | F32: (683х16х300) | G32: =((Скидка!DO27*(100-Скидка!$C$3))*Скидка!$D$4)/100 -> 2437.12 | L32: 6БР.001.7 | M32: (683х16х300) | N32: =((Скидка!DV27*(100-Скидка!$C$3))*Скидка!$D$4)/100 -> 2375.52 | O32: 6БРЛ.011.9 | P32: (783х16х300)-5р/д | Q32: =((Скидка!DY27*(100-Скидка!$C$3))*Скидка!$D$4)/100 -> 2442.72
B33: 6БР.005.1 | C33: (700х16х300) | D33: =((Скидка!DL28*(100-Скидка!$C$3))*Скидка!$D$4)/100 -> 2397.92 | E33: 6БР.005.2 | F33: (700х16х300) | G33: =((Скидка!DO28*(100-Скидка!$C$3))*Скидка!$D$4)/100 -> 2452.8 | H33: 6БР.004.4 | I33: (600х16х300) | K33: =((Скидка!DS28*(100-Скидка!$C$3))*Скидка!$D$4)/100 -> 2541.28 | L33: 6БР.005.7 | M33: (700х16х300) | N33: =((Скидка!DV28*(100-Скидка!$C$3))*Скидка!$D$4)/100 -> 2375.52 | O33: 6БРП.012.9 | P33: (583х16х300)-5р/д | Q33: =((Скидка!DY28*(100-Скидка!$C$3))*Скидка!$D$4)/100 -> 2458.4
B34: 6БР.011.1 | C34: (783х16х300)-5р/д | D34: =((Скидка!DL29*(100-Скидка!$C$3))*Скидка!$D$4)/100 -> 2419.2 | E34: 6БР.011.2 | F34: (783х16х300)-5р/д | G34: =((Скидка!DO29*(100-Скидка!$C$3))*Скидка!$D$4)/100 -> 2471.84 | H34: 6БР.005.4 | I34: (700х16х300) | K34: =((Скидка!DS29*(100-Скидка!$C$3))*Скидка!$D$4)/100 -> 2584.96 | L34: 6БР.011.7 | M34: (783х16х300)-5р/д | N34: =((Скидка!DV29*(100-Скидка!$C$3))*Скидка!$D$4)/100 -> 2412.48 | O34: 6БРП.001.9 | P34: (683х16х300) | Q34: =((Скидка!DY29*(100-Скидка!$C$3))*Скидка!$D$4)/100 -> 2477.44
B35: 6БР.003.1 | C35: (800х16х300)-5р/д | D35: =((Скидка!DL30*(100-Скидка!$C$3))*Скидка!$D$4)/100 -> 2425.92 | E35: 6БР.003.2 | F35: (800х16х300)-5р/д | G35: =((Скидка!DO30*(100-Скидка!$C$3))*Скидка!$D$4)/100 -> 2477.44 | H35: 6БР.003.4 | I35: (800х16х300)-5р/д | K35: =((Скидка!DS30*(100-Скидка!$C$3))*Скидка!$D$4)/100 -> 2611.84 | L35: 6БР.003.7 | M35: (800х16х300)-5р/д | N35: =((Скидка!DV30*(100-Скидка!$C$3))*Скидка!$D$4)/100 -> 2412.48 | O35: 6БРП.011.9 | P35: (783х16х300)-5р/д | Q35: =((Скидка!DY30*(100-Скидка!$C$3))*Скидка!$D$4)/100 -> 2486.4
B36: Барьеры из ЛДСП - GLOSS
B37: Барьеры боковые | F37: Барьеры боковые | J37: Барьеры фронтальные | N37: Барьеры фронтальные, для сдвоенных бенч-систем
F39: 9БРЛ.001.9 (683х16х300) | I39: =((Скидка!DQ34*(100-Скидка!$C$3))*Скидка!$D$4)/100 -> 2927.68 | J39: 9БР.007.1 (1200х16х300) | M39: =((Скидка!DU34*(100-Скидка!$C$3))*Скидка!$D$4)/100 -> 2612.96 | N39: 9БР.007.3 (1200х16х300) | Q39: =((Скидка!DY34*(100-Скидка!$C$3))*Скидка!$D$4)/100 -> 2804.48
F40: 9БРЛ.011.9 (783х16х300) | I40: =((Скидка!DQ35*(100-Скидка!$C$3))*Скидка!$D$4)/100 -> 2970.24 | J40: 9БР.008.1 (1400х16х300) | M40: =((Скидка!DU35*(100-Скидка!$C$3))*Скидка!$D$4)/100 -> 3204.32 | N40: 9БР.008.3 (1400х16х300) | Q40: =((Скидка!DY35*(100-Скидка!$C$3))*Скидка!$D$4)/100 -> 3493.28
F41: 9БРП.001.9 (683х16х300) | I41: =((Скидка!DQ36*(100-Скидка!$C$3))*Скидка!$D$4)/100 -> 2927.68 | J41: 9БР.009.1 (1600х16х300) | M41: =((Скидка!DU36*(100-Скидка!$C$3))*Скидка!$D$4)/100 -> 3560.48 | N41: 9БР.009.3 (1600х16х300) | Q41: =((Скидка!DY36*(100-Скидка!$C$3))*Скидка!$D$4)/100 -> 3848.32
F42: 9БРП.011.9 (783х16х300) | I42: =((Скидка!DQ37*(100-Скидка!$C$3))*Скидка!$D$4)/100 -> 2970.24 | J42: 9БР.002.1 (1800х16х300) - 5р/д | M42: =((Скидка!DU37*(100-Скидка!$C$3))*Скидка!$D$4)/100 -> 3563.84 | N42: 9БР.002.3 (1800х16х300) - 5р/д | Q42: =((Скидка!DY37*(100-Скидка!$C$3))*Скидка!$D$4)/100 -> 3852.8
B43: 9БР.005.4 (700х16х300) - 5р/д | E43: =((Скидка!DM38*(100-Скидка!$C$3))*Скидка!$D$4)/100 -> 1957.76 | F43: 9БРЛ.401.9 (683х16х400) | I43: =((Скидка!DQ38*(100-Скидка!$C$3))*Скидка!$D$4)/100 -> 3053.12 | J43: 9БР.407.1 (1200х16х400) | M43: =((Скидка!DU38*(100-Скидка!$C$3))*Скидка!$D$4)/100 -> 3000.48 | N43: 9БР.407.3 (1200х16х400) | Q43: =((Скидка!DY38*(100-Скидка!$C$3))*Скидка!$D$4)/100 -> 3194.24
B44: 9БР.003.4 (800х16х300) | E44: =((Скидка!DM39*(100-Скидка!$C$3))*Скидка!$D$4)/100 -> 2037.28 | F44: 9БРЛ.411.9 (783х16х400) | I44: =((Скидка!DQ39*(100-Скидка!$C$3))*Скидка!$D$4)/100 -> 3109.12 | J44: 9БР.408.1 (1400х16х400) | M44: =((Скидка!DU39*(100-Скидка!$C$3))*Скидка!$D$4)/100 -> 3669.12 | N44: 9БР.408.3 (1400х16х400) | Q44: =((Скидка!DY39*(100-Скидка!$C$3))*Скидка!$D$4)/100 -> 3956.96
B45: 9БР.405.4 (700х16х400) | E45: =((Скидка!DM40*(100-Скидка!$C$3))*Скидка!$D$4)/100 -> 2206.4 | F45: 9БРП.401.9 (683х16х400) | I45: =((Скидка!DQ40*(100-Скидка!$C$3))*Скидка!$D$4)/100 -> 3053.12 | J45: 9БР.409.1 (1600х16х400) | M45: =((Скидка!DU40*(100-Скидка!$C$3))*Скидка!$D$4)/100 -> 4073.44 | N45: 9БР.409.3 (1600х16х400) | Q45: =((Скидка!DY40*(100-Скидка!$C$3))*Скидка!$D$4)/100 -> 4363.52
B46: 9БР.403.4 (800х16х400) - 5р/д | E46: =((Скидка!DM41*(100-Скидка!$C$3))*Скидка!$D$4)/100 -> 2252.32 | F46: 9БРП.411.9 (783х16х400) | I46: =((Скидка!DQ41*(100-Скидка!$C$3))*Скидка!$D$4)/100 -> 3109.12 | J46: 9БР.402.1 (1800х16х400) - 5 р/д | M46: =((Скидка!DU41*(100-Скидка!$C$3))*Скидка!$D$4)/100 -> 4490.08 | N46: 9БР.402.3 (1800х16х400) - 5р/д | Q46: =((Скидка!DY41*(100-Скидка!$C$3))*Скидка!$D$4)/100 -> 4777.92
B47: Барьеры в алюминевом профиле - GLOSS
B48: Барьеры в алюминевом профиле, вставка ткань
B49: Барьеры боковые | G49: Барьеры фронтальные для линейных и рабочих столов BENCH | M49: Барьеры фронтальные для сдвоенных столов BENCH
B51: 9БТЛ.0402.4 (700х29х400) | F51: =((Скидка!DN45*(100-Скидка!$C$3))*Скидка!$D$4)/100 -> 7336 | G51: 9БТ.0406.6 (1200х29х400) | L51: =((Скидка!DT45*(100-Скидка!$C$3))*Скидка!$D$4)/100 -> 11258.24 | M51: 9БТ.0406.8 (1200х29х400) | Q51: =((Скидка!DY45*(100-Скидка!$C$3))*Скидка!$D$4)/100 -> 11832.8
B52: 9БТЛ.0403.4 (800х29х400) | F52: =((Скидка!DN46*(100-Скидка!$C$3))*Скидка!$D$4)/100 -> 8192.8 | G52: 9БТ.0407.6 (1400х29х400) | L52: =((Скидка!DT46*(100-Скидка!$C$3))*Скидка!$D$4)/100 -> 12491.36 | M52: 9БТ.0407.8 (1400х29х400) | Q52: =((Скидка!DY46*(100-Скидка!$C$3))*Скидка!$D$4)/100 -> 13067.04
B53: 9БТП.0402.4 (700х29х400) | F53: =((Скидка!DN47*(100-Скидка!$C$3))*Скидка!$D$4)/100 -> 7336 | G53: 9БТ.0408.6 (1600х29х400) | L53: =((Скидка!DT47*(100-Скидка!$C$3))*Скидка!$D$4)/100 -> 11299.68 | M53: 9БТ.0408.8 (1600х29х400) | Q53: =((Скидка!DY47*(100-Скидка!$C$3))*Скидка!$D$4)/100 -> 11875.36
B54: 9БТП.0403.4 (800х29х400) | F54: =((Скидка!DN48*(100-Скидка!$C$3))*Скидка!$D$4)/100 -> 8192.8 | G54: 9БТ.0409.6 (1800х29х400) | L54: =((Скидка!DT48*(100-Скидка!$C$3))*Скидка!$D$4)/100 -> 14470.4 | M54: 9БТ.0409.8 (1800х29х400) | Q54: =((Скидка!DY48*(100-Скидка!$C$3))*Скидка!$D$4)/100 -> 15046.08
B55: Барьеры в алюминевом профиле, вставка стекло матовое, ткань
B56: Барьеры боковые | G56: Барьеры фронтальные для линейных и рабочих столов BENCH | M56: Барьеры фронтальные для сдвоенных столов BENCH
B58: 9БТСЛ.0411.4 (700х29х400) | F58: =((Скидка!DN52*(100-Скидка!$C$3))*Скидка!$D$4)/100 -> 9414.72 | G58: 9БТС.0415.6 (1200х29х400) | L58: =((Скидка!DT52*(100-Скидка!$C$3))*Скидка!$D$4)/100 -> 14245.28 | M58: 9БТС.0415.8 (1200х29х400) | Q58: =((Скидка!DY52*(100-Скидка!$C$3))*Скидка!$D$4)/100 -> 14842.24
B59: 9БТСЛ.0412.4 (800х29х400) | F59: =((Скидка!DN53*(100-Скидка!$C$3))*Скидка!$D$4)/100 -> 9909.76 | G59: 9БТС.0416.6 (1400х29х400) | L59: =((Скидка!DT53*(100-Скидка!$C$3))*Скидка!$D$4)/100 -> 15752.8 | M59: 9БТС.0416.8 (1400х29х400) | Q59: =((Скидка!DY53*(100-Скидка!$C$3))*Скидка!$D$4)/100 -> 16353.12
B60: 9БТСП.0411.4 (700х29х400) | F60: =((Скидка!DN54*(100-Скидка!$C$3))*Скидка!$D$4)/100 -> 9414.72 | G60: 9БТС.0417.6 (1600х29х400) | L60: =((Скидка!DT54*(100-Скидка!$C$3))*Скидка!$D$4)/100 -> 17388 | M60: 9БТС.0417.8 (1600х29х400) | Q60: =((Скидка!DY54*(100-Скидка!$C$3))*Скидка!$D$4)/100 -> 17991.68
B61: 9БТСП.0412.4 (800х29х400) | F61: =((Скидка!DN55*(100-Скидка!$C$3))*Скидка!$D$4)/100 -> 9909.76 | G61: 9БТС.0418.6 (1800х29х400) | L61: =((Скидка!DT55*(100-Скидка!$C$3))*Скидка!$D$4)/100 -> 18658.08 | M61: 9БТС.0418.8 (1800х29х400) | Q61: =((Скидка!DY55*(100-Скидка!$C$3))*Скидка!$D$4)/100 -> 19283.04
B62: Барьеры в алюминевом профиле, вставка стекло матовое
B63: Барьеры боковые | G63: Барьеры фронтальные для линейных и рабочих столов BENCH | M63: Барьеры фронтальные для сдвоенных столов BENCH
B65: 9БСЛ.0402.4 (700х29х400) | F65: =((Скидка!DN59*(100-Скидка!$C$3))*Скидка!$D$4)/100 -> 6445.6 | G65: 9БС.0406.6 (1200х29х400) | L65: =((Скидка!DT59*(100-Скидка!$C$3))*Скидка!$D$4)/100 -> 10252.48 | M65: 9БС.0406.8 (1200х29х400) | Q65: =((Скидка!DY59*(100-Скидка!$C$3))*Скидка!$D$4)/100 -> 10827.04
...

Sheet Материалы обивки
E7: ИСПОЛЬЗУЕМЫЕ МАТЕРИАЛЫ ОБИВКИ (ТКАНЬ)
E9: Изделия с обивкой из ткани:
E10: - Акустические мобильные перегородки (SOFToffice).
E11: - Барьеры настольные (AVANCE, ARREDO, GLOSS).
E12: - Подушки для тумб (AVANCE, GLOSS).
D15: Тип ткани: РОГОЖКА
E24: Тип ткани: МИКРОВЕЛЮР
D33: ДЛЯ РАБОТЫ С КЛИЕНТАМИ ИСПОЛЬЗУЙТЕ НАШИ ОБРАЗЦЫ ОБИВОК (ТКАНЕЙ)! Цвета декоров в изображениях (прайс, сайт, каталог) могут отличаться от реальных тканей ввиду особенностей цветопередачи и настроек различных экранов.

Sheet Тех. описание полное
B6: Перегородки и барьеры "SOFToffice"
B7: Группа элементов / параметр | C7: Выражение параметра | D7: Возможные цвета
B8: Акустические мобильные перегородки с мобильной опорой
B9: Толщина используемого ДСП, мм | C9: 16
B10: Толщина ППУ, мм | C10: 5
B11: Ткань | D11: См. страницу "МАТЕРИАЛЫ ОБИВКИ"
B12: Опора мобильная | C12: труба профильная 40х20мм, полоса стальная 40х3(4)мм, колесо со стопором d50мм | D12: По образцу
B15: Акустические мобильные перегородки со стационарной опорой
B16: Толщина используемого ДСП, мм | C16: 16
B17: Толщина ППУ, мм | C17: 5
B18: Ткань | D18: См. страницу "МАТЕРИАЛЫ ОБИВКИ"
B19: Опора стационарная | C19: полоса стальная 40х4мм | D19: По образцу
B20: Настольные барьеры с мягким наполнением GLOSS
B21: Толщина используемого ДСП, мм. | C21: 16
B22: Толщина ППУ, мм. | C22: 5
B23: Ткань | D23: См. страницу "МАТЕРИАЛЫ ОБИВКИ"
B24: Металлические крепления | C24: Сталь 3мм | D24: По образцу
B25: Настольные барьеры с мягким наполнением ARREDO
B26: Толщина используемого ДСП, мм. | C26: 16
B27: Толщина ППУ, мм. | C27: 5
B28: Ткань | D28: По образцу
