Workbook

Sheet Перегородки SOFToffice
B8: АКУСТИЧЕСКИЕ МОБИЛЬНЫЕ ПЕРЕГОРОДКИ SOFToffice | Q8: 45376
B10: Цены указаны с учетом скидки: | G10: =Скидка!C3/100 -> 0 | Q10: стр. 1
F12: Ширина | G12: Высота | H12: Арт | I12: Цена | N12: Ширина | O12: Высота | P12: Арт | Q12: Цена
F13: 800мм | G13: 1100мм | H13: моб. опоры | I13: =((Скидка!Q27*(100-Скидка!$C$3))*Скидка!$D$4)/100 -> 12424.16 | N13: 1000мм | O13: 1100мм | P13: моб. опоры | Q13: =((Скидка!X27*(100-Скидка!$C$3))*Скидка!$D$4)/100 -> 13117.44
H15: 011.МП.8011 | P15: 011.МП.1011
H16: стац. опоры | P16: стац. опоры
H18: 011.МПО.8011 | P18: 011.МПО.1011
G19: 1200мм | H19: моб. опоры | I19: =((Скидка!Q33*(100-Скидка!$C$3))*Скидка!$D$4)/100 -> 12602.24 | O19: 1200мм | P19: моб. опоры | Q19: =((Скидка!X33*(100-Скидка!$C$3))*Скидка!$D$4)/100 -> 13320.16
H21: 011.МП.8012 | P21: 011.МП.1012
H22: стац.опоры | P22: стац.опоры
H24: 011.МПО.8012 | P24: 011.МПО.1012
G25: 1400мм | H25: моб. опоры | I25: =((Скидка!Q39*(100-Скидка!$C$3))*Скидка!$D$4)/100 -> 12880 | O25: 1400мм | P25: моб. опоры | Q25: =((Скидка!X39*(100-Скидка!$C$3))*Скидка!$D$4)/100 -> 14038.08
H27: 011.МП.8014 | P27: 011.МП.1014
H28: стац. опоры | P28: стац.опоры
H30: 011.МПО.8014 | P30: 011.МПО.1014
G31: 1600мм | H31: моб. опоры | I31: =((Скидка!Q45*(100-Скидка!$C$3))*Скидка!$D$4)/100 -> 14892.64 | O31: 1600мм | P31: моб. опоры | Q31: =((Скидка!X45*(100-Скидка!$C$3))*Скидка!$D$4)/100 -> 15254.4
H33: 011.МП.8016 | P33: 011.МП.1016
H34: стац. опоры | P34: стац.опоры
H36: 011.МПО.8016 | P36: 011.МПО.1016
F38: Ширина | G38: Высота | H38: Арт | I38: Цена | N38: Ширина | O38: Высота | P38: Арт | Q38: Цена
F39: 1200мм | G39: 1100мм | H39: моб. опоры | I39: =((Скидка!Q53*(100-Скидка!$C$3))*Скидка!$D$4)/100 -> 13817.44 | N39: 1400мм | O39: 1100мм | P39: моб. опоры | Q39: =((Скидка!X53*(100-Скидка!$C$3))*Скидка!$D$4)/100 -> 14960.96
H41: 011.МП.1211 | P41: 011.МП.1411
H42: стац. опоры | P42: стац. опоры
H44: 011.МПО.1211 | P44: 011.МПО.1411
G45: 1200мм | H45: моб. опоры | I45: =((Скидка!Q59*(100-Скидка!$C$3))*Скидка!$D$4)/100 -> 14044.8 | O45: 1200мм | P45: моб. опоры | Q45: =((Скидка!X59*(100-Скидка!$C$3))*Скидка!$D$4)/100 -> 15223.04
H47: 011.МП.1212 | P47: 011.МП.1412
H48: стац. опоры | P48: стац. опоры
H50: 011.МПО.1212 | P50: 011.МПО.1412
G51: 1400мм | H51: моб. опоры | I51: =((Скидка!Q65*(100-Скидка!$C$3))*Скидка!$D$4)/100 -> 14712.32 | O51: 1400мм | P51: моб. опоры | Q51: =((Скидка!X65*(100-Скидка!$C$3))*Скидка!$D$4)/100 -> 15967.84
H53: 011.МП.1214 | P53: 011.МП.1414
H54: стац. опоры | P54: стац. опоры
H56: 011.МПО.1214 | P56: 011.МПО.1414
G57: 1600мм | H57: моб. опоры | I57: =((Скидка!Q71*(100-Скидка!$C$3))*Скидка!$D$4)/100 -> 15996.96 | N57: 1350мм * | O57: 1600мм | P57: моб. опоры | Q57: =((Скидка!X71*(100-Скидка!$C$3))*Скидка!$D$4)/100 -> 16346.4
H59: 011.МП.1216 | P59: 011.МП.1316
H60: стац. опоры | P60: стац. опоры
H62: 011.МПО.1216 | P62: 011.МПО.1316
N64: Ширина | O64: Высота | P64: Арт | Q64: Цена
N65: 1600мм | O65: 1100мм | P65: моб. опоры | Q65: =((Скидка!X79*(100-Скидка!$C$3))*Скидка!$D$4)/100 -> 19334.56
P67: 011.МП.1611
P68: стац. опоры
P70: 011.МПО.1611
O71: 1200мм | P71: моб. опоры | Q71: =((Скидка!X85*(100-Скидка!$C$3))*Скидка!$D$4)/100 -> 19582.08
P73: 011.МП.1612
P74: стац. опоры
P76: 011.МПО.1612
O77: 1400мм | P77: моб. опоры | Q77: =((Скидка!X91*(100-Скидка!$C$3))*Скидка!$D$4)/100 -> 20060.32
P79: 011.МП.1614
P80: стац. опоры
P82: 011.МПО.1614
B84: В одном изделии возможно комбинировать любые два декора обивок из предложенных в прайс-листе***, например: | K84: Цвет металлических опор:
B91: ** Размер скидки на комбинированные изделия уменьшается на 5%.
B92: *** ВАЖНО! Обивки Ricco/Stone/Violet комбинируются только между собой!
B94: Производитель оставляет за собой право изменять конструкцию и фурнитуру без изменения внешнего вида и назначения изделия.
B95: Глубина перегородки: с мобильной (колесной) опорой - 377мм, со стационариной опорой - 450мм.
B96: Глубина перегородки без опоры 27мм.
B97: На мобильной (колесной) опоре используются пластиковые заглушки черного цвета.
B98: Колеса оснащены стопором.
B99: * Максимальная ширина при высоте более 1400мм.

Sheet Барьеры SOFToffice ткань (1)
B8: НАСТОЛЬНЫЕ БАРЬЕРЫ - ТКАНЬ | O8: ='Перегородки SOFToffice'!Q8 -> 45376
B10: Цены указаны с учетом скидки: | F10: =Скидка!C3/100 -> 0 | P10: стр. 2
B11: Настольные барьеры с мягким наполнением - GLOSS
B12: Барьеры фронтальные
B14: Способ установки: крепление к столешнице снизу | H14: Способ установки: крепление к двум столешницам снизу
B15: Толщина столешницы мин.16мм, макс.38мм | H15: Толщина столешницы мин.16мм, макс.38мм
E16: 9БР.307.1 (1200х27х300) | G16: =((Скидка!AG31*(100-Скидка!$C$3))*Скидка!$D$4)/100 -> 5513.76 | L16: 9БР.307.3 (1200х27х300) | O16: =((Скидка!AO31*(100-Скидка!$C$3))*Скидка!$D$4)/100 -> 5888.96
E17: 9БР.308.1 (1400х27х300) | G17: =((Скидка!AG32*(100-Скидка!$C$3))*Скидка!$D$4)/100 -> 6273.12 | L17: 9БР.308.3 (1400х27х300) | O17: =((Скидка!AO32*(100-Скидка!$C$3))*Скидка!$D$4)/100 -> 6648.32
E18: 9БР.309.1 (1600х27х300) | G18: =((Скидка!AG33*(100-Скидка!$C$3))*Скидка!$D$4)/100 -> 6988.8 | L18: 9БР.309.3 (1600х27х300) | O18: =((Скидка!AO33*(100-Скидка!$C$3))*Скидка!$D$4)/100 -> 7406.56
E19: 9БР.302.1 (1800х27х300) | G19: =((Скидка!AG34*(100-Скидка!$C$3))*Скидка!$D$4)/100 -> 7450.24 | L19: 9БР.302.3 (1800х27х300) | O19: =((Скидка!AO34*(100-Скидка!$C$3))*Скидка!$D$4)/100 -> 7824.32
E20: 9БР.107.1 (1200х27х400) | G20: =((Скидка!AG35*(100-Скидка!$C$3))*Скидка!$D$4)/100 -> 5838.56 | L20: 9БР.107.3 (1200х27х400) | O20: =((Скидка!AO35*(100-Скидка!$C$3))*Скидка!$D$4)/100 -> 6128.64
E21: 9БР.108.1 (1400х27х400) | G21: =((Скидка!AG36*(100-Скидка!$C$3))*Скидка!$D$4)/100 -> 6550.88 | L21: 9БР.108.3 (1400х27х400) | O21: =((Скидка!AO36*(100-Скидка!$C$3))*Скидка!$D$4)/100 -> 6926.08
E22: 9БР.109.1 (1600х27х400) | G22: =((Скидка!AG37*(100-Скидка!$C$3))*Скидка!$D$4)/100 -> 7349.44 | L22: 9БР.109.3 (1600х27х400) | O22: =((Скидка!AO37*(100-Скидка!$C$3))*Скидка!$D$4)/100 -> 7724.64
E23: 9БР.102.1 (1800х27х400) | G23: =((Скидка!AG38*(100-Скидка!$C$3))*Скидка!$D$4)/100 -> 7824.32 | L23: 9БР.102.3 (1800х27х400) | O23: =((Скидка!AO38*(100-Скидка!$C$3))*Скидка!$D$4)/100 -> 8199.52
B24: Барьеры боковые
B26: Способ установки: крепление к столешнице снизу | H26: Способ крепления: крепится к столешнице снизу и к перегородке
B27: Толщина столешницы 25мм | H27: Толщина столешницы 25мм
L28: 9БРЛ.301.9 (680х27х300) | O28: =((Скидка!AO43*(100-Скидка!$C$3))*Скидка!$D$4)/100 -> 5121.76
L29: 9БРЛ.311.9 (780х27х300) | O29: =((Скидка!AO44*(100-Скидка!$C$3))*Скидка!$D$4)/100 -> 5335.68
L30: 9БРП.301.9 (680х27х300) | O30: =((Скидка!AO45*(100-Скидка!$C$3))*Скидка!$D$4)/100 -> 5121.76
L31: 9БРП.311.9 (780х27х300) | O31: =((Скидка!AO46*(100-Скидка!$C$3))*Скидка!$D$4)/100 -> 5335.68
E32: 9БР.305.4 (700х27х300) | G32: =((Скидка!AG47*(100-Скидка!$C$3))*Скидка!$D$4)/100 -> 4010.72 | L32: 9БРЛ.101.9 (680х27х400) | O32: =((Скидка!AO47*(100-Скидка!$C$3))*Скидка!$D$4)/100 -> 5270.72
E33: 9БР.303.4 (800х27х300) | G33: =((Скидка!AG48*(100-Скидка!$C$3))*Скидка!$D$4)/100 -> 4225.76 | L33: 9БРЛ.111.9 (780х27х400) | O33: =((Скидка!AO48*(100-Скидка!$C$3))*Скидка!$D$4)/100 -> 5477.92
E34: 9БР.105.4 (700х27х400) | G34: =((Скидка!AG49*(100-Скидка!$C$3))*Скидка!$D$4)/100 -> 4154.08 | L34: 9БРП.101.9 (680х27х400) | O34: =((Скидка!AO49*(100-Скидка!$C$3))*Скидка!$D$4)/100 -> 5270.72
E35: 9БР.103.4 (800х27х400) | G35: =((Скидка!AG50*(100-Скидка!$C$3))*Скидка!$D$4)/100 -> 4381.44 | L35: 9БРП.111.9 (780х27х400) | O35: =((Скидка!AO50*(100-Скидка!$C$3))*Скидка!$D$4)/100 -> 5477.92
B36: Настольные барьеры - AVANCE
B37: Барьеры фронтальные
B43: Способ установки: крепление к столешнице снизу | F43: Способ установки: крепление к металл-каркасу снизу | K43: Способ установки: крепление к двум столешницам снизу
B44: Толщина столешницы мин.16мм, макс.38мм | F44: Толщина столешницы с металлом мин.56мм, макс.70мм | K44: Толщина столешницы мин.16мм, макс.38мм
B45: 6БР.306.1 (1000х18х300) | E45: =((Скидка!AE60*(100-Скидка!$C$3))*Скидка!$D$4)/100 -> 4539.36 | F45: 6БР.306.2 (1000х18х300) | I45: =((Скидка!AI60*(100-Скидка!$C$3))*Скидка!$D$4)/100 -> 4635.68 | K45: 6БР.306.3 (1000х18х300) | O45: =((Скидка!AO60*(100-Скидка!$C$3))*Скидка!$D$4)/100 -> 4915.68
B46: 6БР.307.1 (1200х18х300) | E46: =((Скидка!AE61*(100-Скидка!$C$3))*Скидка!$D$4)/100 -> 4991.84 | F46: 6БР.307.2 (1200х18х300) | I46: =((Скидка!AI61*(100-Скидка!$C$3))*Скидка!$D$4)/100 -> 5089.28 | K46: 6БР.307.3 (1200х18х300) | O46: =((Скидка!AO61*(100-Скидка!$C$3))*Скидка!$D$4)/100 -> 5364.8
B47: 6БР.308.1 (1400х18х300) | E47: =((Скидка!AE62*(100-Скидка!$C$3))*Скидка!$D$4)/100 -> 5675.04 | F47: 6БР.308.2 (1400х18х300) | I47: =((Скидка!AI62*(100-Скидка!$C$3))*Скидка!$D$4)/100 -> 5772.48 | K47: 6БР.308.3 (1400х18х300) | O47: =((Скидка!AO62*(100-Скидка!$C$3))*Скидка!$D$4)/100 -> 6048
B48: 6БР.309.1 (1600х18х300) | E48: =((Скидка!AE63*(100-Скидка!$C$3))*Скидка!$D$4)/100 -> 6363.84 | F48: 6БР.309.2 (1600х18х300) | I48: =((Скидка!AI63*(100-Скидка!$C$3))*Скидка!$D$4)/100 -> 6461.28 | K48: 6БР.309.3 (1600х18х300) | O48: =((Скидка!AO63*(100-Скидка!$C$3))*Скидка!$D$4)/100 -> 6735.68
B49: 6БР.406.1 (1000х18х400) | E49: =((Скидка!AE64*(100-Скидка!$C$3))*Скидка!$D$4)/100 -> 4702.88 | F49: 6БР.406.2 (1000х18х400) | I49: =((Скидка!AI64*(100-Скидка!$C$3))*Скидка!$D$4)/100 -> 4800.32 | K49: 6БР.406.3 (1000х18х400) | O49: =((Скидка!AO64*(100-Скидка!$C$3))*Скидка!$D$4)/100 -> 5075.84
B50: 6БР.407.1 (1200х18х400) | E50: =((Скидка!AE65*(100-Скидка!$C$3))*Скидка!$D$4)/100 -> 5180 | F50: 6БР.407.2 (1200х18х400) | I50: =((Скидка!AI65*(100-Скидка!$C$3))*Скидка!$D$4)/100 -> 5277.44 | K50: 6БР.407.3 (1200х18х400) | O50: =((Скидка!AO65*(100-Скидка!$C$3))*Скидка!$D$4)/100 -> 5552.96
B51: 6БР.408.1 (1400х18х400) | E51: =((Скидка!AE66*(100-Скидка!$C$3))*Скидка!$D$4)/100 -> 5911.36 | F51: 6БР.408.2 (1400х18х400) | I51: =((Скидка!AI66*(100-Скидка!$C$3))*Скидка!$D$4)/100 -> 6008.8 | K51: 6БР.408.3 (1400х18х400) | O51: =((Скидка!AO66*(100-Скидка!$C$3))*Скидка!$D$4)/100 -> 6285.44
B52: 6БР.409.1 (1600х18х400) | E52: =((Скидка!AE67*(100-Скидка!$C$3))*Скидка!$D$4)/100 -> 6615.84 | F52: 6БР.409.2 (1600х18х400) | I52: =((Скидка!AI67*(100-Скидка!$C$3))*Скидка!$D$4)/100 -> 6713.28 | K52: 6БР.409.3 (1600х18х400) | O52: =((Скидка!AO67*(100-Скидка!$C$3))*Скидка!$D$4)/100 -> 6989.92
B53: Барьеры боковые
B59: Способ установки: крепление к столешнице снизу | F59: Способ установки: крепление к металл-каркасу снизу
B60: Толщина столешницы мин.16мм, макс.38мм | F60: Толщина столешницы с металлом мин.56мм, макс.70мм
B61: 6БР.312.1 (580х18х300) | E61: =((Скидка!AE75*(100-Скидка!$C$3))*Скидка!$D$4)/100 -> 3192 | F61: 6БР.312.2 (580х18х300) | I61: =((Скидка!AI75*(100-Скидка!$C$3))*Скидка!$D$4)/100 -> 3256.96 | K61: Способ установки: крепление к столешнице снизу Толщина столешницы 25мм
B62: 6БР.304.1 (600х18х300) | E62: =((Скидка!AE76*(100-Скидка!$C$3))*Скидка!$D$4)/100 -> 3239.04 | F62: 6БР.304.2 (600х18х300) | I62: =((Скидка!AI76*(100-Скидка!$C$3))*Скидка!$D$4)/100 -> 3304
B63: 6БР.301.1 (680х18х300) | E63: =((Скидка!AE77*(100-Скидка!$C$3))*Скидка!$D$4)/100 -> 3389.12 | F63: 6БР.301.2 (680х18х300) | I63: =((Скидка!AI77*(100-Скидка!$C$3))*Скидка!$D$4)/100 -> 3454.08
B64: 6БР.305.1 (700х18х300) | E64: =((Скидка!AE78*(100-Скидка!$C$3))*Скидка!$D$4)/100 -> 3433.92 | F64: 6БР.305.2 (700х18х300) | I64: =((Скидка!AI78*(100-Скидка!$C$3))*Скидка!$D$4)/100 -> 3498.88
B65: 6БР.311.1 (780х18х300) | E65: =((Скидка!AE79*(100-Скидка!$C$3))*Скидка!$D$4)/100 -> 3582.88 | F65: 6БР.311.2 (780х18х300) | I65: =((Скидка!AI79*(100-Скидка!$C$3))*Скидка!$D$4)/100 -> 3647.84
B66: 6БР.303.1 (800х18х300) | E66: =((Скидка!AE80*(100-Скидка!$C$3))*Скидка!$D$4)/100 -> 3627.68 | F66: 6БР.303.2 (800х18х300) | I66: =((Скидка!AI80*(100-Скидка!$C$3))*Скидка!$D$4)/100 -> 3692.64
B67: 6БР.412.1 (580х18х400) | E67: =((Скидка!AE81*(100-Скидка!$C$3))*Скидка!$D$4)/100 -> 3304 | F67: 6БР.412.2 (580х18х400) | I67: =((Скидка!AI81*(100-Скидка!$C$3))*Скидка!$D$4)/100 -> 3368.96 | L67: 6БР.304.4 (600х18х300) | O67: =((Скидка!AO81*(100-Скидка!$C$3))*Скидка!$D$4)/100 -> 4008.48
B68: 6БР.404.1 (600х18х400) | E68: =((Скидка!AE82*(100-Скидка!$C$3))*Скидка!$D$4)/100 -> 3330.88 | F68: 6БР.404.2 (600х18х400) | I68: =((Скидка!AI82*(100-Скидка!$C$3))*Скидка!$D$4)/100 -> 3395.84 | L68: 6БР.305.4 (700х18х300) | O68: =((Скидка!AO82*(100-Скидка!$C$3))*Скидка!$D$4)/100 -> 4287.36
B69: 6БР.401.1 (680х18х400) | E69: =((Скидка!AE83*(100-Скидка!$C$3))*Скидка!$D$4)/100 -> 3503.36 | F69: 6БР.401.2 (680х18х400) | I69: =((Скидка!AI83*(100-Скидка!$C$3))*Скидка!$D$4)/100 -> 3568.32 | L69: 6БР.303.4 (800х18х300) | O69: =((Скидка!AO83*(100-Скидка!$C$3))*Скидка!$D$4)/100 -> 4456.48
B70: 6БР.405.1 (700х18х400) | E70: =((Скидка!AE84*(100-Скидка!$C$3))*Скидка!$D$4)/100 -> 3543.68 | F70: 6БР.405.2 (700х18х400) | I70: =((Скидка!AI84*(100-Скидка!$C$3))*Скидка!$D$4)/100 -> 3608.64 | L70: 6БР.404.4 (600х18х400) | O70: =((Скидка!AO84*(100-Скидка!$C$3))*Скидка!$D$4)/100 -> 4230.24
B71: 6БР.411.1 (780х18х400) | E71: =((Скидка!AE85*(100-Скидка!$C$3))*Скидка!$D$4)/100 -> 3708.32 | F71: 6БР.411.2 (780х18х400) | I71: =((Скидка!AI85*(100-Скидка!$C$3))*Скидка!$D$4)/100 -> 3773.28 | L71: 6БР.405.4 (700х18х400) | O71: =((Скидка!AO85*(100-Скидка!$C$3))*Скидка!$D$4)/100 -> 4244.8
B72: 6БР.403.1 (800х18х400) | E72: =((Скидка!AE86*(100-Скидка!$C$3))*Скидка!$D$4)/100 -> 3749.76 | F72: 6БР.403.2 (800х18х400) | I72: =((Скидка!AI86*(100-Скидка!$C$3))*Скидка!$D$4)/100 -> 3813.6 | L72: 6БР.403.4 (800х18х400) | O72: =((Скидка!AO86*(100-Скидка!$C$3))*Скидка!$D$4)/100 -> 4584.16
B73: Способ установки: крепление на столешницу | E73: 6БР.312.7 (580х18х300) | G73: =((Скидка!AG87*(100-Скидка!$C$3))*Скидка!$D$4)/100 -> 3571.68 | H73: Способ крепления: крепится к столешнице снизу и к перегородке Толщина столешницы 25мм | M73: 6БРЛ.312.9 (580х18х300) | P73: =((Скидка!AO87*(100-Скидка!$C$3))*Скидка!$D$4)/100 -> 4462.08
E74: 6БР.304.7 (600х18х300) | G74: =((Скидка!AG88*(100-Скидка!$C$3))*Скидка!$D$4)/100 -> 3571.68 | M74: 6БРЛ.301.9 (680х18х300) | P74: =((Скидка!AO88*(100-Скидка!$C$3))*Скидка!$D$4)/100 -> 4656.96
E75: 6БР.301.7 (680х18х300) | G75: =((Скидка!AG89*(100-Скидка!$C$3))*Скидка!$D$4)/100 -> 3707.2 | M75: 6БРЛ.311.9 (780х18х300) | P75: =((Скидка!AO89*(100-Скидка!$C$3))*Скидка!$D$4)/100 -> 4851.84
E76: 6БР.305.7 (700х18х300) | G76: =((Скидка!AG90*(100-Скидка!$C$3))*Скидка!$D$4)/100 -> 3707.2 | M76: 6БРЛ.412.9 (580х18х400) | P76: =((Скидка!AO90*(100-Скидка!$C$3))*Скидка!$D$4)/100 -> 4575.2
E77: 6БР.311.7 (780х18х300) | G77: =((Скидка!AG91*(100-Скидка!$C$3))*Скидка!$D$4)/100 -> 3814.72 | M77: 6БРЛ.401.9 (680х18х400) | P77: =((Скидка!AO91*(100-Скидка!$C$3))*Скидка!$D$4)/100 -> 4771.2
E78: 6БР.303.7 (800х18х300) | G78: =((Скидка!AG92*(100-Скидка!$C$3))*Скидка!$D$4)/100 -> 3928.96 | M78: 6БРЛ.411.9 (780х18х400) | P78: =((Скидка!AO92*(100-Скидка!$C$3))*Скидка!$D$4)/100 -> 4982.88
E79: 6БР.412.7 (580х18х400) | G79: =((Скидка!AG93*(100-Скидка!$C$3))*Скидка!$D$4)/100 -> 3615.36 | M79: 6БРП.312.9 (580х18х300) | P79: =((Скидка!AO93*(100-Скидка!$C$3))*Скидка!$D$4)/100 -> 4462.08
E80: 6БР.404.7 (600х18х400) | G80: =((Скидка!AG94*(100-Скидка!$C$3))*Скидка!$D$4)/100 -> 3615.36 | M80: 6БРП.301.9 (680х18х300) | P80: =((Скидка!AO94*(100-Скидка!$C$3))*Скидка!$D$4)/100 -> 4656.96
E81: 6БР.401.7 (680х18х400) | G81: =((Скидка!AG95*(100-Скидка!$C$3))*Скидка!$D$4)/100 -> 3769.92 | M81: 6БРП.311.9 (780х18х300) | P81: =((Скидка!AO95*(100-Скидка!$C$3))*Скидка!$D$4)/100 -> 4851.84
E82: 6БР.405.7 (700х18х400) | G82: =((Скидка!AG96*(100-Скидка!$C$3))*Скидка!$D$4)/100 -> 3769.92 | M82: 6БРП.412.9 (580х18х400) | P82: =((Скидка!AO96*(100-Скидка!$C$3))*Скидка!$D$4)/100 -> 4575.2
E83: 6БР.411.7 (780х18х400) | G83: =((Скидка!AG97*(100-Скидка!$C$3))*Скидка!$D$4)/100 -> 4012.96 | M83: 6БРП.401.9 (680х18х400) | P83: =((Скидка!AO97*(100-Скидка!$C$3))*Скидка!$D$4)/100 -> 4771.2
E84: 6БР.403.7 (800х18х400) | G84: =((Скидка!AG98*(100-Скидка!$C$3))*Скидка!$D$4)/100 -> 3970.4 | M84: 6БРП.411.9 (780х18х400) | P84: =((Скидка!AO98*(100-Скидка!$C$3))*Скидка!$D$4)/100 -> 4982.88
B85: Подушка для тумбы
E87: *9ПТ.001 (450х450х50h) | G87: =((Скидка!AG101*(100-Скидка!$C$3))*Скидка!$D$4)/100 -> 2768.64 | M87: *6ПТ.002 (394х454х50h) | P87: =((Скидка!AO101*(100-Скидка!$C$3))*Скидка!$D$4)/100 -> 2655.52
B92: Съемный чехол на липучке. Рекомендуемый размер топа 450х450мм | H92: Съемный чехол на липучке. Рекомендуемый размер топа 394х454мм
B94: Доступные для изготовления цвета металлических креплений по данному прайсу - алюминий матовый, черный, белый, графит.
B95: Производитель оставляет за собой право изменять конструкцию и фурнитуру без изменения внешнего вида и назначения изделия.
B96: В комплект барьера входит фурнитура для крепления к столешнице.
B97: ** Подушка крепится к топу на липучку. Липучка входит в комплект.
B98: *** В одном изделии (перегородки, барьеры) возможно комбинировать любые два декора обивок из прайс-листа****
B99: **** ВАЖНО! Обивки Ricco/Stone/Violet - комбинируются только между собой!
B100: ***** Размер скидки на комбинированные изделия уменьшается на 5%.

Sheet Барьеры SOFToffice ткань (2)
B8: НАСТОЛЬНЫЕ БАРЬЕРЫ- ТКАНЬ | O8: ='Перегородки SOFToffice'!Q8 -> 45376
P10: стр. 3
B11: Настольные барьеры с мягким наполнением ARREDO
B12: Барьеры боковые | H12: Барьеры фронтальные
B14: Способ установки: крепление к столешнице снизу | H14: Способ установки: крепление к столешнице снизу
B15: Толщина столешницы 25мм | H15: Толщина столешницы 25мм
F16: Порошк. покрытие | G16: Металл глянец | O16: Порошк. покрытие | P16: Металл глянец
E18: 010.БТБ.583 (580х27х300) | F18: =((Скидка!AW16*(100-Скидка!$C$3))*Скидка!$D$4)/100 -> 5201.28 | G18: =((Скидка!AX16*(100-Скидка!$C$3))*Скидка!$D$4)/100 -> 6259.68
E19: 010.БТБ.603 (600х27х300) | F19: =((Скидка!AW17*(100-Скидка!$C$3))*Скидка!$D$4)/100 -> 5311.04 | G19: =((Скидка!AX17*(100-Скидка!$C$3))*Скидка!$D$4)/100 -> 6368.32 | M19: 010.БТФ.103 (1000х27х300) | O19: =((Скидка!BF17*(100-Скидка!$C$3))*Скидка!$D$4)/100 -> 5970.72 | P19: =((Скидка!BG17*(100-Скидка!$C$3))*Скидка!$D$4)/100 -> 7024.64
E20: 010.БТБ.683 (680х27х300) | F20: =((Скидка!AW18*(100-Скидка!$C$3))*Скидка!$D$4)/100 -> 5496.96 | G20: =((Скидка!AX18*(100-Скидка!$C$3))*Скидка!$D$4)/100 -> 6544.16 | M20: 010.БТФ.123 (1200х27х300) | O20: =((Скидка!BF18*(100-Скидка!$C$3))*Скидка!$D$4)/100 -> 6335.84 | P20: =((Скидка!BG18*(100-Скидка!$C$3))*Скидка!$D$4)/100 -> 7395.36
E21: 010.БТБ.703 (700х27х300) | F21: =((Скидка!AW19*(100-Скидка!$C$3))*Скидка!$D$4)/100 -> 5559.68 | G21: =((Скидка!AX19*(100-Скидка!$C$3))*Скидка!$D$4)/100 -> 6606.88 | M21: 010.БТФ.143 (1400х27х300) | O21: =((Скидка!BF19*(100-Скидка!$C$3))*Скидка!$D$4)/100 -> 7052.64 | P21: =((Скидка!BG19*(100-Скидка!$C$3))*Скидка!$D$4)/100 -> 8090.88
E22: 010.БТБ.783 (780х27х300) | F22: =((Скидка!AW20*(100-Скидка!$C$3))*Скидка!$D$4)/100 -> 5743.36 | G22: =((Скидка!AX20*(100-Скидка!$C$3))*Скидка!$D$4)/100 -> 6789.44 | M22: 010.БТФ.163 (1600х27х300) | O22: =((Скидка!BF20*(100-Скидка!$C$3))*Скидка!$D$4)/100 -> 7680.96 | P22: =((Скидка!BG20*(100-Скидка!$C$3))*Скидка!$D$4)/100 -> 8737.12
E23: 010.БТБ.803 (800х27х300) | F23: =((Скидка!AW21*(100-Скидка!$C$3))*Скидка!$D$4)/100 -> 5809.44 | G23: =((Скидка!AX21*(100-Скидка!$C$3))*Скидка!$D$4)/100 -> 6855.52 | M23: 010.БТФ.183 (1800х27х300) | O23: =((Скидка!BF21*(100-Скидка!$C$3))*Скидка!$D$4)/100 -> 9120.16 | P23: =((Скидка!BG21*(100-Скидка!$C$3))*Скидка!$D$4)/100 -> 10700.48
E25: 010.БТБ.584 (580х27х400) | F25: =((Скидка!AW23*(100-Скидка!$C$3))*Скидка!$D$4)/100 -> 5306.56 | G25: =((Скидка!AX23*(100-Скидка!$C$3))*Скидка!$D$4)/100 -> 6332.48
E26: 010.БТБ.604 (600х27х400) | F26: =((Скидка!AW24*(100-Скидка!$C$3))*Скидка!$D$4)/100 -> 5349.12 | G26: =((Скидка!AX24*(100-Скидка!$C$3))*Скидка!$D$4)/100 -> 6376.16 | M26: 010.БТФ.104 (1000х27х400) | O26: =((Скидка!BF24*(100-Скидка!$C$3))*Скидка!$D$4)/100 -> 6241.76 | P26: =((Скидка!BG24*(100-Скидка!$C$3))*Скидка!$D$4)/100 -> 7264.32
E27: 010.БТБ.684 (680х27х400) | F27: =((Скидка!AW25*(100-Скидка!$C$3))*Скидка!$D$4)/100 -> 5530.56 | G27: =((Скидка!AX25*(100-Скидка!$C$3))*Скидка!$D$4)/100 -> 6554.24 | M27: 010.БТФ.124 (1200х27х400) | O27: =((Скидка!BF25*(100-Скидка!$C$3))*Скидка!$D$4)/100 -> 6725.6 | P27: =((Скидка!BG25*(100-Скидка!$C$3))*Скидка!$D$4)/100 -> 7751.52
E28: 010.БТБ.704 (700х27х400) | F28: =((Скидка!AW26*(100-Скидка!$C$3))*Скидка!$D$4)/100 -> 5574.24 | G28: =((Скидка!AX26*(100-Скидка!$C$3))*Скидка!$D$4)/100 -> 6597.92 | M28: 010.БТФ.144 (1400х27х400) | O28: =((Скидка!BF26*(100-Скидка!$C$3))*Скидка!$D$4)/100 -> 7493.92 | P28: =((Скидка!BG26*(100-Скидка!$C$3))*Скидка!$D$4)/100 -> 8516.48
E29: 010.БТБ.784 (780х27х400) | F29: =((Скидка!AW27*(100-Скидка!$C$3))*Скидка!$D$4)/100 -> 5755.68 | G29: =((Скидка!AX27*(100-Скидка!$C$3))*Скидка!$D$4)/100 -> 6776 | M29: 010.БТФ.164 (1600х27х400) | O29: =((Скидка!BF27*(100-Скидка!$C$3))*Скидка!$D$4)/100 -> 8275.68 | P29: =((Скидка!BG27*(100-Скидка!$C$3))*Скидка!$D$4)/100 -> 9459.52
E30: 010.БТБ.804 (800х27х400) | F30: =((Скидка!AW28*(100-Скидка!$C$3))*Скидка!$D$4)/100 -> 5796 | G30: =((Скидка!AX28*(100-Скидка!$C$3))*Скидка!$D$4)/100 -> 6820.8 | M30: 010.БТФ.184 (1800х27х400) | O30: =((Скидка!BF28*(100-Скидка!$C$3))*Скидка!$D$4)/100 -> 9804.48 | P30: =((Скидка!BG28*(100-Скидка!$C$3))*Скидка!$D$4)/100 -> 11753.28
E32: 010.БТБ.585 (580х27х500) | F32: =((Скидка!AW30*(100-Скидка!$C$3))*Скидка!$D$4)/100 -> 5418.56 | G32: =((Скидка!AX30*(100-Скидка!$C$3))*Скидка!$D$4)/100 -> 6442.24
E33: 010.БТБ.605 (600х27х500) | F33: =((Скидка!AW31*(100-Скидка!$C$3))*Скидка!$D$4)/100 -> 5467.84 | G33: =((Скидка!AX31*(100-Скидка!$C$3))*Скидка!$D$4)/100 -> 6490.4 | M33: 010.БТФ.105 (1000х27х500) | O33: =((Скидка!BF31*(100-Скидка!$C$3))*Скидка!$D$4)/100 -> 6432.16 | P33: =((Скидка!BG31*(100-Скидка!$C$3))*Скидка!$D$4)/100 -> 7454.72
E34: 010.БТБ.685 (680х27х500) | F34: =((Скидка!AW32*(100-Скидка!$C$3))*Скидка!$D$4)/100 -> 5564.16 | G34: =((Скидка!AX32*(100-Скидка!$C$3))*Скидка!$D$4)/100 -> 6588.96 | M34: 010.БТФ.125 (1200х27х500) | O34: =((Скидка!BF32*(100-Скидка!$C$3))*Скидка!$D$4)/100 -> 6949.6 | P34: =((Скидка!BG32*(100-Скидка!$C$3))*Скидка!$D$4)/100 -> 7980
E35: 010.БТБ.705 (700х27х500) | F35: =((Скидка!AW33*(100-Скидка!$C$3))*Скидка!$D$4)/100 -> 5710.88 | G35: =((Скидка!AX33*(100-Скидка!$C$3))*Скидка!$D$4)/100 -> 6731.2 | M35: 010.БТФ.145 (1400х27х500) | O35: =((Скидка!BF33*(100-Скидка!$C$3))*Скидка!$D$4)/100 -> 8086.4 | P35: =((Скидка!BG33*(100-Скидка!$C$3))*Скидка!$D$4)/100 -> 9125.76
E36: 010.БТБ.785 (780х27х500) | F36: =((Скидка!AW34*(100-Скидка!$C$3))*Скидка!$D$4)/100 -> 5903.52 | G36: =((Скидка!AX34*(100-Скидка!$C$3))*Скидка!$D$4)/100 -> 6923.84 | M36: 010.БТФ.165 (1600х27х500) | O36: =((Скидка!BF34*(100-Скидка!$C$3))*Скидка!$D$4)/100 -> 8574.72 | P36: =((Скидка!BG34*(100-Скидка!$C$3))*Скидка!$D$4)/100 -> 9870.56
E37: 010.БТБ.805 (800х27х500) | F37: =((Скидка!AW35*(100-Скидка!$C$3))*Скидка!$D$4)/100 -> 5939.36 | G37: =((Скидка!AX35*(100-Скидка!$C$3))*Скидка!$D$4)/100 -> 6972 | M37: 010.БТФ.185 (1800х27х500) | O37: =((Скидка!BF35*(100-Скидка!$C$3))*Скидка!$D$4)/100 -> 10146.08 | P37: =((Скидка!BG35*(100-Скидка!$C$3))*Скидка!$D$4)/100 -> 12213.6
B39: Барьеры фронтальные с карманами, односторонние | H39: Барьеры фронтальные для сдвоенного бенч
B41: Способ установки: крепление к столешнице снизу | H41: Способ установки: крепление к столешнице снизу
B42: Толщина столешницы 25мм | H42: Толщина столешницы 25мм
F43: Порошк. покрытие | G43: Металл глянец | O43: Порошк. покрытие | P43: Металл глянец
M45: 010.БТБГ.103 (1000х27х300) | O45: =((Скидка!BF41*(100-Скидка!$C$3))*Скидка!$D$4)/100 -> 5939.36 | P45: =((Скидка!BG41*(100-Скидка!$C$3))*Скидка!$D$4)/100 -> 6992.16
M46: 010.БТБГ.123 (1200х27х300) | O46: =((Скидка!BF42*(100-Скидка!$C$3))*Скидка!$D$4)/100 -> 6315.68 | P46: =((Скидка!BG42*(100-Скидка!$C$3))*Скидка!$D$4)/100 -> 7367.36
E47: 010.БТК.104 (1000х27х400) | F47: =((Скидка!AW43*(100-Скидка!$C$3))*Скидка!$D$4)/100 -> 7422.24 | G47: =((Скидка!AX43*(100-Скидка!$C$3))*Скидка!$D$4)/100 -> 8445.92 | M47: 010.БТБГ.143 (1400х27х300) | O47: =((Скидка!BF43*(100-Скидка!$C$3))*Скидка!$D$4)/100 -> 6995.52 | P47: =((Скидка!BG43*(100-Скидка!$C$3))*Скидка!$D$4)/100 -> 8058.4
E48: 010.БТК.124 (1200х27х400) | F48: =((Скидка!AW44*(100-Скидка!$C$3))*Скидка!$D$4)/100 -> 7859.04 | G48: =((Скидка!AX44*(100-Скидка!$C$3))*Скидка!$D$4)/100 -> 8884.96 | M48: 010.БТБГ.163 (1600х27х300) | O48: =((Скидка!BF44*(100-Скидка!$C$3))*Скидка!$D$4)/100 -> 7664.16 | P48: =((Скидка!BG44*(100-Скидка!$C$3))*Скидка!$D$4)/100 -> 8711.36
E49: 010.БТК.144 (1400х27х400) | F49: =((Скидка!AW45*(100-Скидка!$C$3))*Скидка!$D$4)/100 -> 8300.32 | G49: =((Скидка!AX45*(100-Скидка!$C$3))*Скидка!$D$4)/100 -> 9327.36 | M49: 010.БТБГ.183 (1800х27х300) | O49: =((Скидка!BF45*(100-Скидка!$C$3))*Скидка!$D$4)/100 -> 9072 | P49: =((Скидка!BG45*(100-Скидка!$C$3))*Скидка!$D$4)/100 -> 10669.12
E50: 010.БТК.164 (1600х27х400) | F50: =((Скидка!AW46*(100-Скидка!$C$3))*Скидка!$D$4)/100 -> 9620.8 | G50: =((Скидка!AX46*(100-Скидка!$C$3))*Скидка!$D$4)/100 -> 10638.88
E51: 010.БТК.184 (1800х27х400) | F51: =((Скидка!AW47*(100-Скидка!$C$3))*Скидка!$D$4)/100 -> 11163.04 | G51: =((Скидка!AX47*(100-Скидка!$C$3))*Скидка!$D$4)/100 -> 12660.48 | M51: 010.БТБГ.104 (1000х27х400) | O51: =((Скидка!BF47*(100-Скидка!$C$3))*Скидка!$D$4)/100 -> 6210.4 | P51: =((Скидка!BG47*(100-Скидка!$C$3))*Скидка!$D$4)/100 -> 7304.64
M52: 010.БТБГ.124 (1200х27х400) | O52: =((Скидка!BF48*(100-Скидка!$C$3))*Скидка!$D$4)/100 -> 6704.32 | P52: =((Скидка!BG48*(100-Скидка!$C$3))*Скидка!$D$4)/100 -> 7835.52
M53: 010.БТБГ.144 (1400х27х400) | O53: =((Скидка!BF49*(100-Скидка!$C$3))*Скидка!$D$4)/100 -> 7470.4 | P53: =((Скидка!BG49*(100-Скидка!$C$3))*Скидка!$D$4)/100 -> 8741.6
M54: 010.БТБГ.164 (1600х27х400) | O54: =((Скидка!BF50*(100-Скидка!$C$3))*Скидка!$D$4)/100 -> 8255.52 | P54: =((Скидка!BG50*(100-Скидка!$C$3))*Скидка!$D$4)/100 -> 9647.68
E55: 010.БТК.105 (1000х27х500) | F55: =((Скидка!AW51*(100-Скидка!$C$3))*Скидка!$D$4)/100 -> 7607.04 | G55: =((Скидка!AX51*(100-Скидка!$C$3))*Скидка!$D$4)/100 -> 8654.24 | M55: 010.БТБГ.184 (1800х27х400) | O55: =((Скидка!BF51*(100-Скидка!$C$3))*Скидка!$D$4)/100 -> 9766.4 | P55: =((Скидка!BG51*(100-Скидка!$C$3))*Скидка!$D$4)/100 -> 12034.4
E56: 010.БТК.125 (1200х27х500) | F56: =((Скидка!AW52*(100-Скидка!$C$3))*Скидка!$D$4)/100 -> 8081.92 | G56: =((Скидка!AX52*(100-Скидка!$C$3))*Скидка!$D$4)/100 -> 9121.28
E57: 010.БТК.145 (1400х27х500) | F57: =((Скидка!AW53*(100-Скидка!$C$3))*Скидка!$D$4)/100 -> 8569.12 | G57: =((Скидка!AX53*(100-Скидка!$C$3))*Скидка!$D$4)/100 -> 9593.92 | M57: 010.БТБГ.105 (1000х27х500) | O57: =((Скидка!BF53*(100-Скидка!$C$3))*Скидка!$D$4)/100 -> 6401.92 | P57: =((Скидка!BG53*(100-Скидка!$C$3))*Скидка!$D$4)/100 -> 7560
E58: 010.БТК.165 (1600х27х500) | F58: =((Скидка!AW54*(100-Скидка!$C$3))*Скидка!$D$4)/100 -> 9926.56 | G58: =((Скидка!AX54*(100-Скидка!$C$3))*Скидка!$D$4)/100 -> 10943.52 | M58: 010.БТБГ.125 (1200х27х500) | O58: =((Скидка!BF54*(100-Скидка!$C$3))*Скидка!$D$4)/100 -> 6918.24 | P58: =((Скидка!BG54*(100-Скидка!$C$3))*Скидка!$D$4)/100 -> 8143.52
E59: 010.БТК.185 (1800х27х500) | F59: =((Скидка!AW55*(100-Скидка!$C$3))*Скидка!$D$4)/100 -> 11500.16 | G59: =((Скидка!AX55*(100-Скидка!$C$3))*Скидка!$D$4)/100 -> 13004.32 | M59: 010.БТБГ.145 (1400х27х500) | O59: =((Скидка!BF55*(100-Скидка!$C$3))*Скидка!$D$4)/100 -> 8074.08 | P59: =((Скидка!BG55*(100-Скидка!$C$3))*Скидка!$D$4)/100 -> 9089.92
M60: 010.БТБГ.165 (1600х27х500) | O60: =((Скидка!BF56*(100-Скидка!$C$3))*Скидка!$D$4)/100 -> 8543.36 | P60: =((Скидка!BG56*(100-Скидка!$C$3))*Скидка!$D$4)/100 -> 10058.72
M61: 010.БТБГ.185 (1800х27х500) | O61: =((Скидка!BF57*(100-Скидка!$C$3))*Скидка!$D$4)/100 -> 10113.6 | P61: =((Скидка!BG57*(100-Скидка!$C$3))*Скидка!$D$4)/100 -> 13950.72
B63: Барьеры фронтальные для сдвоенного бенч с карманами, двухсторонние | H63: Барьеры тканевые торцевые
B65: Способ установки: крепление к столешнице снизу | H65: Способ установки: крепление к столешнице снизу
B66: Толщина столешницы 25мм | H66: Толщина столешницы 25мм
F67: Порошк. покрытие | G67: Металл глянец
E69: 010.БТДК.104 (1000х27х400) | F69: =((Скидка!AW63*(100-Скидка!$C$3))*Скидка!$D$4)/100 -> 7554.4 | G69: =((Скидка!AX63*(100-Скидка!$C$3))*Скидка!$D$4)/100 -> 8588.16
E70: 010.БТДК.124 (1200х27х400) | F70: =((Скидка!AW64*(100-Скидка!$C$3))*Скидка!$D$4)/100 -> 7994.56 | G70: =((Скидка!AX64*(100-Скидка!$C$3))*Скидка!$D$4)/100 -> 9040.64
E71: 010.БТДК.144 (1400х27х400) | F71: =((Скидка!AW65*(100-Скидка!$C$3))*Скидка!$D$4)/100 -> 8432.48 | G71: =((Скидка!AX65*(100-Скидка!$C$3))*Скидка!$D$4)/100 -> 9462.88
E72: 010.БТДК.164 (1600х27х400) | F72: =((Скидка!AW66*(100-Скидка!$C$3))*Скидка!$D$4)/100 -> 9792.16 | G72: =((Скидка!AX66*(100-Скидка!$C$3))*Скидка!$D$4)/100 -> 10804.64 | M72: 010.БТТ.604 (600х27х400) | O72: =((Скидка!BF66*(100-Скидка!$C$3))*Скидка!$D$4)/100 -> 4888.8 | P72: =((Скидка!BG66*(100-Скидка!$C$3))*Скидка!$D$4)/100 -> 5695.2
E73: 010.БТДК.184 (1800х27х400) | F73: =((Скидка!AW67*(100-Скидка!$C$3))*Скидка!$D$4)/100 -> 11310.88 | G73: =((Скидка!AX67*(100-Скидка!$C$3))*Скидка!$D$4)/100 -> 12809.44 | M73: 010.БТТ.704 (700х27х400) | O73: =((Скидка!BF67*(100-Скидка!$C$3))*Скидка!$D$4)/100 -> 5239.36 | P73: =((Скидка!BG67*(100-Скидка!$C$3))*Скидка!$D$4)/100 -> 5871.04
M74: 010.БТТ.804 (800х27х400) | O74: =((Скидка!BF68*(100-Скидка!$C$3))*Скидка!$D$4)/100 -> 5587.68 | P74: =((Скидка!BG68*(100-Скидка!$C$3))*Скидка!$D$4)/100 -> 6209.28
M75: 010.БТТ.605 (600х27х500) | O75: =((Скидка!BF69*(100-Скидка!$C$3))*Скидка!$D$4)/100 -> 5107.2 | P75: =((Скидка!BG69*(100-Скидка!$C$3))*Скидка!$D$4)/100 -> 5891.2
E76: 010.БТДК.105 (1000х27х500) | F76: =((Скидка!AW69*(100-Скидка!$C$3))*Скидка!$D$4)/100 -> 7745.92 | G76: =((Скидка!AX69*(100-Скидка!$C$3))*Скидка!$D$4)/100 -> 8789.76 | M76: 010.БТТ.705 (700х27х500) | O76: =((Скидка!BF70*(100-Скидка!$C$3))*Скидка!$D$4)/100 -> 5489.12 | P76: =((Скидка!BG70*(100-Скидка!$C$3))*Скидка!$D$4)/100 -> 6273.12
E77: 010.БТДК.125 (1200х27х500) | F77: =((Скидка!AW70*(100-Скидка!$C$3))*Скидка!$D$4)/100 -> 8214.08 | G77: =((Скидка!AX70*(100-Скидка!$C$3))*Скидка!$D$4)/100 -> 9269.12 | M77: 010.БТТ.805 (800х27х500) | O77: =((Скидка!BF71*(100-Скидка!$C$3))*Скидка!$D$4)/100 -> 5867.68 | P77: =((Скидка!BG71*(100-Скидка!$C$3))*Скидка!$D$4)/100 -> 6651.68
E78: 010.БТДК.145 (1400х27х500) | F78: =((Скидка!AW71*(100-Скидка!$C$3))*Скидка!$D$4)/100 -> 8686.72 | G78: =((Скидка!AX71*(100-Скидка!$C$3))*Скидка!$D$4)/100 -> 9729.44
E79: 010.БТДК.165 (1600х27х500) | F79: =((Скидка!AW72*(100-Скидка!$C$3))*Скидка!$D$4)/100 -> 10090.08 | G79: =((Скидка!AX72*(100-Скидка!$C$3))*Скидка!$D$4)/100 -> 11109.28
E80: 010.БТДК.185 (1800х27х500) | F80: =((Скидка!AW73*(100-Скидка!$C$3))*Скидка!$D$4)/100 -> 11649.12 | G80: =((Скидка!AX73*(100-Скидка!$C$3))*Скидка!$D$4)/100 -> 13164.48
B82: Доступные для изготовления цвета металлических креплений по данному прайсу - алюминий матовый, черный, белый, графит.
B83: Производитель оставляет за собой право изменять конструкцию и фурнитуру без изменения внешнего вида и назначения изделия.
B84: В комплект барьера входит фурнитура для крепления к столешнице.
B85: * В одном изделии (перегородки, барьеры) возможно комбинировать любые два декора обивок из прайс-листа**
B86: ** ВАЖНО! Обивки Ricco/Stone/Violet - комбинируются только между собой!
B87: ***Размер скидки на комбинированные изделия уменьшается на 5%.

Sheet Барьеры SOFToffice - Фетр
B8: НАСТОЛЬНЫЕ БАРЬЕРЫ - ФЕТР | O8: ='Перегородки SOFToffice'!Q8 -> 45376
P10: стр. 4
B11: Настольные барьеры с мягким наполнением FETR
B12: Барьеры из фетра, боковые | H12: Барьеры из фетра, фронтальные
B14: Способ установки: крепление к столешнице снизу | H14: Способ установки: крепление к столешнице снизу
B15: Толщина столешницы 25мм | H15: Толщина столешницы 25мм
F16: Порошк. покрытие | G16: Металл глянец | O16: Порошк. покрытие | P16: Металл глянец
E18: 010.ФБ.583 (580х20х300) | F18: =((Скидка!BN16*(100-Скидка!$C$3))*Скидка!$D$4)/100 -> 5691.84 | G18: =((Скидка!BO16*(100-Скидка!$C$3))*Скидка!$D$4)/100 -> 6735.68
E19: 010.ФБ.603 (600х20х300) | F19: =((Скидка!BN17*(100-Скидка!$C$3))*Скидка!$D$4)/100 -> 5738.88 | G19: =((Скидка!BO17*(100-Скидка!$C$3))*Скидка!$D$4)/100 -> 6782.72
E20: 010.ФБ.683 (680х20х300) | F20: =((Скидка!BN18*(100-Скидка!$C$3))*Скидка!$D$4)/100 -> 5975.2 | G20: =((Скидка!BO18*(100-Скидка!$C$3))*Скидка!$D$4)/100 -> 7019.04 | M20: 010.ФФ.103 (1000х20х300) | O20: =((Скидка!BW18*(100-Скидка!$C$3))*Скидка!$D$4)/100 -> 7234.08 | P20: =((Скидка!BX18*(100-Скидка!$C$3))*Скидка!$D$4)/100 -> 8277.92
E21: 010.ФБ.703 (700х20х300) | F21: =((Скидка!BN19*(100-Скидка!$C$3))*Скидка!$D$4)/100 -> 6040.16 | G21: =((Скидка!BO19*(100-Скидка!$C$3))*Скидка!$D$4)/100 -> 7084 | M21: 010.ФФ.123 (1200х20х300) | O21: =((Скидка!BW19*(100-Скидка!$C$3))*Скидка!$D$4)/100 -> 7832.16 | P21: =((Скидка!BX19*(100-Скидка!$C$3))*Скидка!$D$4)/100 -> 8876
E22: 010.ФБ.783 (780х20х300) | F22: =((Скидка!BN20*(100-Скидка!$C$3))*Скидка!$D$4)/100 -> 6278.72 | G22: =((Скидка!BO20*(100-Скидка!$C$3))*Скидка!$D$4)/100 -> 7322.56 | M22: 010.ФФ.143 (1400х20х300) | O22: =((Скидка!BW20*(100-Скидка!$C$3))*Скидка!$D$4)/100 -> 8759.52 | P22: =((Скидка!BX20*(100-Скидка!$C$3))*Скидка!$D$4)/100 -> 9803.36
E23: 010.ФБ.803 (800х20х300) | F23: =((Скидка!BN21*(100-Скидка!$C$3))*Скидка!$D$4)/100 -> 6332.48 | G23: =((Скидка!BO21*(100-Скидка!$C$3))*Скидка!$D$4)/100 -> 7376.32 | M23: 010.ФФ.163 (1600х20х300) | O23: =((Скидка!BW21*(100-Скидка!$C$3))*Скидка!$D$4)/100 -> 10729.6 | P23: =((Скидка!BX21*(100-Скидка!$C$3))*Скидка!$D$4)/100 -> 12295.36
E25: 010.ФБ.584 (580х20х400) | F25: =((Скидка!BN23*(100-Скидка!$C$3))*Скидка!$D$4)/100 -> 5761.28 | G25: =((Скидка!BO23*(100-Скидка!$C$3))*Скидка!$D$4)/100 -> 6805.12
E26: 010.ФБ.604 (600х20х400) | F26: =((Скидка!BN24*(100-Скидка!$C$3))*Скидка!$D$4)/100 -> 5825.12 | G26: =((Скидка!BO24*(100-Скидка!$C$3))*Скидка!$D$4)/100 -> 6868.96 | M26: 010.ФФ.104 (1000х20х400) | O26: =((Скидка!BW24*(100-Скидка!$C$3))*Скидка!$D$4)/100 -> 7328.16 | P26: =((Скидка!BX24*(100-Скидка!$C$3))*Скидка!$D$4)/100 -> 8372
E27: 010.ФБ.684 (680х20х400) | F27: =((Скидка!BN25*(100-Скидка!$C$3))*Скидка!$D$4)/100 -> 6076 | G27: =((Скидка!BO25*(100-Скидка!$C$3))*Скидка!$D$4)/100 -> 7119.84 | M27: 010.ФФ.124 (1200х20х400) | O27: =((Скидка!BW25*(100-Скидка!$C$3))*Скидка!$D$4)/100 -> 8009.12 | P27: =((Скидка!BX25*(100-Скидка!$C$3))*Скидка!$D$4)/100 -> 9052.96
E28: 010.ФБ.704 (700х20х400) | F28: =((Скидка!BN26*(100-Скидка!$C$3))*Скидка!$D$4)/100 -> 6133.12 | G28: =((Скидка!BO26*(100-Скидка!$C$3))*Скидка!$D$4)/100 -> 7176.96 | M28: 010.ФФ.144 (1400х20х400) | O28: =((Скидка!BW26*(100-Скидка!$C$3))*Скидка!$D$4)/100 -> 8955.52 | P28: =((Скидка!BX26*(100-Скидка!$C$3))*Скидка!$D$4)/100 -> 9999.36
E29: 010.ФБ.784 (780х20х400) | F29: =((Скидка!BN27*(100-Скидка!$C$3))*Скидка!$D$4)/100 -> 6392.96 | G29: =((Скидка!BO27*(100-Скидка!$C$3))*Скидка!$D$4)/100 -> 7436.8 | M29: 010.ФФ.164 (1600х20х400) | O29: =((Скидка!BW27*(100-Скидка!$C$3))*Скидка!$D$4)/100 -> 10964.8 | P29: =((Скидка!BX27*(100-Скидка!$C$3))*Скидка!$D$4)/100 -> 12530.56
E30: 010.ФБ.804 (800х20х400) | F30: =((Скидка!BN28*(100-Скидка!$C$3))*Скидка!$D$4)/100 -> 6450.08 | G30: =((Скидка!BO28*(100-Скидка!$C$3))*Скидка!$D$4)/100 -> 7493.92
E32: 010.ФБ.585 (580х20х500) | F32: =((Скидка!BN30*(100-Скидка!$C$3))*Скидка!$D$4)/100 -> 6883.52 | G32: =((Скидка!BO30*(100-Скидка!$C$3))*Скидка!$D$4)/100 -> 7927.36 | M32: 010.ФФ.105 (1000х20х500) | O32: =((Скидка!BW30*(100-Скидка!$C$3))*Скидка!$D$4)/100 -> 7474.88 | P32: =((Скидка!BX30*(100-Скидка!$C$3))*Скидка!$D$4)/100 -> 8518.72
E33: 010.ФБ.605 (600х20х500) | F33: =((Скидка!BN31*(100-Скидка!$C$3))*Скидка!$D$4)/100 -> 6886.88 | G33: =((Скидка!BO31*(100-Скидка!$C$3))*Скидка!$D$4)/100 -> 7930.72 | M33: 010.ФФ.125 (1200х20х500) | O33: =((Скидка!BW31*(100-Скидка!$C$3))*Скидка!$D$4)/100 -> 8183.84 | P33: =((Скидка!BX31*(100-Скидка!$C$3))*Скидка!$D$4)/100 -> 9227.68
E34: 010.ФБ.685 (680х20х500) | F34: =((Скидка!BN32*(100-Скидка!$C$3))*Скидка!$D$4)/100 -> 6946.24 | G34: =((Скидка!BO32*(100-Скидка!$C$3))*Скидка!$D$4)/100 -> 7990.08 | M34: 010.ФФ.145 (1400х20х500) | O34: =((Скидка!BW32*(100-Скидка!$C$3))*Скидка!$D$4)/100 -> 9180.64 | P34: =((Скидка!BX32*(100-Скидка!$C$3))*Скидка!$D$4)/100 -> 10224.48
E35: 010.ФБ.705 (700х20х500) | F35: =((Скидка!BN33*(100-Скидка!$C$3))*Скидка!$D$4)/100 -> 6959.68 | G35: =((Скидка!BO33*(100-Скидка!$C$3))*Скидка!$D$4)/100 -> 8003.52 | M35: 010.ФФ.165 (1600х20х500) | O35: =((Скидка!BW33*(100-Скидка!$C$3))*Скидка!$D$4)/100 -> 11200 | P35: =((Скидка!BX33*(100-Скидка!$C$3))*Скидка!$D$4)/100 -> 12765.76
E36: 010.ФБ.785 (780х20х500) | F36: =((Скидка!BN34*(100-Скидка!$C$3))*Скидка!$D$4)/100 -> 7019.04 | G36: =((Скидка!BO34*(100-Скидка!$C$3))*Скидка!$D$4)/100 -> 8062.88
E37: 010.ФБ.805 (800х20х500) | F37: =((Скидка!BN35*(100-Скидка!$C$3))*Скидка!$D$4)/100 -> 7032.48 | G37: =((Скидка!BO35*(100-Скидка!$C$3))*Скидка!$D$4)/100 -> 8076.32
B39: Барьеры из фетра, для сдвоенного бенч | H39: Барьеры из фетра, торцевые
B41: Способ установки: крепление к столешнице снизу | H41: Способ установки: крепление к столешнице снизу
B42: Толщина столешницы 25мм | H42: Толщина столешницы 25мм
F43: Порошк. покрытие | G43: Металл глянец | O43: Порошк. покрытие | P43: Металл глянец
E45: 010.ФДБ.103 (1000х20х300) | F45: =((Скидка!BN42*(100-Скидка!$C$3))*Скидка!$D$4)/100 -> 7207.2 | G45: =((Скидка!BO42*(100-Скидка!$C$3))*Скидка!$D$4)/100 -> 8237.6
E46: 010.ФДБ.123 (1200х20х300) | F46: =((Скидка!BN43*(100-Скидка!$C$3))*Скидка!$D$4)/100 -> 7805.28 | G46: =((Скидка!BO43*(100-Скидка!$C$3))*Скидка!$D$4)/100 -> 8835.68 | M46: 010.ФТ.603 (600х20х300) | O46: =((Скидка!BW43*(100-Скидка!$C$3))*Скидка!$D$4)/100 -> 5163.2 | P46: =((Скидка!BX43*(100-Скидка!$C$3))*Скидка!$D$4)/100 -> 6084.96
E47: 010.ФДБ.143 (1400х20х300) | F47: =((Скидка!BN44*(100-Скидка!$C$3))*Скидка!$D$4)/100 -> 8732.64 | G47: =((Скидка!BO44*(100-Скидка!$C$3))*Скидка!$D$4)/100 -> 9764.16 | M47: 010.ФТ.703 (700х20х300) | O47: =((Скидка!BW44*(100-Скидка!$C$3))*Скидка!$D$4)/100 -> 5464.48 | P47: =((Скидка!BX44*(100-Скидка!$C$3))*Скидка!$D$4)/100 -> 6386.24
E48: 010.ФДБ.163 (1600х20х300) | F48: =((Скидка!BN45*(100-Скидка!$C$3))*Скидка!$D$4)/100 -> 10689.28 | G48: =((Скидка!BO45*(100-Скидка!$C$3))*Скидка!$D$4)/100 -> 12236 | M48: 010.ФТ.803 (800х20х300) | O48: =((Скидка!BW45*(100-Скидка!$C$3))*Скидка!$D$4)/100 -> 5757.92 | P48: =((Скидка!BX45*(100-Скидка!$C$3))*Скидка!$D$4)/100 -> 6678.56
E50: 010.ФДБ.104 (1000х20х400) | F50: =((Скидка!BN47*(100-Скидка!$C$3))*Скидка!$D$4)/100 -> 7301.28 | G50: =((Скидка!BO47*(100-Скидка!$C$3))*Скидка!$D$4)/100 -> 8332.8
E51: 010.ФДБ.124 (1200х20х400) | F51: =((Скидка!BN48*(100-Скидка!$C$3))*Скидка!$D$4)/100 -> 7982.24 | G51: =((Скидка!BO48*(100-Скидка!$C$3))*Скидка!$D$4)/100 -> 9012.64 | M51: 010.ФТ.604 (600х20х400) | O51: =((Скидка!BW48*(100-Скидка!$C$3))*Скидка!$D$4)/100 -> 5249.44 | P51: =((Скидка!BX48*(100-Скидка!$C$3))*Скидка!$D$4)/100 -> 6171.2
E52: 010.ФДБ.144 (1400х20х400) | F52: =((Скидка!BN49*(100-Скидка!$C$3))*Скидка!$D$4)/100 -> 8928.64 | G52: =((Скидка!BO49*(100-Скидка!$C$3))*Скидка!$D$4)/100 -> 9960.16 | M52: 010.ФТ.704 (700х20х400) | O52: =((Скидка!BW49*(100-Скидка!$C$3))*Скидка!$D$4)/100 -> 5557.44 | P52: =((Скидка!BX49*(100-Скидка!$C$3))*Скидка!$D$4)/100 -> 6479.2
E53: 010.ФДБ.164 (1600х20х400) | F53: =((Скидка!BN50*(100-Скидка!$C$3))*Скидка!$D$4)/100 -> 10924.48 | G53: =((Скидка!BO50*(100-Скидка!$C$3))*Скидка!$D$4)/100 -> 12470.08 | M53: 010.ФТ.804 (800х20х400) | O53: =((Скидка!BW50*(100-Скидка!$C$3))*Скидка!$D$4)/100 -> 5874.4 | P53: =((Скидка!BX50*(100-Скидка!$C$3))*Скидка!$D$4)/100 -> 6796.16
E55: 010.ФДБ.105 (1000х20х500) | F55: =((Скидка!BN52*(100-Скидка!$C$3))*Скидка!$D$4)/100 -> 7448 | G55: =((Скидка!BO52*(100-Скидка!$C$3))*Скидка!$D$4)/100 -> 8479.52
E56: 010.ФДБ.125 (1200х20х500) | F56: =((Скидка!BN53*(100-Скидка!$C$3))*Скидка!$D$4)/100 -> 8156.96 | G56: =((Скидка!BO53*(100-Скидка!$C$3))*Скидка!$D$4)/100 -> 9187.36 | M56: 010.ФТ.605 (600х20х500) | O56: =((Скидка!BW53*(100-Скидка!$C$3))*Скидка!$D$4)/100 -> 6311.2 | P56: =((Скидка!BX53*(100-Скидка!$C$3))*Скидка!$D$4)/100 -> 7232.96
E57: 010.ФДБ.145 (1400х20х500) | F57: =((Скидка!BN54*(100-Скидка!$C$3))*Скидка!$D$4)/100 -> 9153.76 | G57: =((Скидка!BO54*(100-Скидка!$C$3))*Скидка!$D$4)/100 -> 10184.16 | M57: 010.ФТ.705 (700х20х500) | O57: =((Скидка!BW54*(100-Скидка!$C$3))*Скидка!$D$4)/100 -> 6385.12 | P57: =((Скидка!BX54*(100-Скидка!$C$3))*Скидка!$D$4)/100 -> 7305.76
E58: 010.ФДБ.165 (1600х20х500) | F58: =((Скидка!BN55*(100-Скидка!$C$3))*Скидка!$D$4)/100 -> 11159.68 | G58: =((Скидка!BO55*(100-Скидка!$C$3))*Скидка!$D$4)/100 -> 12705.28 | M58: 010.ФТ.805 (800х20х500) | O58: =((Скидка!BW55*(100-Скидка!$C$3))*Скидка!$D$4)/100 -> 6456.8 | P58: =((Скидка!BX55*(100-Скидка!$C$3))*Скидка!$D$4)/100 -> 7378.56
B62: Доступные для изготовления цвета металлических креплений по данному прайсу - алюминий матовый, черный, белый, графит.
B63: Производитель оставляет за собой право изменять конструкцию и фурнитуру без изменения внешнего вида и назначения изделия.
B64: В комплект барьера входит фурнитура для крепления к столешнице.

Sheet Барьеры Оргстекло
B8: НАСТОЛЬНЫЕ БАРЬЕРЫ - ОРГСТЕКЛО | P8: ='Перегородки SOFToffice'!Q8 -> 45376
Q10: стр. 5
B11: Барьеры Оргстекло, фронтальные AVANCE*
E16: Белый глянец | F16: Orange, Kiwi | J16: Белый глянец | K16: Orange, Kiwi | P16: Белый глянец | Q16: Orange, Kiwi
B18: 6БР.050.1 | C18: (900х4х300) | E18: =((Скидка!CD17*(100-Скидка!$C$3))*Скидка!$D$4)/100 -> 5754.56 | F18: =((Скидка!CE17*(100-Скидка!$C$3))*Скидка!$D$4)/100 -> 9266.88 | G18: 6БР.050.2 | H18: (900х4х300) | J18: =((Скидка!CJ17*(100-Скидка!$C$3))*Скидка!$D$4)/100 -> 5806.08 | K18: =((Скидка!CK17*(100-Скидка!$C$3))*Скидка!$D$4)/100 -> 9266.88 | L18: 6БР.050.3 | O18: (900х4х300) | P18: =((Скидка!CO17*(100-Скидка!$C$3))*Скидка!$D$4)/100 -> 5989.76 | Q18: =((Скидка!CP17*(100-Скидка!$C$3))*Скидка!$D$4)/100 -> 9266.88
B19: 6БР.010.1 | C19: (1100х4х300) | E19: =((Скидка!CD18*(100-Скидка!$C$3))*Скидка!$D$4)/100 -> 6349.28 | F19: =((Скидка!CE18*(100-Скидка!$C$3))*Скидка!$D$4)/100 -> 10099.04 | G19: 6БР.010.2 | H19: (1100х4х300) | J19: =((Скидка!CJ18*(100-Скидка!$C$3))*Скидка!$D$4)/100 -> 6426.56 | K19: =((Скидка!CK18*(100-Скидка!$C$3))*Скидка!$D$4)/100 -> 10099.04 | L19: 6БР.010.3 | O19: (1100х4х300) | P19: =((Скидка!CO18*(100-Скидка!$C$3))*Скидка!$D$4)/100 -> 6702.08 | Q19: =((Скидка!CP18*(100-Скидка!$C$3))*Скидка!$D$4)/100 -> 10099.04
B20: 6БР.020.1 | C20: (1300х4х300) | E20: =((Скидка!CD19*(100-Скидка!$C$3))*Скидка!$D$4)/100 -> 7159.04 | F20: =((Скидка!CE19*(100-Скидка!$C$3))*Скидка!$D$4)/100 -> 11447.52 | G20: 6БР.020.2 | H20: (1300х4х300) | J20: =((Скидка!CJ19*(100-Скидка!$C$3))*Скидка!$D$4)/100 -> 7236.32 | K20: =((Скидка!CK19*(100-Скидка!$C$3))*Скидка!$D$4)/100 -> 11447.52 | L20: 6БР.020.3 | O20: (1300х4х300) | P20: =((Скидка!CO19*(100-Скидка!$C$3))*Скидка!$D$4)/100 -> 7511.84 | Q20: =((Скидка!CP19*(100-Скидка!$C$3))*Скидка!$D$4)/100 -> 11447.52
B21: 6БР.030.1 | C21: (1500х4х300) | E21: =((Скидка!CD20*(100-Скидка!$C$3))*Скидка!$D$4)/100 -> 7738.08 | F21: =((Скидка!CE20*(100-Скидка!$C$3))*Скидка!$D$4)/100 -> 12411.84 | G21: 6БР.030.2 | H21: (1500х4х300) | J21: =((Скидка!CJ20*(100-Скидка!$C$3))*Скидка!$D$4)/100 -> 7815.36 | K21: =((Скидка!CK20*(100-Скидка!$C$3))*Скидка!$D$4)/100 -> 12411.84 | L21: 6БР.030.3 | O21: (1500х4х300) | P21: =((Скидка!CO20*(100-Скидка!$C$3))*Скидка!$D$4)/100 -> 8090.88 | Q21: =((Скидка!CP20*(100-Скидка!$C$3))*Скидка!$D$4)/100 -> 12411.84
B22: Барьеры Оргстекло, боковые AVANCE *
E27: Белый глянец | F27: Orange, Kiwi | J27: Белый глянец | K27: Orange, Kiwi | P27: Белый глянец | Q27: Orange, Kiwi
B29: 6БР.040.1 | C29: (600х4х300) | E29: =((Скидка!CD30*(100-Скидка!$C$3))*Скидка!$D$4)/100 -> 4771.2 | F29: =((Скидка!CE30*(100-Скидка!$C$3))*Скидка!$D$4)/100 -> 7629.44 | G29: 6БР.040.2 | I29: (600х4х300) | J29: =((Скидка!CJ30*(100-Скидка!$C$3))*Скидка!$D$4)/100 -> 4822.72 | K29: =((Скидка!CK30*(100-Скидка!$C$3))*Скидка!$D$4)/100 -> 7629.44 | L29: 6БР.040.7 | O29: (600х4х300) | P29: =((Скидка!CO30*(100-Скидка!$C$3))*Скидка!$D$4)/100 -> 4829.44 | Q29: =((Скидка!CP30*(100-Скидка!$C$3))*Скидка!$D$4)/100 -> 7629.44
B30: 6БР.070.1 | C30: (700х4х300) | E30: =((Скидка!CD31*(100-Скидка!$C$3))*Скидка!$D$4)/100 -> 5101.6 | F30: =((Скидка!CE31*(100-Скидка!$C$3))*Скидка!$D$4)/100 -> 8183.84 | G30: 6БР.070.2 | I30: (700х4х300) | J30: =((Скидка!CJ31*(100-Скидка!$C$3))*Скидка!$D$4)/100 -> 5153.12 | K30: =((Скидка!CK31*(100-Скидка!$C$3))*Скидка!$D$4)/100 -> 8237.6 | L30: 6БР.070.7 | O30: (700х4х300) | P30: =((Скидка!CO31*(100-Скидка!$C$3))*Скидка!$D$4)/100 -> 5159.84 | Q30: =((Скидка!CP31*(100-Скидка!$C$3))*Скидка!$D$4)/100 -> 8247.68
B31: БАРЬЕРЫ ОРГСТЕКЛО GLOSS
B32: Барьеры оргстекло боковые | F32: Барьеры оргстекло боковые | J32: Барьеры оргстекло фронтальные | N32: Барьеры оргстекло фронтальные, для сдвоенных бенч-систем
L36: Белый | M36: Orange | P36: Белый | Q36: Orange
L37: глянец | M37: Kiwi | P37: глянец | Q37: Kiwi
J38: 9БР.050.1 (1000х4х300) | L38: =((Скидка!CK37*(100-Скидка!$C$3))*Скидка!$D$4)/100 -> 5218.08 | M38: =((Скидка!CL37*(100-Скидка!$C$3))*Скидка!$D$4)/100 -> 8257.76 | N38: 9БР.050.3 (1000х4х300) | P38: =((Скидка!CO37*(100-Скидка!$C$3))*Скидка!$D$4)/100 -> 5453.28 | Q38: =((Скидка!CP37*(100-Скидка!$C$3))*Скидка!$D$4)/100 -> 8476.16
J39: 9БР.010.1 (1200х4х300) | L39: =((Скидка!CK38*(100-Скидка!$C$3))*Скидка!$D$4)/100 -> 6054.72 | M39: =((Скидка!CL38*(100-Скидка!$C$3))*Скидка!$D$4)/100 -> 9431.52 | N39: 9БР.010.3 (1200х4х300) | P39: =((Скидка!CO38*(100-Скидка!$C$3))*Скидка!$D$4)/100 -> 6407.52 | Q39: =((Скидка!CP38*(100-Скидка!$C$3))*Скидка!$D$4)/100 -> 9760.8
D40: Белый | E40: Orange | H40: Белый | I40: Orange | J40: 9БР.020.1 (1400х4х300) | L40: =((Скидка!CK39*(100-Скидка!$C$3))*Скидка!$D$4)/100 -> 6627.04 | M40: =((Скидка!CL39*(100-Скидка!$C$3))*Скидка!$D$4)/100 -> 10384.64 | N40: 9БР.020.3 (1400х4х300) | P40: =((Скидка!CO39*(100-Скидка!$C$3))*Скидка!$D$4)/100 -> 6979.84 | Q40: =((Скидка!CP39*(100-Скидка!$C$3))*Скидка!$D$4)/100 -> 10713.92
D41: глянец | E41: Kiwi | H41: глянец | I41: Kiwi | J41: 9БР.030.1 (1600х4х300) | L41: =((Скидка!CK40*(100-Скидка!$C$3))*Скидка!$D$4)/100 -> 7387.52 | M41: =((Скидка!CL40*(100-Скидка!$C$3))*Скидка!$D$4)/100 -> 11654.72 | N41: 9БР.030.3 (1600х4х300) | P41: =((Скидка!CO40*(100-Скидка!$C$3))*Скидка!$D$4)/100 -> 7740.32 | Q41: =((Скидка!CP40*(100-Скидка!$C$3))*Скидка!$D$4)/100 -> 11984
B42: 9БР.040.1 (600х4х300) | D42: =((Скидка!CC41*(100-Скидка!$C$3))*Скидка!$D$4)/100 -> 4771.2 | E42: =((Скидка!CD41*(100-Скидка!$C$3))*Скидка!$D$4)/100 -> 7116.48 | F42: 9БР.040.7 (600х4х300) | H42: =((Скидка!CG41*(100-Скидка!$C$3))*Скидка!$D$4)/100 -> 4829.44 | I42: =((Скидка!CH41*(100-Скидка!$C$3))*Скидка!$D$4)/100 -> 7170.24 | J42: 9БР.150.1 (1000х4х400) | L42: =((Скидка!CK41*(100-Скидка!$C$3))*Скидка!$D$4)/100 -> 6049.12 | M42: =((Скидка!CL41*(100-Скидка!$C$3))*Скидка!$D$4)/100 -> 9642.08 | N42: 9БР.150.3 (1000х4х400) | P42: =((Скидка!CO41*(100-Скидка!$C$3))*Скидка!$D$4)/100 -> 6284.32 | Q42: =((Скидка!CP41*(100-Скидка!$C$3))*Скидка!$D$4)/100 -> 9861.6
B43: 9БР.070.1 (700х4х300) | D43: =((Скидка!CC42*(100-Скидка!$C$3))*Скидка!$D$4)/100 -> 5101.6 | E43: =((Скидка!CD42*(100-Скидка!$C$3))*Скидка!$D$4)/100 -> 7637.28 | F43: 9БР.070.7 (700х4х300) | H43: =((Скидка!CG42*(100-Скидка!$C$3))*Скидка!$D$4)/100 -> 5159.84 | I43: =((Скидка!CH42*(100-Скидка!$C$3))*Скидка!$D$4)/100 -> 7693.28 | J43: 9БР.110.1 (1200х4х400) | L43: =((Скидка!CK42*(100-Скидка!$C$3))*Скидка!$D$4)/100 -> 6980.96 | M43: =((Скидка!CL42*(100-Скидка!$C$3))*Скидка!$D$4)/100 -> 10973.76 | N43: 9БР.110.3 (1200х4х400) | P43: =((Скидка!CO42*(100-Скидка!$C$3))*Скидка!$D$4)/100 -> 7333.76 | Q43: =((Скидка!CP42*(100-Скидка!$C$3))*Скидка!$D$4)/100 -> 11303.04
B44: 9БР.140.1 (600х4х400) | D44: =((Скидка!CC43*(100-Скидка!$C$3))*Скидка!$D$4)/100 -> 4552.8 | E44: =((Скидка!CD43*(100-Скидка!$C$3))*Скидка!$D$4)/100 -> 7146.72 | F44: 9БР.140.7 (600х4х400) | H44: =((Скидка!CG43*(100-Скидка!$C$3))*Скидка!$D$4)/100 -> 4611.04 | I44: =((Скидка!CH43*(100-Скидка!$C$3))*Скидка!$D$4)/100 -> 7200.48 | J44: 9БР.120.1 (1400х4х400) | L44: =((Скидка!CK43*(100-Скидка!$C$3))*Скидка!$D$4)/100 -> 7603.68 | M44: =((Скидка!CL43*(100-Скидка!$C$3))*Скидка!$D$4)/100 -> 12614.56 | N44: 9БР.120.3 (1400х4х400) | P44: =((Скидка!CO43*(100-Скидка!$C$3))*Скидка!$D$4)/100 -> 7956.48 | Q44: =((Скидка!CP43*(100-Скидка!$C$3))*Скидка!$D$4)/100 -> 12960.64
B45: 9БР.170.1 (700х4х400) | D45: =((Скидка!CC44*(100-Скидка!$C$3))*Скидка!$D$4)/100 -> 4864.16 | E45: =((Скидка!CD44*(100-Скидка!$C$3))*Скидка!$D$4)/100 -> 7667.52 | F45: 9БР.170.7 (700х4х400) | H45: =((Скидка!CG44*(100-Скидка!$C$3))*Скидка!$D$4)/100 -> 4922.4 | I45: =((Скидка!CH44*(100-Скидка!$C$3))*Скидка!$D$4)/100 -> 7721.28 | J45: 9БР.130.1 (1600х4х400) | L45: =((Скидка!CK44*(100-Скидка!$C$3))*Скидка!$D$4)/100 -> 8340.64 | M45: =((Скидка!CL44*(100-Скидка!$C$3))*Скидка!$D$4)/100 -> 13903.68 | N45: 9БР.130.3 (1600х4х400) | P45: =((Скидка!CO44*(100-Скидка!$C$3))*Скидка!$D$4)/100 -> 8693.44 | Q45: =((Скидка!CP44*(100-Скидка!$C$3))*Скидка!$D$4)/100 -> 14519.68
B46: БАРЬЕРЫ ОРГСТЕКЛО ARREDO
B47: Барьеры боковые, оргстекло | J47: Барьеры фронтальные, оргстекло
P50: Белый глянец/ Металл глянец | Q50: Белый глянец/ порошк. покрытие
H52: Белый глянец/ Металл глянец | I52: Белый глянец/ порошк. покрытие
J54: 10БФО.104 (1000х4х400) | P54: =((Скидка!CM53*(100-Скидка!$C$3))*Скидка!$D$4)/100 -> 7835.52 | Q54: =((Скидка!CN53*(100-Скидка!$C$3))*Скидка!$D$4)/100 -> 6782.72
J55: 10БФО.124 (1200х4х400) | P55: =((Скидка!CM54*(100-Скидка!$C$3))*Скидка!$D$4)/100 -> 8635.2 | Q55: =((Скидка!CN54*(100-Скидка!$C$3))*Скидка!$D$4)/100 -> 7582.4
B56: 10ББО.504 (500х4х400) | H56: =((Скидка!CF55*(100-Скидка!$C$3))*Скидка!$D$4)/100 -> 5591.04 | I56: =((Скидка!CG55*(100-Скидка!$C$3))*Скидка!$D$4)/100 -> 4538.24 | J56: 10БФО.144 (1400х4х400) | P56: =((Скидка!CM55*(100-Скидка!$C$3))*Скидка!$D$4)/100 -> 9436 | Q56: =((Скидка!CN55*(100-Скидка!$C$3))*Скидка!$D$4)/100 -> 8384.32
B57: 10ББО.604 (600х4х400) | H57: =((Скидка!CF56*(100-Скидка!$C$3))*Скидка!$D$4)/100 -> 5990.88 | I57: =((Скидка!CG56*(100-Скидка!$C$3))*Скидка!$D$4)/100 -> 4938.08 | J57: 10БФО.164 (1600х4х400) | P57: =((Скидка!CM56*(100-Скидка!$C$3))*Скидка!$D$4)/100 -> 10236.8 | Q57: =((Скидка!CN56*(100-Скидка!$C$3))*Скидка!$D$4)/100 -> 9185.12
B58: 10ББО.704 (700х4х400) | H58: =((Скидка!CF57*(100-Скидка!$C$3))*Скидка!$D$4)/100 -> 6391.84 | I58: =((Скидка!CG57*(100-Скидка!$C$3))*Скидка!$D$4)/100 -> 5340.16 | J58: 10БФО.184 (1800х4х400) | P58: =((Скидка!CM57*(100-Скидка!$C$3))*Скидка!$D$4)/100 -> 12709.76 | Q58: =((Скидка!CN57*(100-Скидка!$C$3))*Скидка!$D$4)/100 -> 11131.68
B59: 10ББО.804 (800х4х400) | H59: =((Скидка!CF58*(100-Скидка!$C$3))*Скидка!$D$4)/100 -> 6791.68 | I59: =((Скидка!CG58*(100-Скидка!$C$3))*Скидка!$D$4)/100 -> 5740 | J59: 10БФО.105 (1000х4х500) | P59: =((Скидка!CM58*(100-Скидка!$C$3))*Скидка!$D$4)/100 -> 8880.48 | Q59: =((Скидка!CN58*(100-Скидка!$C$3))*Скидка!$D$4)/100 -> 7827.68
B60: 10ББО.505 (500х4х500) | H60: =((Скидка!CF59*(100-Скидка!$C$3))*Скидка!$D$4)/100 -> 6091.68 | I60: =((Скидка!CG59*(100-Скидка!$C$3))*Скидка!$D$4)/100 -> 5038.88 | J60: 10БФО.125 (1200х4х500) | P60: =((Скидка!CM59*(100-Скидка!$C$3))*Скидка!$D$4)/100 -> 9929.92 | Q60: =((Скидка!CN59*(100-Скидка!$C$3))*Скидка!$D$4)/100 -> 8878.24
B61: 10ББО.605 (600х4х500) | H61: =((Скидка!CF60*(100-Скидка!$C$3))*Скидка!$D$4)/100 -> 6591.2 | I61: =((Скидка!CG60*(100-Скидка!$C$3))*Скидка!$D$4)/100 -> 5539.52 | J61: 10БФО.145 (1400х4х500) | P61: =((Скидка!CM60*(100-Скидка!$C$3))*Скидка!$D$4)/100 -> 10838.24 | Q61: =((Скидка!CN60*(100-Скидка!$C$3))*Скидка!$D$4)/100 -> 9785.44
B62: 10ББО.705 (700х4х500) | H62: =((Скидка!CF61*(100-Скидка!$C$3))*Скидка!$D$4)/100 -> 7091.84 | I62: =((Скидка!CG61*(100-Скидка!$C$3))*Скидка!$D$4)/100 -> 6040.16 | J62: 10БФО.165 (1600х4х500) | P62: =((Скидка!CM61*(100-Скидка!$C$3))*Скидка!$D$4)/100 -> 11838.4 | Q62: =((Скидка!CN61*(100-Скидка!$C$3))*Скидка!$D$4)/100 -> 10786.72
B63: 10ББО.805 (800х4х500) | H63: =((Скидка!CF62*(100-Скидка!$C$3))*Скидка!$D$4)/100 -> 7593.6 | I63: =((Скидка!CG62*(100-Скидка!$C$3))*Скидка!$D$4)/100 -> 6540.8 | J63: 10БФО.185 (1800х4х500) | P63: =((Скидка!CM62*(100-Скидка!$C$3))*Скидка!$D$4)/100 -> 14511.84 | Q63: =((Скидка!CN62*(100-Скидка!$C$3))*Скидка!$D$4)/100 -> 12933.76
B64: Барьеры для сдвоенного бенч, оргстекло | J64: Барьеры торцевые, оргстекло
H67: Белый глянец / Металл глянец | I67: Белый глянец/ порошк. покрытие
B71: 10БСБО.104 (1000х4х400) | H71: =((Скидка!CF70*(100-Скидка!$C$3))*Скидка!$D$4)/100 -> 7819.84 | I71: =((Скидка!CG70*(100-Скидка!$C$3))*Скидка!$D$4)/100 -> 6780.48 | P71: Белый глянец / Металл глянец | Q71: Белый глянец/ порошк. покрытие
B72: 10БСБО.124 (1200х4х400) | H72: =((Скидка!CF71*(100-Скидка!$C$3))*Скидка!$D$4)/100 -> 8620.64 | I72: =((Скидка!CG71*(100-Скидка!$C$3))*Скидка!$D$4)/100 -> 7581.28
B73: 10БСБО.144 (1400х4х400) | H73: =((Скидка!CF72*(100-Скидка!$C$3))*Скидка!$D$4)/100 -> 9421.44 | I73: =((Скидка!CG72*(100-Скидка!$C$3))*Скидка!$D$4)/100 -> 8382.08
B74: 10БСБО.164 (1600х4х400) | H74: =((Скидка!CF73*(100-Скидка!$C$3))*Скидка!$D$4)/100 -> 10222.24 | I74: =((Скидка!CG73*(100-Скидка!$C$3))*Скидка!$D$4)/100 -> 9182.88
B75: 10БСБО.184 (1800х4х400) | H75: =((Скидка!CF74*(100-Скидка!$C$3))*Скидка!$D$4)/100 -> 12687.36 | I75: =((Скидка!CG74*(100-Скидка!$C$3))*Скидка!$D$4)/100 -> 11128.32 | J75: 10БТО.604 (600х4х400) | P75: =((Скидка!CM74*(100-Скидка!$C$3))*Скидка!$D$4)/100 -> 5197.92 | Q75: =((Скидка!CN74*(100-Скидка!$C$3))*Скидка!$D$4)/100 -> 4258.24
B76: 10БСБО.105 (1000х4х500) | H76: =((Скидка!CF75*(100-Скидка!$C$3))*Скидка!$D$4)/100 -> 8864.8 | I76: =((Скидка!CG75*(100-Скидка!$C$3))*Скидка!$D$4)/100 -> 7825.44 | J76: 10БТО.704 (700х4х400) | P76: =((Скидка!CM75*(100-Скидка!$C$3))*Скидка!$D$4)/100 -> 5598.88 | Q76: =((Скидка!CN75*(100-Скидка!$C$3))*Скидка!$D$4)/100 -> 4659.2
B77: 10БСБО.125 (1200х4х500) | H77: =((Скидка!CF76*(100-Скидка!$C$3))*Скидка!$D$4)/100 -> 9915.36 | I77: =((Скидка!CG76*(100-Скидка!$C$3))*Скидка!$D$4)/100 -> 8876 | J77: 10БТО.804 (800х4х400) | P77: =((Скидка!CM76*(100-Скидка!$C$3))*Скидка!$D$4)/100 -> 5998.72 | Q77: =((Скидка!CN76*(100-Скидка!$C$3))*Скидка!$D$4)/100 -> 5059.04
B78: 10БСБО.145 (1400х4х500) | H78: =((Скидка!CF77*(100-Скидка!$C$3))*Скидка!$D$4)/100 -> 10822.56 | I78: =((Скидка!CG77*(100-Скидка!$C$3))*Скидка!$D$4)/100 -> 9783.2 | J78: 10БТО.605 (600х4х500) | P78: =((Скидка!CM77*(100-Скидка!$C$3))*Скидка!$D$4)/100 -> 5798.24 | Q78: =((Скидка!CN77*(100-Скидка!$C$3))*Скидка!$D$4)/100 -> 4858.56
B79: 10БСБО.165 (1600х4х500) | H79: =((Скидка!CF78*(100-Скидка!$C$3))*Скидка!$D$4)/100 -> 11823.84 | I79: =((Скидка!CG78*(100-Скидка!$C$3))*Скидка!$D$4)/100 -> 10784.48 | J79: 10БТО.705 (700х4х500) | P79: =((Скидка!CM78*(100-Скидка!$C$3))*Скидка!$D$4)/100 -> 6298.88 | Q79: =((Скидка!CN78*(100-Скидка!$C$3))*Скидка!$D$4)/100 -> 5359.2
B80: 10БСБО.185 (1800х4х500) | H80: =((Скидка!CF79*(100-Скидка!$C$3))*Скидка!$D$4)/100 -> 14489.44 | I80: =((Скидка!CG79*(100-Скидка!$C$3))*Скидка!$D$4)/100 -> 12930.4 | J80: 10БТО.805 (800х4х500) | P80: =((Скидка!CM79*(100-Скидка!$C$3))*Скидка!$D$4)/100 -> 6800.64 | Q80: =((Скидка!CN79*(100-Скидка!$C$3))*Скидка!$D$4)/100 -> 5860.96

Sheet Барьеры HPL
B8: БАРЬЕРЫ и ЭКРАНЫ HPL | P8: ='Перегородки SOFToffice'!Q8 -> 45376
Q10: стр. 6
B11: БАРЬЕРЫ и ЭКРАНЫ HPL- GLOSS
B12: Барьеры боковые HPL | G12: Барьеры фронтальные HPL | M12: Экраны подстольные HPL
G25: 9БРН.250.1 (1000х4х300) | L25: =((Скидка!DB26*(100-Скидка!$C$3))*Скидка!$D$4)/100 -> 7512.96 | M25: 9ЭН.350.1 (1000х4х300) | Q25: =((Скидка!DG26*(100-Скидка!$C$3))*Скидка!$D$4)/100 -> 7215.04
G26: 9БРН.210.1 (1200х4х300) | L26: =((Скидка!DB27*(100-Скидка!$C$3))*Скидка!$D$4)/100 -> 8733.76 | M26: 9ЭН.310.1 (1200х4х300) | Q26: =((Скидка!DG27*(100-Скидка!$C$3))*Скидка!$D$4)/100 -> 8435.84
G27: 9БРН.220.1 (1400х4х300) | L27: =((Скидка!DB28*(100-Скидка!$C$3))*Скидка!$D$4)/100 -> 9956.8 | M27: 9ЭН.320.1 (1400х4х300) | Q27: =((Скидка!DG28*(100-Скидка!$C$3))*Скидка!$D$4)/100 -> 9658.88
G28: 9БРН.230.1 (1600х4х300) | L28: =((Скидка!DB29*(100-Скидка!$C$3))*Скидка!$D$4)/100 -> 11178.72 | M28: 9ЭН.330.1 (1600х4х300) | Q28: =((Скидка!DG29*(100-Скидка!$C$3))*Скидка!$D$4)/100 -> 11476.64
B29: 9БРН.040.1 (600х4х300) | F29: =((Скидка!CV30*(100-Скидка!$C$3))*Скидка!$D$4)/100 -> 4515.84 | G29: 9БРН.150.1 (1000х4х400) | L29: =((Скидка!DB30*(100-Скидка!$C$3))*Скидка!$D$4)/100 -> 9035.04 | M29: 9ЭН.450.1 (1000х4х400) | Q29: =((Скидка!DG30*(100-Скидка!$C$3))*Скидка!$D$4)/100 -> 8737.12
B30: 9БРН.070.1 (700х4х300) | F30: =((Скидка!CV31*(100-Скидка!$C$3))*Скидка!$D$4)/100 -> 5128.48 | G30: 9БРН.110.1 (1200х4х400) | L30: =((Скидка!DB31*(100-Скидка!$C$3))*Скидка!$D$4)/100 -> 10536.96 | M30: 9ЭН.410.1 (1200х4х400) | Q30: =((Скидка!DG31*(100-Скидка!$C$3))*Скидка!$D$4)/100 -> 10239.04
B31: 9БРН.140.1 (600х4х400) | F31: =((Скидка!CV32*(100-Скидка!$C$3))*Скидка!$D$4)/100 -> 5417.44 | G31: 9БРН.120.1 (1400х4х400) | L31: =((Скидка!DB32*(100-Скидка!$C$3))*Скидка!$D$4)/100 -> 12041.12 | M31: 9ЭН.420.1 (1400х4х400) | Q31: =((Скидка!DG32*(100-Скидка!$C$3))*Скидка!$D$4)/100 -> 11743.2
B32: 9БРН.170.1 (700х4х400) | F32: =((Скидка!CV33*(100-Скидка!$C$3))*Скидка!$D$4)/100 -> 6170.08 | G32: 9БРН.130.1 (1600х4х400) | L32: =((Скидка!DB33*(100-Скидка!$C$3))*Скидка!$D$4)/100 -> 13544.16 | M32: 9ЭН.430.1 (1600х4х400) | Q32: =((Скидка!DG33*(100-Скидка!$C$3))*Скидка!$D$4)/100 -> 13842.08
B33: Барьеры боковые HPL | G33: Барьеры фронтальные HPL, для сдвоенных бенч-систем
G39: 9БРН.250.3 (1000х4х300) | L39: =((Скидка!DB40*(100-Скидка!$C$3))*Скидка!$D$4)/100 -> 7865.76
G40: 9БРН.210.3 (1200х4х300) | L40: =((Скидка!DB41*(100-Скидка!$C$3))*Скидка!$D$4)/100 -> 9086.56
G41: 9БРН.220.3 (1400х4х300) | L41: =((Скидка!DB42*(100-Скидка!$C$3))*Скидка!$D$4)/100 -> 10309.6
G42: 9БРН.230.3 (1600х4х300) | L42: =((Скидка!DB43*(100-Скидка!$C$3))*Скидка!$D$4)/100 -> 11531.52
B43: 9БРН.040.7 (600х4х300) | F43: =((Скидка!CV44*(100-Скидка!$C$3))*Скидка!$D$4)/100 -> 4574.08 | G43: 9БРН.150.3 (1000х4х400) | L43: =((Скидка!DB44*(100-Скидка!$C$3))*Скидка!$D$4)/100 -> 9387.84
B44: 9БРН.070.7 (700х4х300) | F44: =((Скидка!CV45*(100-Скидка!$C$3))*Скидка!$D$4)/100 -> 5186.72 | G44: 9БРН.110.3 (1200х4х400) | L44: =((Скидка!DB45*(100-Скидка!$C$3))*Скидка!$D$4)/100 -> 10889.76
B45: 9БРН.140.7 (600х4х400) | F45: =((Скидка!CV46*(100-Скидка!$C$3))*Скидка!$D$4)/100 -> 5475.68 | G45: 9БРН.120.3 (1400х4х400) | L45: =((Скидка!DB46*(100-Скидка!$C$3))*Скидка!$D$4)/100 -> 12393.92
B46: 9БРН.170.7 (700х4х400) | F46: =((Скидка!CV47*(100-Скидка!$C$3))*Скидка!$D$4)/100 -> 6228.32 | G46: 9БРН.130.3 (1600х4х400) | L46: =((Скидка!DB47*(100-Скидка!$C$3))*Скидка!$D$4)/100 -> 13896.96
B47: БАРЬЕРЫ HPL - ARREDO
B48: Барьеры торцевые HPL | G48: Барьеры боковые HPL | L48: Барьеры фронтальные HPL
P54: Порошк. покрытие | Q54: Металл глянец
J56: Порошк. покрытие | K56: Металл глянец | L56: 10БФН.104 (1000х4х400) | P56: =((Скидка!DE58*(100-Скидка!$C$3))*Скидка!$D$4)/100 -> 9899.68 | Q56: =((Скидка!DF58*(100-Скидка!$C$3))*Скидка!$D$4)/100 -> 11055.52
L57: 10БФН.124 (1200х4х400) | P57: =((Скидка!DE59*(100-Скидка!$C$3))*Скидка!$D$4)/100 -> 11436.32 | Q57: =((Скидка!DF59*(100-Скидка!$C$3))*Скидка!$D$4)/100 -> 12489.12
E58: Порошк. покрытие | F58: Металл глянец | G58: 10ББН.504 (500х4х400) | J58: =((Скидка!CZ60*(100-Скидка!$C$3))*Скидка!$D$4)/100 -> 6176.8 | K58: =((Скидка!DA60*(100-Скидка!$C$3))*Скидка!$D$4)/100 -> 7228.48 | L58: 10БФН.144 (1400х4х400) | P58: =((Скидка!DE60*(100-Скидка!$C$3))*Скидка!$D$4)/100 -> 12905.76 | Q58: =((Скидка!DF60*(100-Скидка!$C$3))*Скидка!$D$4)/100 -> 13922.72
G59: 10ББН.604 (600х4х400) | J59: =((Скидка!CZ61*(100-Скидка!$C$3))*Скидка!$D$4)/100 -> 6883.52 | K59: =((Скидка!DA61*(100-Скидка!$C$3))*Скидка!$D$4)/100 -> 7936.32 | L59: 10БФН.164 (1600х4х400) | P59: =((Скидка!DE61*(100-Скидка!$C$3))*Скидка!$D$4)/100 -> 14408.8 | Q59: =((Скидка!DF61*(100-Скидка!$C$3))*Скидка!$D$4)/100 -> 15170.4
B60: 10БТН.604 (600х4х400) | E60: =((Скидка!CU62*(100-Скидка!$C$3))*Скидка!$D$4)/100 -> 6434.4 | F60: =((Скидка!CV62*(100-Скидка!$C$3))*Скидка!$D$4)/100 -> 7216.16 | G60: 10ББН.704 (700х4х400) | J60: =((Скидка!CZ62*(100-Скидка!$C$3))*Скидка!$D$4)/100 -> 7610.4 | K60: =((Скидка!DA62*(100-Скидка!$C$3))*Скидка!$D$4)/100 -> 8662.08 | L60: 10БФН.184 (1800х4х400) | P60: =((Скидка!DE62*(100-Скидка!$C$3))*Скидка!$D$4)/100 -> 16792.16 | Q60: =((Скидка!DF62*(100-Скидка!$C$3))*Скидка!$D$4)/100 -> 18464.32
B61: 10БТН.704 (700х4х400) | E61: =((Скидка!CU63*(100-Скидка!$C$3))*Скидка!$D$4)/100 -> 7187.04 | F61: =((Скидка!CV63*(100-Скидка!$C$3))*Скидка!$D$4)/100 -> 7968.8 | G61: 10ББН.804 (800х4х400) | J61: =((Скидка!CZ63*(100-Скидка!$C$3))*Скидка!$D$4)/100 -> 8318.24 | K61: =((Скидка!DA63*(100-Скидка!$C$3))*Скидка!$D$4)/100 -> 9371.04 | L61: 10БФН.105 (1000х4х500) | P61: =((Скидка!DE63*(100-Скидка!$C$3))*Скидка!$D$4)/100 -> 11790.24 | Q61: =((Скидка!DF63*(100-Скидка!$C$3))*Скидка!$D$4)/100 -> 12843.04
B62: 10БТН.804 (800х4х400) | E62: =((Скидка!CU64*(100-Скидка!$C$3))*Скидка!$D$4)/100 -> 7939.68 | F62: =((Скидка!CV64*(100-Скидка!$C$3))*Скидка!$D$4)/100 -> 8721.44 | G62: 10ББН.505 (500х4х500) | J62: =((Скидка!CZ64*(100-Скидка!$C$3))*Скидка!$D$4)/100 -> 7060.48 | K62: =((Скидка!DA64*(100-Скидка!$C$3))*Скидка!$D$4)/100 -> 8112.16 | L62: 10БФН.125 (1200х4х500) | P62: =((Скидка!DE64*(100-Скидка!$C$3))*Скидка!$D$4)/100 -> 13649.44 | Q62: =((Скидка!DF64*(100-Скидка!$C$3))*Скидка!$D$4)/100 -> 14630.56
B63: 10БТН.605 (600х4х500) | E63: =((Скидка!CU65*(100-Скидка!$C$3))*Скидка!$D$4)/100 -> 7558.88 | F63: =((Скидка!CV65*(100-Скидка!$C$3))*Скидка!$D$4)/100 -> 8340.64 | G63: 10ББН.605 (600х4х500) | J63: =((Скидка!CZ65*(100-Скидка!$C$3))*Скидка!$D$4)/100 -> 7964.32 | K63: =((Скидка!DA65*(100-Скидка!$C$3))*Скидка!$D$4)/100 -> 9017.12 | L63: 10БФН.145 (1400х4х500) | P63: =((Скидка!DE65*(100-Скидка!$C$3))*Скидка!$D$4)/100 -> 15523.2 | Q63: =((Скидка!DF65*(100-Скидка!$C$3))*Скидка!$D$4)/100 -> 16248.96
B64: 10БТН.705 (700х4х500) | E64: =((Скидка!CU66*(100-Скидка!$C$3))*Скидка!$D$4)/100 -> 8497.44 | F64: =((Скидка!CV66*(100-Скидка!$C$3))*Скидка!$D$4)/100 -> 9279.2 | G64: 10ББН.705 (700х4х500) | J64: =((Скидка!CZ66*(100-Скидка!$C$3))*Скидка!$D$4)/100 -> 8849.12 | K64: =((Скидка!DA66*(100-Скидка!$C$3))*Скидка!$D$4)/100 -> 9901.92 | L64: 10БФН.165 (1600х4х500) | P64: =((Скидка!DE66*(100-Скидка!$C$3))*Скидка!$D$4)/100 -> 17395.84 | Q64: =((Скидка!DF66*(100-Скидка!$C$3))*Скидка!$D$4)/100 -> 18207.84
B65: 10БТН.805 (800х4х500) | E65: =((Скидка!CU67*(100-Скидка!$C$3))*Скидка!$D$4)/100 -> 9433.76 | F65: =((Скидка!CV67*(100-Скидка!$C$3))*Скидка!$D$4)/100 -> 10215.52 | G65: 10ББН.805 (800х4х500) | J65: =((Скидка!CZ67*(100-Скидка!$C$3))*Скидка!$D$4)/100 -> 9751.84 | K65: =((Скидка!DA67*(100-Скидка!$C$3))*Скидка!$D$4)/100 -> 10804.64 | L65: 10БФН.185 (1800х4х500) | P65: =((Скидка!DE67*(100-Скидка!$C$3))*Скидка!$D$4)/100 -> 20148.8 | Q65: =((Скидка!DF67*(100-Скидка!$C$3))*Скидка!$D$4)/100 -> 21668.64
B66: Барьеры для сдвоенного бенч HLP | J66: Экраны подстольные HPL
H71: Порошк. покрытие | I71: Металл глянец
Q72: Порошк. Покрытие (Черный)
B73: 10БСБН.104 (1000х4х400) | H73: =((Скидка!CX75*(100-Скидка!$C$3))*Скидка!$D$4)/100 -> 10000.48 | I73: =((Скидка!CY75*(100-Скидка!$C$3))*Скидка!$D$4)/100 -> 11039.84
B74: 10БСБН.124 (1200х4х400) | H74: =((Скидка!CX76*(100-Скидка!$C$3))*Скидка!$D$4)/100 -> 11305.28 | I74: =((Скидка!CY76*(100-Скидка!$C$3))*Скидка!$D$4)/100 -> 12473.44
B75: 10БСБН.144 (1400х4х400) | H75: =((Скидка!CX77*(100-Скидка!$C$3))*Скидка!$D$4)/100 -> 12809.44 | I75: =((Скидка!CY77*(100-Скидка!$C$3))*Скидка!$D$4)/100 -> 13752.48 | J75: 10ЭН.050.1 (1000х4х300) | Q75: =((Скидка!DF77*(100-Скидка!$C$3))*Скидка!$D$4)/100 -> 6805.12
B76: 10БСБН.164 (1600х4х400) | H76: =((Скидка!CX78*(100-Скидка!$C$3))*Скидка!$D$4)/100 -> 14312.48 | I76: =((Скидка!CY78*(100-Скидка!$C$3))*Скидка!$D$4)/100 -> 15255.52 | J76: 10ЭН.010.1 (1200х4х300) | Q76: =((Скидка!DF78*(100-Скидка!$C$3))*Скидка!$D$4)/100 -> 7946.4
B77: 10БСБН.184 (1800х4х400) | H77: =((Скидка!CX79*(100-Скидка!$C$3))*Скидка!$D$4)/100 -> 16647.68 | I77: =((Скидка!CY79*(100-Скидка!$C$3))*Скидка!$D$4)/100 -> 18441.92 | J77: 10ЭН.020.1 (1400х4х300) | Q77: =((Скидка!DF79*(100-Скидка!$C$3))*Скидка!$D$4)/100 -> 8944.32
B78: 10БСБН.105 (1000х4х500) | H78: =((Скидка!CX80*(100-Скидка!$C$3))*Скидка!$D$4)/100 -> 11678.24 | I78: =((Скидка!CY80*(100-Скидка!$C$3))*Скидка!$D$4)/100 -> 12828.48 | J78: 10ЭН.030.1 (1600х4х300) | Q78: =((Скидка!DF80*(100-Скидка!$C$3))*Скидка!$D$4)/100 -> 10558.24
B79: 10БСБН.125 (1200х4х500) | H79: =((Скидка!CX81*(100-Скидка!$C$3))*Скидка!$D$4)/100 -> 13553.12 | I79: =((Скидка!CY81*(100-Скидка!$C$3))*Скидка!$D$4)/100 -> 14496.16 | J79: 10ЭН.150.1 (1000х4х400) | Q79: =((Скидка!DF81*(100-Скидка!$C$3))*Скидка!$D$4)/100 -> 8667.68
B80: 10БСБН.145 (1400х4х500) | H80: =((Скидка!CX82*(100-Скидка!$C$3))*Скидка!$D$4)/100 -> 15426.88 | I80: =((Скидка!CY82*(100-Скидка!$C$3))*Скидка!$D$4)/100 -> 16403.52 | J80: 10ЭН.110.1 (1200х4х400) | Q80: =((Скидка!DF82*(100-Скидка!$C$3))*Скидка!$D$4)/100 -> 10177.44
B81: 10БСБН.165 (1600х4х500) | H81: =((Скидка!CX83*(100-Скидка!$C$3))*Скидка!$D$4)/100 -> 17299.52 | I81: =((Скидка!CY83*(100-Скидка!$C$3))*Скидка!$D$4)/100 -> 18242.56 | J81: 10ЭН.120.1 (1400х4х400) | Q81: =((Скидка!DF83*(100-Скидка!$C$3))*Скидка!$D$4)/100 -> 11714.08
B82: 10БСБН.185 (1800х4х500) | H82: =((Скидка!CX84*(100-Скидка!$C$3))*Скидка!$D$4)/100 -> 20087.2 | I82: =((Скидка!CY84*(100-Скидка!$C$3))*Скидка!$D$4)/100 -> 21418.88 | J82: 10ЭН.130.1 (1600х4х400) | Q82: =((Скидка!DF84*(100-Скидка!$C$3))*Скидка!$D$4)/100 -> 13460.16

Sheet Барьеры ЛДСП, Алюм. профиль
B8: БАРЬЕРЫ ИЗ ЛДСП, БАРЬЕРЫ В АЛЮМИНИЕВОМ ПРОФИЛЕ | P8: ='Перегородки SOFToffice'!Q8 -> 45376
Q10: стр. 7
B11: Барьеры ЛДСП, фронтальные - AVANCE
B17: 6БР.006.1 | D17: (1000х16х300) | F17: =((Скидка!DN18*(100-Скидка!$C$3))*Скидка!$D$4)/100 -> 2653.28 | G17: 6БР.006.2 | J17: (1000х16х300) | L17: =((Скидка!DS18*(100-Скидка!$C$3))*Скидка!$D$4)/100 -> 2653.28 | M17: 6БР.006.3 | O17: (1000х16х300) | Q17: =((Скидка!DX18*(100-Скидка!$C$3))*Скидка!$D$4)/100 -> 2653.28
B18: 6БР.007.1 | D18: (1200х16х300) | F18: =((Скидка!DN19*(100-Скидка!$C$3))*Скидка!$D$4)/100 -> 2768.64 | G18: 6БР.007.2 | J18: (1200х16х300) | L18: =((Скидка!DS19*(100-Скидка!$C$3))*Скидка!$D$4)/100 -> 2768.64 | M18: 6БР.007.3 | O18: (1200х16х300) | Q18: =((Скидка!DX19*(100-Скидка!$C$3))*Скидка!$D$4)/100 -> 2768.64
B19: 6БР.008.1 | D19: (1400х16х300) | F19: =((Скидка!DN20*(100-Скидка!$C$3))*Скидка!$D$4)/100 -> 3207.68 | G19: 6БР.008.2 | J19: (1400х16х300) | L19: =((Скидка!DS20*(100-Скидка!$C$3))*Скидка!$D$4)/100 -> 3207.68 | M19: 6БР.008.3 | O19: (1400х16х300) | Q19: =((Скидка!DX20*(100-Скидка!$C$3))*Скидка!$D$4)/100 -> 3207.68
B20: 6БР.009.1 | D20: (1600х16х300) | F20: =((Скидка!DN21*(100-Скидка!$C$3))*Скидка!$D$4)/100 -> 3653.44 | G20: 6БР.009.2 | J20: (1600х16х300) | L20: =((Скидка!DS21*(100-Скидка!$C$3))*Скидка!$D$4)/100 -> 3653.44 | M20: 6БР.009.3 | O20: (1600х16х300) | Q20: =((Скидка!DX21*(100-Скидка!$C$3))*Скидка!$D$4)/100 -> 3653.44
B21: Барьеры ЛДСП, боковые - AVANCE
B30: 6БР.012.1 | C30: (583х16х300)-5р/д | D30: =((Скидка!DL25*(100-Скидка!$C$3))*Скидка!$D$4)/100 -> 2343.04 | E30: 6БР.012.2 | F30: (583х16х300)-5р/д | G30: =((Скидка!DO25*(100-Скидка!$C$3))*Скидка!$D$4)/100 -> 2394.56 | L30: 6БР.012.7 | M30: (583х16х300) -5р/д | N30: =((Скидка!DV25*(100-Скидка!$C$3))*Скидка!$D$4)/100 -> 2335.2 | O30: 6БРЛ.012.9 | P30: (583х16х300)-5р/д | Q30: =((Скидка!DY25*(100-Скидка!$C$3))*Скидка!$D$4)/100 -> 2401.28
B31: 6БР.004.1 | C31: (600х16х300) | D31: =((Скидка!DL26*(100-Скидка!$C$3))*Скидка!$D$4)/100 -> 2356.48 | E31: 6БР.004.2 | F31: (600х16х300) | G31: =((Скидка!DO26*(100-Скидка!$C$3))*Скидка!$D$4)/100 -> 2411.36 | L31: 6БР.004.7 | M31: (600х16х300) | N31: =((Скидка!DV26*(100-Скидка!$C$3))*Скидка!$D$4)/100 -> 2335.2 | O31: 6БРЛ.001.9 | P31: (683х16х300) | Q31: =((Скидка!DY26*(100-Скидка!$C$3))*Скидка!$D$4)/100 -> 2418.08
B32: 6БР.001.1 | C32: (683х16х300) | D32: =((Скидка!DL27*(100-Скидка!$C$3))*Скидка!$D$4)/100 -> 2384.48 | E32: 6БР.001.2 | F32: (683х16х300) | G32: =((Скидка!DO27*(100-Скидка!$C$3))*Скидка!$D$4)/100 -> 2437.12 | L32: 6БР.001.7 | M32: (683х16х300) | N32: =((Скидка!DV27*(100-Скидка!$C$3))*Скидка!$D$4)/100 -> 2375.52 | O32: 6БРЛ.011.9 | P32: (783х16х300)-5р/д | Q32: =((Скидка!DY27*(100-Скидка!$C$3))*Скидка!$D$4)/100 -> 2442.72
B33: 6БР.005.1 | C33: (700х16х300) | D33: =((Скидка!DL28*(100-Скидка!$C$3))*Скидка!$D$4)/100 -> 2397.92 | E33: 6БР.005.2 | F33: (700х16х300) | G33: =((Скидка!DO28*(100-Скидка!$C$3))*Скидка!$D$4)/100 -> 2452.8 | H33: 6БР.004.4 | I33: (600х16х300) | K33: =((Скидка!DS28*(100-Скидка!$C$3))*Скидка!$D$4)/100 -> 2541.28 | L33: 6БР.005.7 | M33: (700х16х300) | N33: =((Скидка!DV28*(100-Скидка!$C$3))*Скидка!$D$4)/100 -> 2375.52 | O33: 6БРП.012.9 | P33: (583х16х300)-5р/д | Q33: =((Скидка!DY28*(100-Скидка!$C$3))*Скидка!$D$4)/100 -> 2458.4
B34: 6БР.011.1 | C34: (783х16х300)-5р/д | D34: =((Скидка!DL29*(100-Скидка!$C$3))*Скидка!$D$4)/100 -> 2419.2 | E34: 6БР.011.2 | F34: (783х16х300)-5р/д | G34: =((Скидка!DO29*(100-Скидка!$C$3))*Скидка!$D$4)/100 -> 2471.84 | H34: 6БР.005.4 | I34: (700х16х300) | K34: =((Скидка!DS29*(100-Скидка!$C$3))*Скидка!$D$4)/100 -> 2584.96 | L34: 6БР.011.7 | M34: (783х16х300)-5р/д | N34: =((Скидка!DV29*(100-Скидка!$C$3))*Скидка!$D$4)/100 -> 2412.48 | O34: 6БРП.001.9 | P34: (683х16х300) | Q34: =((Скидка!DY29*(100-Скидка!$C$3))*Скидка!$D$4)/100 -> 2477.44
B35: 6БР.003.1 | C35: (800х16х300)-5р/д | D35: =((Скидка!DL30*(100-Скидка!$C$3))*Скидка!$D$4)/100 -> 2425.92 | E35: 6БР.003.2 | F35: (800х16х300)-5р/д | G35: =((Скидка!DO30*(100-Скидка!$C$3))*Скидка!$D$4)/100 -> 2477.44 | H35: 6БР.003.4 | I35: (800х16х300)-5р/д | K35: =((Скидка!DS30*(100-Скидка!$C$3))*Скидка!$D$4)/100 -> 2611.84 | L35: 6БР.003.7 | M35: (800х16х300)-5р/д | N35: =((Скидка!DV30*(100-Скидка!$C$3))*Скидка!$D$4)/100 -> 2412.48 | O35: 6БРП.011.9 | P35: (783х16х300)-5р/д | Q35: =((Скидка!DY30*(100-Скидка!$C$3))*Скидка!$D$4)/100 -> 2486.4
B36: Барьеры из ЛДСП - GLOSS
B37: Барьеры боковые | F37: Барьеры боковые | J37: Барьеры фронтальные | N37: Барьеры фронтальные, для сдвоенных бенч-систем
F39: 9БРЛ.001.9 (683х16х300) | I39: =((Скидка!DQ34*(100-Скидка!$C$3))*Скидка!$D$4)/100 -> 2927.68 | J39: 9БР.007.1 (1200х16х300) | M39: =((Скидка!DU34*(100-Скидка!$C$3))*Скидка!$D$4)/100 -> 2612.96 | N39: 9БР.007.3 (1200х16х300) | Q39: =((Скидка!DY34*(100-Скидка!$C$3))*Скидка!$D$4)/100 -> 2804.48
F40: 9БРЛ.011.9 (783х16х300) | I40: =((Скидка!DQ35*(100-Скидка!$C$3))*Скидка!$D$4)/100 -> 2970.24 | J40: 9БР.008.1 (1400х16х300) | M40: =((Скидка!DU35*(100-Скидка!$C$3))*Скидка!$D$4)/100 -> 3204.32 | N40: 9БР.008.3 (1400х16х300) | Q40: =((Скидка!DY35*(100-Скидка!$C$3))*Скидка!$D$4)/100 -> 3493.28
F41: 9БРП.001.9 (683х16х300) | I41: =((Скидка!DQ36*(100-Скидка!$C$3))*Скидка!$D$4)/100 -> 2927.68 | J41: 9БР.009.1 (1600х16х300) | M41: =((Скидка!DU36*(100-Скидка!$C$3))*Скидка!$D$4)/100 -> 3560.48 | N41: 9БР.009.3 (1600х16х300) | Q41: =((Скидка!DY36*(100-Скидка!$C$3))*Скидка!$D$4)/100 -> 3848.32
F42: 9БРП.011.9 (783х16х300) | I42: =((Скидка!DQ37*(100-Скидка!$C$3))*Скидка!$D$4)/100 -> 2970.24 | J42: 9БР.002.1 (1800х16х300) - 5р/д | M42: =((Скидка!DU37*(100-Скидка!$C$3))*Скидка!$D$4)/100 -> 3563.84 | N42: 9БР.002.3 (1800х16х300) - 5р/д | Q42: =((Скидка!DY37*(100-Скидка!$C$3))*Скидка!$D$4)/100 -> 3852.8
B43: 9БР.005.4 (700х16х300) - 5р/д | E43: =((Скидка!DM38*(100-Скидка!$C$3))*Скидка!$D$4)/100 -> 1957.76 | F43: 9БРЛ.401.9 (683х16х400) | I43: =((Скидка!DQ38*(100-Скидка!$C$3))*Скидка!$D$4)/100 -> 3053.12 | J43: 9БР.407.1 (1200х16х400) | M43: =((Скидка!DU38*(100-Скидка!$C$3))*Скидка!$D$4)/100 -> 3000.48 | N43: 9БР.407.3 (1200х16х400) | Q43: =((Скидка!DY38*(100-Скидка!$C$3))*Скидка!$D$4)/100 -> 3194.24
B44: 9БР.003.4 (800х16х300) | E44: =((Скидка!DM39*(100-Скидка!$C$3))*Скидка!$D$4)/100 -> 2037.28 | F44: 9БРЛ.411.9 (783х16х400) | I44: =((Скидка!DQ39*(100-Скидка!$C$3))*Скидка!$D$4)/100 -> 3109.12 | J44: 9БР.408.1 (1400х16х400) | M44: =((Скидка!DU39*(100-Скидка!$C$3))*Скидка!$D$4)/100 -> 3669.12 | N44: 9БР.408.3 (1400х16х400) | Q44: =((Скидка!DY39*(100-Скидка!$C$3))*Скидка!$D$4)/100 -> 3956.96
B45: 9БР.405.4 (700х16х400) | E45: =((Скидка!DM40*(100-Скидка!$C$3))*Скидка!$D$4)/100 -> 2206.4 | F45: 9БРП.401.9 (683х16х400) | I45: =((Скидка!DQ40*(100-Скидка!$C$3))*Скидка!$D$4)/100 -> 3053.12 | J45: 9БР.409.1 (1600х16х400) | M45: =((Скидка!DU40*(100-Скидка!$C$3))*Скидка!$D$4)/100 -> 4073.44 | N45: 9БР.409.3 (1600х16х400) | Q45: =((Скидка!DY40*(100-Скидка!$C$3))*Скидка!$D$4)/100 -> 4363.52
B46: 9БР.403.4 (800х16х400) - 5р/д | E46: =((Скидка!DM41*(100-Скидка!$C$3))*Скидка!$D$4)/100 -> 2252.32 | F46: 9БРП.411.9 (783х16х400) | I46: =((Скидка!DQ41*(100-Скидка!$C$3))*Скидка!$D$4)/100 -> 3109.12 | J46: 9БР.402.1 (1800х16х400) - 5 р/д | M46: =((Скидка!DU41*(100-Скидка!$C$3))*Скидка!$D$4)/100 -> 4490.08 | N46: 9БР.402.3 (1800х16х400) - 5р/д | Q46: =((Скидка!DY41*(100-Скидка!$C$3))*Скидка!$D$4)/100 -> 4777.92
B47: Барьеры в алюминевом профиле - GLOSS
B48: Барьеры в алюминевом профиле, вставка ткань
B49: Барьеры боковые | G49: Барьеры фронтальные для линейных и рабочих столов BENCH | M49: Барьеры фронтальные для сдвоенных столов BENCH
B51: 9БТЛ.0402.4 (700х29х400) | F51: =((Скидка!DN45*(100-Скидка!$C$3))*Скидка!$D$4)/100 -> 7336 | G51: 9БТ.0406.6 (1200х29х400) | L51: =((Скидка!DT45*(100-Скидка!$C$3))*Скидка!$D$4)/100 -> 11258.24 | M51: 9БТ.0406.8 (1200х29х400) | Q51: =((Скидка!DY45*(100-Скидка!$C$3))*Скидка!$D$4)/100 -> 11832.8
B52: 9БТЛ.0403.4 (800х29х400) | F52: =((Скидка!DN46*(100-Скидка!$C$3))*Скидка!$D$4)/100 -> 8192.8 | G52: 9БТ.0407.6 (1400х29х400) | L52: =((Скидка!DT46*(100-Скидка!$C$3))*Скидка!$D$4)/100 -> 12491.36 | M52: 9БТ.0407.8 (1400х29х400) | Q52: =((Скидка!DY46*(100-Скидка!$C$3))*Скидка!$D$4)/100 -> 13067.04
B53: 9БТП.0402.4 (700х29х400) | F53: =((Скидка!DN47*(100-Скидка!$C$3))*Скидка!$D$4)/100 -> 7336 | G53: 9БТ.0408.6 (1600х29х400) | L53: =((Скидка!DT47*(100-Скидка!$C$3))*Скидка!$D$4)/100 -> 11299.68 | M53: 9БТ.0408.8 (1600х29х400) | Q53: =((Скидка!DY47*(100-Скидка!$C$3))*Скидка!$D$4)/100 -> 11875.36
B54: 9БТП.0403.4 (800х29х400) | F54: =((Скидка!DN48*(100-Скидка!$C$3))*Скидка!$D$4)/100 -> 8192.8 | G54: 9БТ.0409.6 (1800х29х400) | L54: =((Скидка!DT48*(100-Скидка!$C$3))*Скидка!$D$4)/100 -> 14470.4 | M54: 9БТ.0409.8 (1800х29х400) | Q54: =((Скидка!DY48*(100-Скидка!$C$3))*Скидка!$D$4)/100 -> 15046.08
B55: Барьеры в алюминевом профиле, вставка стекло матовое, ткань
B56: Барьеры боковые | G56: Барьеры фронтальные для линейных и рабочих столов BENCH | M56: Барьеры фронтальные для сдвоенных столов BENCH
B58: 9БТСЛ.0411.4 (700х29х400) | F58: =((Скидка!DN52*(100-Скидка!$C$3))*Скидка!$D$4)/100 -> 9414.72 | G58: 9БТС.0415.6 (1200х29х400) | L58: =((Скидка!DT52*(100-Скидка!$C$3))*Скидка!$D$4)/100 -> 14245.28 | M58: 9БТС.0415.8 (1200х29х400) | Q58: =((Скидка!DY52*(100-Скидка!$C$3))*Скидка!$D$4)/100 -> 14842.24
B59: 9БТСЛ.0412.4 (800х29х400) | F59: =((Скидка!DN53*(100-Скидка!$C$3))*Скидка!$D$4)/100 -> 9909.76 | G59: 9БТС.0416.6 (1400х29х400) | L59: =((Скидка!DT53*(100-Скидка!$C$3))*Скидка!$D$4)/100 -> 15752.8 | M59: 9БТС.0416.8 (1400х29х400) | Q59: =((Скидка!DY53*(100-Скидка!$C$3))*Скидка!$D$4)/100 -> 16353.12
B60: 9БТСП.0411.4 (700х29х400) | F60: =((Скидка!DN54*(100-Скидка!$C$3))*Скидка!$D$4)/100 -> 9414.72 | G60: 9БТС.0417.6 (1600х29х400) | L60: =((Скидка!DT54*(100-Скидка!$C$3))*Скидка!$D$4)/100 -> 17388 | M60: 9БТС.0417.8 (1600х29х400) | Q60: =((Скидка!DY54*(100-Скидка!$C$3))*Скидка!$D$4)/100 -> 17991.68
B61: 9БТСП.0412.4 (800х29х400) | F61: =((Скидка!DN55*(100-Скидка!$C$3))*Скидка!$D$4)/100 -> 9909.76 | G61: 9БТС.0418.6 (1800х29х400) | L61: =((Скидка!DT55*(100-Скидка!$C$3))*Скидка!$D$4)/100 -> 18658.08 | M61: 9БТС.0418.8 (1800х29х400) | Q61: =((Скидка!DY55*(100-Скидка!$C$3))*Скидка!$D$4)/100 -> 19283.04
B62: Барьеры в алюминевом профиле, вставка стекло матовое
B63: Барьеры боковые | G63: Барьеры фронтальные для линейных и рабочих столов BENCH | M63: Барьеры фронтальные для сдвоенных столов BENCH
B65: 9БСЛ.0402.4 (700х29х400) | F65: =((Скидка!DN59*(100-Скидка!$C$3))*Скидка!$D$4)/100 -> 6445.6 | G65: 9БС.0406.6 (1200х29х400) | L65: =((Скидка!DT59*(100-Скидка!$C$3))*Скидка!$D$4)/100 -> 10252.48 | M65: 9БС.0406.8 (1200х29х400) | Q65: =((Скидка!DY59*(100-Скидка!$C$3))*Скидка!$D$4)/100 -> 10827.04
B66: 9БСЛ.0403.4 (800х29х400) | F66: =((Скидка!DN60*(100-Скидка!$C$3))*Скидка!$D$4)/100 -> 6935.04 | G66: 9БС.0407.6 (1400х29х400) | L66: =((Скидка!DT60*(100-Скидка!$C$3))*Скидка!$D$4)/100 -> 11196.64 | M66: 9БС.0407.8 (1400х29х400) | Q66: =((Скидка!DY60*(100-Скидка!$C$3))*Скидка!$D$4)/100 -> 11772.32
B67: 9БСП.0402.4 (700х29х400) | F67: =((Скидка!DN61*(100-Скидка!$C$3))*Скидка!$D$4)/100 -> 6445.6 | G67: 9БС.0408.6 (1600х29х400) | L67: =((Скидка!DT61*(100-Скидка!$C$3))*Скидка!$D$4)/100 -> 12070.24 | M67: 9БС.0408.8 (1600х29х400) | Q67: =((Скидка!DY61*(100-Скидка!$C$3))*Скидка!$D$4)/100 -> 12645.92
B68: 9БСП.0403.4 (800х29х400) | F68: =((Скидка!DN62*(100-Скидка!$C$3))*Скидка!$D$4)/100 -> 6935.04 | G68: 9БС.0409.6 (1800х29х400) | L68: =((Скидка!DT62*(100-Скидка!$C$3))*Скидка!$D$4)/100 -> 13298.88 | M68: 9БС.0409.8 (1800х29х400) | Q68: =((Скидка!DY62*(100-Скидка!$C$3))*Скидка!$D$4)/100 -> 13874.56

Sheet Материалы обивки
E7: ИСПОЛЬЗУЕМЫЕ МАТЕРИАЛЫ ОБИВКИ (ТКАНЬ)
E9: Изделия с обивкой из ткани:
E10: - Акустические мобильные перегородки (SOFToffice).
E11: - Барьеры настольные (AVANCE, ARREDO, GLOSS).
E12: - Подушки для тумб (AVANCE, GLOSS).
D15: Тип ткани: РОГОЖКА
E24: Тип ткани: МИКРОВЕЛЮР
D33: ДЛЯ РАБОТЫ С КЛИЕНТАМИ ИСПОЛЬЗУЙТЕ НАШИ ОБРАЗЦЫ ОБИВОК (ТКАНЕЙ)! Цвета декоров в изображениях (прайс, сайт, каталог) могут отличаться от реальных тканей ввиду особенностей цветопередачи и настроек различных экранов.

Sheet Тех. описание полное
B6: Перегородки и барьеры "SOFToffice"
B7: Группа элементов / параметр | C7: Выражение параметра | D7: Возможные цвета
B8: Акустические мобильные перегородки с мобильной опорой
B9: Толщина используемого ДСП, мм | C9: 16
B10: Толщина ППУ, мм | C10: 5
B11: Ткань | D11: См. страницу "МАТЕРИАЛЫ ОБИВКИ"
B12: Опора мобильная | C12: труба профильная 40х20мм, полоса стальная 40х3(4)мм, колесо со стопором d50мм | D12: По образцу
B15: Акустические мобильные перегородки со стационарной опорой
B16: Толщина используемого ДСП, мм | C16: 16
B17: Толщина ППУ, мм | C17: 5
B18: Ткань | D18: См. страницу "МАТЕРИАЛЫ ОБИВКИ"
B19: Опора стационарная | C19: полоса стальная 40х4мм | D19: По образцу
B20: Настольные барьеры с мягким наполнением GLOSS
B21: Толщина используемого ДСП, мм. | C21: 16
B22: Толщина ППУ, мм. | C22: 5
B23: Ткань | D23: См. страницу "МАТЕРИАЛЫ ОБИВКИ"
B24: Металлические крепления | C24: Сталь 3мм | D24: По образцу
B25: Настольные барьеры с мягким наполнением ARREDO
B26: Толщина используемого ДСП, мм. | C26: 16
B27: Толщина ППУ, мм. | C27: 5
B28: Ткань | D28: По образцу
B29: Металлические крепления | C29: Верх - сталь 10мм, Нижняя пластина - сталь 3мм | D29: По образцу
B30: Настольные барьеры с мягким наполнением Фетр
B31: Толщина используемого МДФ, мм. | C31: 8
B32: Толщина ППУ, мм. | C32: 5
B33: Фетр | D33: По образцу
B34: Металлические крепления | C34: Верх - сталь 10мм, Низ пластина - сталь 3мм | D34: По образцу
B35: Настольные барьеры AVANCE
B36: Толщина используемого ДСП, мм. | C36: 16
B37: Ткань | D37: По образцу
B38: Металлические крепления | C38: Сталь 3мм | D38: По образцу
B39: Подушкa AVANCE
B40: Толщина ППУ, мм. | C40: 50
B41: Ткань | D41: См. страницу " МАТЕРИАЛЫ ОБИВКИ"
B43: Перегородки и барьеры серии "GLOSS"
B44: Группа элементов / параметр | C44: Выражение параметра | D44: Возможные цвета
B45: Барьеры и экраны ЛДСП
B46: Толщина используемого ЛДСП, мм. | C46: 16 | D46: Белый Премиум, Ivory, Teakwood
B47: Используемая кромка, мм. | C47: 1, PVC
B48: Барьеры и экраны оргстекло
B49: Толщина используемого оргстекла, мм. | C49: 4 | D49: Kiwi, Orange, Белый глянец
B50: Барьеры и экраны HPL
B51: Толщина используемого HPL, мм. | C51: 4 | D51: Черный глянец
B52: Барьеры ткань (ЛДСП+ППУ+Ткань)
B53: Толщина используемого ЛДСП, мм. | C53: 16
B54: Толщина ППУ, мм. | C54: 5
B55: Ткань. | D55: См. страницу "МАТЕРИАЛЫ ОБИВКИ"
B56: Барьеры в алюминиевом профиле
B57: Алюминиевая рамка. | C57: Алюминиевый профиль | D57: Алюминий матовый
B58: Толщина стекла, мм. | C58: 5 | D58: Матовое
B59: Ткань. | C59: МДФ+ППУ+Ткань | D59: См. страницу "МАТЕРИАЛЫ ОБИВКИ"
B60: Подушка GLOSS
B61: Подушка съемная | C61: ППУ 50мм+Ткань | D61: См. страницу " МАТЕРИАЛЫ ОБИВКИ"
B63: Перегородки и барьеры серии "AVANCE"
B64: Группа элементов / параметр | C64: Выражение параметра | D64: Возможные цвета
B65: Подушка
B66: Подушка съемная | C66: ППУ 50мм+Ткань | D66: См. страницу "МАТЕРИАЛЫ ОБИВКИ"
B67: Барьеры ЛДСП
B68: Толщина используемого ЛДСП, мм | C68: 16 | D68: Шамони темный, Шамони светлый, Венге, Белый
B69: Используемая кромка, мм | C69: 1, PVC
B70: Барьеры оргстекло
B71: Толщина используемого оргстекла, мм | C71: 4 | D71: Kiwi, Orange, Белый глянец
B72: Барьеры ткань (ЛДСП+Ткань)
B73: Толщина используемого ЛДСП, мм | C73: 16
B74: Ткань | D74: См. страницу "МАТЕРИАЛЫ ОБИВКИ"
B76: Перегородки и барьеры серии "ARREDO"
B77: Группа элементов / параметр | C77: Выражение параметра | D77: Возможные цвета
B78: Барьеры ткань (ЛДСП+ППУ+Ткань)
B79: Толщина используемого ЛДСП, мм | C79: 16
B80: Толщина ППУ, мм | C80: 5
B81: Ткань | D81: См. страницу "МАТЕРИАЛЫ ОБИВКИ"
B82: Крепления барьеров | D82: Металл глянец, Черный глянец. Цвета по образцу согласовываются с менеджером
B83: Барьеры Fetr (МДФ+ППУ+Фетр)
B84: Толщина используемого МДФ, мм | C84: 8
B85: Толщина ППУ, мм | C85: 5
B86: Фетр | D86: Urban, Blue, Green, Cappuccino, Wine
B87: Крепления барьеров | D87: Металл глянец, Черный глянец. Цвета по образцу согласовываются с менеджером
B88: Барьеры оргстекло и HPL
B89: Барьер оргстекло, мм | C89: 4 | D89: Белый глянец
B90: Барьер HPL, мм | C90: 4 | D90: Черный глянец
B91: Крепления барьеров | D91: Металл глянец, Черный глянец. Цвета по образцу согласовываются с менеджером
B92: Экран оргстекло и HPL
B93: Экран подвесной оргстекло, мм | C93: 4 | D93: Белый глянец
B94: Экран подвесной HPL, мм | C94: 4 | D94: Черный глянец
B95: Крепления экранов | C95: КБ.001 | D95: Черный
B96: Производитель оставляет за собой право изменять конструкцию и фурнитуру без изменения внешнего вида и назначения изделия.

Sheet Скидка
A1: Настройка скидок/наценок
C2: %
A3: Скидка | C3: 0 | D3: =C3 -> 0
A4: Наценка | C4: 12 | D4: =C4/100+1 -> 1.12
CA7: стр. 5
BJ8: НАСТОЛЬНЫЕ БАРЬЕРЫ ФЕТР | BW8: ='Перегородки SOFToffice'!BY8 -> 0 | CR8: стр. 6 | DJ8: стр. 7
AS10: Цены указаны с учетом скидки: | AW10: =Скидка!AT3/100 -> 0 | BG10: стр. 3 | BJ10: Цены указаны с учетом скидки: | BN10: =Скидка!BK3/100 -> 0 | BX10: стр. 4
AS11: Настольные барьеры с мягким наполнением | BJ11: Настольные барьеры ФЕТР | CA11: Барьеры Оргстекло, фронтальные | CR11: БАРЬЕРЫ и ЭКРАНЫ HPL- GLOSS
AS12: Барьеры мягкие боковые гладкие | BJ12: Барьеры из фетра, боковые | BP12: Барьеры из фетра, фронтальные | CA12: Барьеры для: -столов на опорах ЛДСП -столов на металлокаркасе, сечение 50х50 | CF12: Барьеры для: -столов на металлокаркасе, сечение 40х40 -линейных столов BENCH, сечение 40х40 | CL12: Барьеры для: -сдвоенных столов BENCH | CR12: БАРЬЕРЫ и ЭКРАНЫ HPL | DJ12: Барьеры ЛДСП, фронтальные - AVANCE
CR13: Барьер боковой HPL | CW13: Барьер фронтальный HPL | DC13: Экраны подстольные HPL
AS14: Способ установки: крепление к столешнице снизу | AY14: Способ установки: крепление к двум столешницам снизу | BJ14: Способ установки: крепление к столешнице снизу | BP14: Способ установки: крепление к столешнице снизу
AS15: Толщина столешницы мин.16мм, макс.38мм | AY15: Толщина столешницы мин.16мм, макс.38мм | BJ15: Толщина столешницы 25мм | BP15: Толщина столешницы 25мм | CD15: Белый глянец | CE15: Orange, Kiwi | CJ15: Белый глянец | CK15: Orange, Kiwi | CO15: Белый глянец | CP15: Orange, Kiwi
AV16: 010.БТБ.583 (580х27х300) | AW16: 4644 | AX16: 5589 | BM16: 010.ФБ.583 (580х20х300) | BN16: 5082 | BO16: 6014 | BW16: Порошк. покрытие | BX16: Металл глянец
AV17: 010.БТБ.603 (600х27х300) | AW17: 4742 | AX17: 5686 | BD17: 010.БТФ.103 (1000х27х300) | BF17: 5331 | BG17: 6272 | BM17: 010.ФБ.603 (600х20х300) | BN17: 5124 | BO17: 6056 | CA17: 6БР.050.1 | CC17: (900х300) | CD17: 5138 | CE17: 8274 | CF17: 6БР.050.2 | CH17: (900х300) | CJ17: 5184 | CK17: 8274 | CL17: 6БР.050.3 | CN17: (900х300) | CO17: 5348 | CP17: 8274
AV18: 010.БТБ.683 (680х27х300) | AW18: 4908 | AX18: 5843 | BD18: 010.БТФ.123 (1200х27х300) | BF18: 5657 | BG18: 6603 | BM18: 010.ФБ.683 (680х20х300) | BN18: 5335 | BO18: 6267 | BU18: 010.ФФ.103 (1000х20х300) | BW18: 6459 | BX18: 7391 | CA18: 6БР.010.1 | CC18: (1100х300) | CD18: 5669 | CE18: 9017 | CF18: 6БР.010.2 | CH18: (1100х300) | CJ18: 5738 | CK18: 9017 | CL18: 6БР.010.3 | CN18: (1100х300) | CO18: 5984 | CP18: 9017 | DJ18: 6БР.006.1 | DL18: (1000х300х16) | DN18: 2369 | DO18: 6БР.006.2 | DQ18: (1000х300х16) | DS18: 2369 | DT18: 6БР.006.3 | DV18: (1000х300х16) | DX18: 2369
AV19: 010.БТБ.703 (700х27х300) | AW19: 4964 | AX19: 5899 | BD19: 010.БТФ.143 (1400х27х300) | BF19: 6297 | BG19: 7224 | BM19: 010.ФБ.703 (700х20х300) | BN19: 5393 | BO19: 6325 | BU19: 010.ФФ.123 (1200х20х300) | BW19: 6993 | BX19: 7925 | CA19: 6БР.020.1 | CC19: (1300х300) | CD19: 6392 | CE19: 10221 | CF19: 6БР.020.2 | CH19: (1300х300) | CJ19: 6461 | CK19: 10221 | CL19: 6БР.020.3 | CN19: (1300х300) | CO19: 6707 | CP19: 10221 | DJ19: 6БР.007.1 | DL19: (1200х300х16) | DN19: 2472 | DO19: 6БР.007.2 | DQ19: (1200х300х16) | DS19: 2472 | DT19: 6БР.007.3 | DV19: (1200х300х16) | DX19: 2472
AV20: 010.БТБ.783 (780х27х300) | AW20: 5128 | AX20: 6062 | BD20: 010.БТФ.163 (1600х27х300) | BF20: 6858 | BG20: 7801 | BM20: 010.ФБ.783 (780х20х300) | BN20: 5606 | BO20: 6538 | BU20: 010.ФФ.143 (1400х20х300) | BW20: 7821 | BX20: 8753 | CA20: 6БР.030.1 | CC20: (1500х300) | CD20: 6909 | CE20: 11082 | CF20: 6БР.030.2 | CH20: (1500х300) | CJ20: 6978 | CK20: 11082 | CL20: 6БР.030.3 | CN20: (1500х300) | CO20: 7224 | CP20: 11082 | DJ20: 6БР.008.1 | DL20: (1400х300х16) | DN20: 2864 | DO20: 6БР.008.2 | DQ20: (1400х300х16) | DS20: 2864 | DT20: 6БР.008.3 | DV20: (1400х300х16) | DX20: 2864
AV21: 010.БТБ.803 (800х27х300) | AW21: 5187 | AX21: 6121 | BD21: 010.БТФ.183 (1800х27х300) | BF21: 8143 | BG21: 9554 | BM21: 010.ФБ.803 (800х20х300) | BN21: 5654 | BO21: 6586 | BU21: 010.ФФ.163 (1600х20х300) | BW21: 9580 | BX21: 10978 | CA21: Барьеры Оргстекло, боковые | DJ21: 6БР.009.1 | DL21: (1600х300х16) | DN21: 3262 | DO21: 6БР.009.2 | DQ21: (1600х300х16) | DS21: 3262 | DT21: 6БР.009.3 | DV21: (1600х300х16) | DX21: 3262
CA22: Барьеры для: -столов на опорах ЛДСП -столов на металлокаркасе, сечение 50х50 | CF22: Барьеры для: -столов на металлокаркасе сечение 40х40 -линейных столов BENCH, сечение 40х40 | CL22: Барьеры для: -столов на опорах ЛДСП -сдвоенных столов BENCH -линейных столов BENCH | DJ22: Барьеры ЛДСП, боковые
AV23: 010.БТБ.584 (580х27х400) | AW23: 4738 | AX23: 5654 | BM23: 010.ФБ.584 (580х20х400) | BN23: 5144 | BO23: 6076 | DJ23: Барьеры для: -столов на опорах ЛДСП -столов на металлокаркасе, сечение 50х50 | DM23: Барьеры, для: -столов на металлокаркасе, сечение 40х40 -линейных столов BENCH сечение 40х40 | DP23: Барьеры, для: -сдвоенных столов BENCH, сечение 50х50 | DT23: Барьеры для: -сдвоенных столов BENCH | DW23: Барьеры для: -столов на опорах ЛДСП -столов на металлокаркасе, сечение 50х50
AV24: 010.БТБ.604 (600х27х400) | AW24: 4776 | AX24: 5693 | BD24: 010.БТФ.104 (1000х27х400) | BF24: 5573 | BG24: 6486 | BM24: 010.ФБ.604 (600х20х400) | BN24: 5201 | BO24: 6133 | BU24: 010.ФФ.104 (1000х20х400) | BW24: 6543 | BX24: 7475
AV25: 010.БТБ.684 (680х27х400) | AW25: 4938 | AX25: 5852 | BD25: 010.БТФ.124 (1200х27х400) | BF25: 6005 | BG25: 6921 | BM25: 010.ФБ.684 (680х20х300) | BN25: 5425 | BO25: 6357 | BU25: 010.ФФ.124 (1200х20х400) | BW25: 7151 | BX25: 8083 | DJ25: 6БР.012.1 | DK25: (580х300х16) | DL25: 2092 | DM25: 6БР.012.2 | DN25: (580х300х16) | DO25: 2138 | DT25: 6БР.012.7 | DV25: 2085 | DW25: 6БРЛ.012.9 | DX25: (580х300х16) | DY25: 2144
AV26: 010.БТБ.704 (700х27х400) | AW26: 4977 | AX26: 5891 | BD26: 010.БТФ.144 (1400х27х400) | BF26: 6691 | BG26: 7604 | BM26: 010.ФБ.704 (700х20х400) | BN26: 5476 | BO26: 6408 | BU26: 010.ФФ.144 (1400х20х400) | BW26: 7996 | BX26: 8928 | CW26: 9БРН.250.1 (1000х4х300) | DB26: 6708 | DC26: 9ЭН.350.1 (1000х4х300) | DG26: 6442 | DJ26: 6БР.004.1 | DK26: (600х300х16) | DL26: 2104 | DM26: 6БР.004.2 | DN26: (600х300х16) | DO26: 2153 | DT26: 6БР.004.7 | DV26: 2085 | DW26: 6БРЛ.001.9 | DX26: (680х300х16) | DY26: 2159
P27: 011.МП.8011 | Q27: 11093 | W27: 011.МП.1011 | X27: 11712 | AV27: 010.БТБ.784 (780х27х400) | AW27: 5139 | AX27: 6050 | BD27: 010.БТФ.164 (1600х27х400) | BF27: 7389 | BG27: 8446 | BM27: 010.ФБ.784 (780х20х400) | BN27: 5708 | BO27: 6640 | BU27: 010.ФФ.164 (1600х20х400) | BW27: 9790 | BX27: 11188 | CW27: 9БРН.210.1 (1200х4х300) | DB27: 7798 | DC27: 9ЭН.310.1 (1200х4х300) | DG27: 7532 | DJ27: 6БР.001.1 | DK27: (680х300х16) | DL27: 2129 | DM27: 6БР.001.2 | DN27: (680х300х16) | DO27: 2176 | DT27: 6БР.001.7 | DV27: 2121 | DW27: 6БРЛ.011.9 | DX27: (780х300х16) | DY27: 2181
AV28: 010.БТБ.804 (800х27х400) | AW28: 5175 | AX28: 6090 | BD28: 010.БТФ.184 (1800х27х400) | BF28: 8754 | BG28: 10494 | BM28: 010.ФБ.804 (800х20х400) | BN28: 5759 | BO28: 6691 | CD28: Белый глянец | CE28: Orange, Kiwi | CJ28: Белый глянец | CK28: Orange, Kiwi | CO28: Белый глянец | CP28: Orange, Kiwi | CW28: 9БРН.220.1 (1400х4х300) | DB28: 8890 | DC28: 9ЭН.320.1 (1400х4х300) | DG28: 8624 | DJ28: 6БР.005.1 | DK28: (700х300х16) | DL28: 2141 | DM28: 6БР.005.2 | DN28: (700х300х16) | DO28: 2190 | DP28: 6БР.004.4 | DR28: (600х300х16) | DS28: 2269 | DT28: 6БР.005.7 | DU28: (600х300х16) | DV28: 2121 | DW28: 6БРП.012.9 | DX28: (580х300х16) | DY28: 2195
CW29: 9БРН.230.1 (1600х4х300) | DB29: 9981 | DC29: 9ЭН.330.1 (1600х4х300) | DG29: 10247 | DJ29: 6БР.011.1 | DK29: (780х300х16) | DL29: 2160 | DM29: 6БР.011.2 | DN29: (780х300х16) | DO29: 2207 | DP29: 6БР.005.4 | DR29: (700х300х16) | DS29: 2308 | DT29: 6БР.011.7 | DU29: (700х300х16) | DV29: 2154 | DW29: 6БРП.001.9 | DX29: (680х300х16) | DY29: 2212
AV30: 010.БТБ.585 (580х27х500) | AW30: 4838 | AX30: 5752 | BM30: 010.ФБ.585 (580х20х500) | BN30: 6146 | BO30: 7078 | BU30: 010.ФФ.105 (1000х20х500) | BW30: 6674 | BX30: 7606 | CA30: 6БР.040.1 | CB30: (600х300) | CD30: 4260 | CE30: 6812 | CF30: 6БР.040.2 | CI30: (600х300) | CJ30: 4306 | CK30: 6812 | CL30: 6БР.040.7 | CN30: (600х300) | CO30: 4312 | CP30: 6812 | CR30: 9БРН.040.1 (600х4х300) | CV30: 4032 | CW30: 9БРН.150.1 (1000х4х400) | DB30: 8067 | DC30: 9ЭН.450.1 (1000х4х400) | DG30: 7801 | DJ30: 6БР.003.1 | DK30: (800х300х16) | DL30: 2166 | DM30: 6БР.003.2 | DN30: (800х300х16) | DO30: 2212 | DP30: 6БР.003.4 | DR30: (800х300х16) | DS30: 2332 | DT30: 6БР.003.7 | DU30: (800х300х16) | DV30: 2154 | DW30: 6БРП.011.9 | DX30: (780х300х16) | DY30: 2220
AD31: 9БР.307.1 (1200х27х300) | AG31: 4923 | AL31: 9БР.307.3 (1200х27х300) | AO31: 5258 | AV31: 010.БТБ.605 (600х27х500) | AW31: 4882 | AX31: 5795 | BD31: 010.БТФ.105 (1000х27х500) | BF31: 5743 | BG31: 6656 | BM31: 010.ФБ.605 (600х20х500) | BN31: 6149 | BO31: 7081 | BU31: 010.ФФ.125 (1200х20х500) | BW31: 7307 | BX31: 8239 | CA31: 6БР.070.1 | CB31: (700х300) | CD31: 4555 | CE31: 7307 | CF31: 6БР.070.2 | CI31: (700х300) | CJ31: 4601 | CK31: 7355 | CL31: 6БР.070.7 | CN31: (700х300) | CO31: 4607 | CP31: 7364 | CR31: 9БРН.070.1 (700х4х300) | CV31: 4579 | CW31: 9БРН.110.1 (1200х4х400) | DB31: 9408 | DC31: 9ЭН.410.1 (1200х4х400) | DG31: 9142 | DJ31: Барьеры из ЛДСП - GLOSS
AD32: 9БР.308.1 (1400х27х300) | AG32: 5601 | AL32: 9БР.308.3 (1400х27х300) | AO32: 5936 | AV32: 010.БТБ.685 (680х27х500) | AW32: 4968 | AX32: 5883 | BD32: 010.БТФ.125 (1200х27х500) | BF32: 6205 | BG32: 7125 | BM32: 010.ФБ.685 (680х20х500) | BN32: 6202 | BO32: 7134 | BU32: 010.ФФ.145 (1400х20х500) | BW32: 8197 | BX32: 9129 | CA32: Барьеры оргстекло | CR32: 9БРН.140.1 (600х4х400) | CV32: 4837 | CW32: 9БРН.120.1 (1400х4х400) | DB32: 10751 | DC32: 9ЭН.420.1 (1400х4х400) | DG32: 10485 | DJ32: Барьеры боковые | DN32: Барьеры боковые | DR32: Барьеры фронтальные | DV32: Барьеры фронтальные
P33: 011.МП.8012 | Q33: 11252 | W33: 011.МП.1012 | X33: 11893 | AD33: 9БР.309.1 (1600х27х300) | AG33: 6240 | AL33: 9БР.309.3 (1600х27х300) | AO33: 6613 | AV33: 010.БТБ.705 (700х27х500) | AW33: 5099 | AX33: 6010 | BD33: 010.БТФ.145 (1400х27х500) | BF33: 7220 | BG33: 8148 | BM33: 010.ФБ.705 (700х20х500) | BN33: 6214 | BO33: 7146 | BU33: 010.ФФ.165 (1600х20х500) | BW33: 10000 | BX33: 11398 | CA33: Барьеры оргстекло боковые | CE33: Барьеры оргстекло боковые | CI33: Барьеры оргстекло фронтальные | CM33: Барьеры оргстекло фронтальные | CR33: 9БРН.170.1 (700х4х400) | CV33: 5509 | CW33: 9БРН.130.1 (1600х4х400) | DB33: 12093 | DC33: 9ЭН.430.1 (1600х4х400) | DG33: 12359
AD34: 9БР.302.1 (1800х27х300) | AG34: 6652 | AL34: 9БР.302.3 (1800х27х300) | AO34: 6986 | AV34: 010.БТБ.785 (780х27х500) | AW34: 5271 | AX34: 6182 | BD34: 010.БТФ.165 (1600х27х500) | BF34: 7656 | BG34: 8813 | BM34: 010.ФБ.785 (780х20х500) | BN34: 6267 | BO34: 7199 | DN34: 9БРЛ.001.9 (683х300х16) | DQ34: 2614 | DR34: 9БР.007.1 (1200х300х16) | DU34: 2333 | DV34: 9БР.007.3 (1200х300х16) | DY34: 2504
AD35: 9БР.107.1 (1200х27х400) | AG35: 5213 | AL35: 9БР.107.3 (1200х27х400) | AO35: 5472 | AV35: 010.БТБ.805 (800х27х500) | AW35: 5303 | AX35: 6225 | BD35: 010.БТФ.185 (1800х27х500) | BF35: 9059 | BG35: 10905 | BM35: 010.ФБ.805 (800х20х500) | BN35: 6279 | BO35: 7211 | CK35: Белый глянец | CL35: Orange, Kiwi | CO35: Белый глянец | CP35: Orange, Kiwi | DN35: 9БРЛ.011.9 (783х300х16) | DQ35: 2652 | DR35: 9БР.008.1 (1400х300х16) | DU35: 2861 | DV35: 9БР.008.3 (1400х300х16) | DY35: 3119
AD36: 9БР.108.1 (1400х27х400) | AG36: 5849 | AL36: 9БР.108.3 (1400х27х400) | AO36: 6184 | DN36: 9БРП.001.9 (683х300х16) | DQ36: 2614 | DR36: 9БР.009.1 (1600х300х16) | DU36: 3179 | DV36: 9БР.009.3 (1600х300х16) | DY36: 3436
AD37: 9БР.109.1 (1600х27х400) | AG37: 6562 | AL37: 9БР.109.3 (1600х27х400) | AO37: 6897 | AS37: Барьеры мягкие фронтальные с карманами, односторонние | BJ37: Барьеры из фетра, для сдвоенного бенч | BP37: Барьеры из фетра, торцевые | CI37: 9БР.050.1 (1000х300х4) | CK37: 4659 | CL37: 7373 | CM37: 9БР.050.3 (1000х300х4) | CO37: 4869 | CP37: 7568 | DN37: 9БРП.011.9 (783х300х16) | DQ37: 2652 | DR37: 9БР.002.1 (1800х300х16) | DU37: 3182 | DV37: 9БР.002.3 (1800х300х16) | DY37: 3440
AD38: 9БР.102.1 (1800х27х400) | AG38: 6986 | AL38: 9БР.102.3 (1800х27х400) | AO38: 7321 | CI38: 9БР.010.1 (1200х300х4) | CK38: 5406 | CL38: 8421 | CM38: 9БР.010.3 (1200х300х4) | CO38: 5721 | CP38: 8715 | DJ38: 9БР.005.4 (700х300х16) | DM38: 1748 | DN38: 9БРЛ.401.9 (683х400х16) | DQ38: 2726 | DR38: 9БР.407.1 (1200х400х16) | DU38: 2679 | DV38: 9БР.407.3 (1200х400х16) | DY38: 2852
P39: 011.МП.8014 | Q39: 11500 | W39: 011.МП.1014 | X39: 12534 | AS39: Способ установки: крепление к столешнице снизу | AY39: Способ установки: крепление к двум столешницам снизу | BJ39: Способ установки: крепление к столешнице снизу | BP39: Способ установки: крепление к столешнице снизу | CC39: Белый глянец | CD39: Orange, Kiwi | CG39: Белый глянец | CH39: Orange, Kiwi | CI39: 9БР.020.1 (1400х300х4) | CK39: 5917 | CL39: 9272 | CM39: 9БР.020.3 (1400х300х4) | CO39: 6232 | CP39: 9566 | DJ39: 9БР.003.4 (800х300х16) | DM39: 1819 | DN39: 9БРЛ.411.9 (783х400х16) | DQ39: 2776 | DR39: 9БР.408.1 (1400х400х16) | DU39: 3276 | DV39: 9БР.408.3 (1400х400х16) | DY39: 3533
AS40: Толщина столешницы мин.16мм, макс.38мм | AY40: Толщина столешницы мин.16мм, макс.38мм | BJ40: Толщина столешницы 25мм | BP40: Толщина столешницы 25мм | CI40: 9БР.030.1 (1600х300х4) | CK40: 6596 | CL40: 10406 | CM40: 9БР.030.3 (1600х300х4) | CO40: 6911 | CP40: 10700 | CW40: 9БРН.250.3 (1000х4х300) | DB40: 7023 | DJ40: 9БР.405.4 (700х400х16) | DM40: 1970 | DN40: 9БРП.401.9 (683х400х16) | DQ40: 2726 | DR40: 9БР.409.1 (1600х400х16) | DU40: 3637 | DV40: 9БР.409.3 (1600х400х16) | DY40: 3896
BD41: 010.БТБГ.103 (1000х27х300) | BF41: 5303 | BG41: 6243 | CA41: 9БР.040.1 (600х300х4) | CC41: 4260 | CD41: 6354 | CE41: 9БР.040.7 (600х300х4) | CG41: 4312 | CH41: 6402 | CI41: 9БР.150.1 (1000х400х4) | CK41: 5401 | CL41: 8609 | CM41: 9БР.150.3 (1000х400х4) | CO41: 5611 | CP41: 8805 | CW41: 9БРН.210.3 (1200х4х300) | DB41: 8113 | DJ41: 9БР.403.4 (800х400х16) | DM41: 2011 | DN41: 9БРП.411.9 (783х400х16) | DQ41: 2776 | DR41: 9БР.402.1 (1800х400х16) | DU41: 4009 | DV41: 9БР.402.3 (1800х400х16) | DY41: 4266
BD42: 010.БТБГ.123 (1200х27х300) | BF42: 5639 | BG42: 6578 | BM42: 010.ФДБ.103 (1000х20х300) | BN42: 6435 | BO42: 7355 | CA42: 9БР.070.1 (700х300х4) | CC42: 4555 | CD42: 6819 | CE42: 9БР.070.7 (700х300х4) | CG42: 4607 | CH42: 6869 | CI42: 9БР.110.1 (1200х400х4) | CK42: 6233 | CL42: 9798 | CM42: 9БР.110.3 (1200х400х4) | CO42: 6548 | CP42: 10092 | CW42: 9БРН.220.3 (1400х4х300) | DB42: 9205 | DJ42: Барьеры в алюминевом профиле, вставка ткань
AL43: 9БРЛ.301.9 (680х27х300) | AO43: 4573 | AV43: 010.БТК.104 (1000х27х400) | AW43: 6627 | AX43: 7541 | BD43: 010.БТБГ.143 (1400х27х300) | BF43: 6246 | BG43: 7195 | BM43: 010.ФДБ.123 (1200х20х300) | BN43: 6969 | BO43: 7889 | BU43: 010.ФТ.603 (600х20х300) | BW43: 4610 | BX43: 5433 | CA43: 9БР.140.1 (600х400х4) | CC43: 4065 | CD43: 6381 | CE43: 9БР.140.7 (600х400х4) | CG43: 4117 | CH43: 6429 | CI43: 9БР.120.1 (1400х400х4) | CK43: 6789 | CL43: 11263 | CM43: 9БР.120.3 (1400х400х4) | CO43: 7104 | CP43: 11572 | CW43: 9БРН.230.3 (1600х4х300) | DB43: 10296 | DJ43: Барьеры боковые | DO43: Барьеры фронтальные | DU43: Барьеры фронтальные
AL44: 9БРЛ.311.9 (780х27х300) | AO44: 4764 | AV44: 010.БТК.124 (1200х27х400) | AW44: 7017 | AX44: 7933 | BD44: 010.БТБГ.163 (1600х27х300) | BF44: 6843 | BG44: 7778 | BM44: 010.ФДБ.143 (1400х20х300) | BN44: 7797 | BO44: 8718 | BU44: 010.ФТ.703 (700х20х300) | BW44: 4879 | BX44: 5702 | CA44: 9БР.170.1 (700х400х4) | CC44: 4343 | CD44: 6846 | CE44: 9БР.170.7 (700х400х4) | CG44: 4395 | CH44: 6894 | CI44: 9БР.130.1 (1600х400х4) | CK44: 7447 | CL44: 12414 | CM44: 9БР.130.3 (1600х400х4) | CO44: 7762 | CP44: 12964 | CR44: 9БРН.040.7 (600х4х300) | CV44: 4084 | CW44: 9БРН.150.3 (1000х4х400) | DB44: 8382
P45: 011.МП.8016 | Q45: 13297 | W45: 011.МП.1016 | X45: 13620 | AL45: 9БРП.301.9 (680х27х300) | AO45: 4573 | AV45: 010.БТК.144 (1400х27х400) | AW45: 7411 | AX45: 8328 | BD45: 010.БТБГ.183 (1800х27х300) | BF45: 8100 | BG45: 9526 | BM45: 010.ФДБ.163 (1600х20х300) | BN45: 9544 | BO45: 10925 | BU45: 010.ФТ.803 (800х20х300) | BW45: 5141 | BX45: 5963 | CA45: БАРЬЕРЫ ОРГСТЕКЛО | CR45: 9БРН.070.7 (700х4х300) | CV45: 4631 | CW45: 9БРН.110.3 (1200х4х400) | DB45: 9723 | DJ45: 9БТЛ.0402.4 (700х400х29) | DN45: 6550 | DO45: 9БТ.0406.6 (1200х400х29) | DT45: 10052 | DU45: 9БТ.0406.8 (1200х400х29) | DY45: 10565
AL46: 9БРП.311.9 (780х27х300) | AO46: 4764 | AV46: 010.БТК.164 (1600х27х400) | AW46: 8590 | AX46: 9499 | CA46: Барьеры боковые, оргстекло | CH46: Барьеры фронтальные, оргстекло | CR46: 9БРН.140.7 (600х4х400) | CV46: 4889 | CW46: 9БРН.120.3 (1400х4х400) | DB46: 11066 | DJ46: 9БТЛ.0403.4 (800х400х29) | DN46: 7315 | DO46: 9БТ.0407.6 (1400х400х29) | DT46: 11153 | DU46: 9БТ.0407.8 (1400х400х29) | DY46: 11667
AD47: 9БР.305.4 (700х27х300) | AG47: 3581 | AL47: 9БРЛ.101.9 (680х27х400) | AO47: 4706 | AV47: 010.БТК.184 (1800х27х400) | AW47: 9967 | AX47: 11304 | BD47: 010.БТБГ.104 (1000х27х400) | BF47: 5545 | BG47: 6522 | BM47: 010.ФДБ.104 (1000х20х400) | BN47: 6519 | BO47: 7440 | CR47: 9БРН.170.7 (700х4х400) | CV47: 5561 | CW47: 9БРН.130.3 (1600х4х400) | DB47: 12408 | DJ47: 9БТП.0402.4 (700х400х29) | DN47: 6550 | DO47: 9БТ.0408.6 (1600х400х29) | DT47: 10089 | DU47: 9БТ.0408.8 (1600х400х29) | DY47: 10603
AD48: 9БР.303.4 (800х27х300) | AG48: 3773 | AL48: 9БРЛ.111.9 (780х27х400) | AO48: 4891 | BD48: 010.БТБГ.124 (1200х27х400) | BF48: 5986 | BG48: 6996 | BM48: 010.ФДБ.124 (1200х20х400) | BN48: 7127 | BO48: 8047 | BU48: 010.ФТ.604 (600х20х400) | BW48: 4687 | BX48: 5510 | DJ48: 9БТП.0403.4 (800х400х29) | DN48: 7315 | DO48: 9БТ.0409.6 (1800х400х29) | DT48: 12920 | DU48: 9БТ.0409.8 (1800х400х29) | DY48: 13434
AD49: 9БР.105.4 (700х27х400) | AG49: 3709 | AL49: 9БРП.101.9 (680х27х400) | AO49: 4706 | BD49: 010.БТБГ.144 (1400х27х400) | BF49: 6670 | BG49: 7805 | BM49: 010.ФДБ.144 (1400х20х400) | BN49: 7972 | BO49: 8893 | BU49: 010.ФТ.704 (700х20х400) | BW49: 4962 | BX49: 5785 | CM49: Молочный белый/ Металл глянец | CN49: Молочный белый/ порошк. покрытие | CR49: БАРЬЕРЫ HPL-ARREDO | DJ49: Барьеры в алюминевом профиле, вставка стекло, ткань
AD50: 9БР.103.4 (800х27х400) | AG50: 3912 | AL50: 9БРП.111.9 (780х27х400) | AO50: 4891 | BD50: 010.БТБГ.164 (1600х27х400) | BF50: 7371 | BG50: 8614 | BM50: 010.ФДБ.164 (1600х20х400) | BN50: 9754 | BO50: 11134 | BU50: 010.ФТ.804 (800х20х400) | BW50: 5245 | BX50: 6068 | CR50: Барьеры торцевые HPL | CW50: Барьеры боковые HPL | DB50: Барьеры фронтальные HPL | DJ50: Барьеры боковые | DO50: Барьеры фронтальные | DU50: Барьеры фронтальные
AB51: Настольные барьеры | AV51: 010.БТК.105 (1000х27х500) | AW51: 6792 | AX51: 7727 | BD51: 010.БТБГ.184 (1800х27х400) | BF51: 8720 | BG51: 10745 | CF51: Молочный белый/ Металл глянец | CG51: Молочный белый/ порошк. покрытие
O52: Ширина | P52: Высота | Q52: Цена | V52: Ширина | W52: Высота | X52: Цена | AB52: Барьеры фронтальные | AV52: 010.БТК.125 (1200х27х500) | AW52: 7216 | AX52: 8144 | BM52: 010.ФДБ.105 (1000х20х500) | BN52: 6650 | BO52: 7571 | DJ52: 9БТСЛ.0411.4 (700х400х29) | DN52: 8406 | DO52: 9БТС.0415.6 (1200х400х29) | DT52: 12719 | DU52: 9БТС.0415.8 (1200х400х29) | DY52: 13252
O53: 1200мм | P53: 011.МП.1211 | Q53: 12337 | V53: 1400мм | W53: 011.МП.1411 | X53: 13358 | AV53: 010.БТК.145 (1400х27х500) | AW53: 7651 | AX53: 8566 | BD53: 010.БТБГ.105 (1000х27х500) | BF53: 5716 | BG53: 6750 | BM53: 010.ФДБ.125 (1200х20х500) | BN53: 7283 | BO53: 8203 | BU53: 010.ФТ.605 (600х20х500) | BW53: 5635 | BX53: 6458 | CH53: 10БФО.104 (1000х4х400) | CM53: 6996 | CN53: 6056 | DJ53: 9БТСЛ.0412.4 (800х400х29) | DN53: 8848 | DO53: 9БТС.0416.6 (1400х400х29) | DT53: 14065 | DU53: 9БТС.0416.8 (1400х400х29) | DY53: 14601
AV54: 010.БТК.165 (1600х27х500) | AW54: 8863 | AX54: 9771 | BD54: 010.БТБГ.125 (1200х27х500) | BF54: 6177 | BG54: 7271 | BM54: 010.ФДБ.145 (1400х20х500) | BN54: 8173 | BO54: 9093 | BU54: 010.ФТ.705 (700х20х500) | BW54: 5701 | BX54: 6523 | CH54: 10БФО.124 (1200х4х400) | CM54: 7710 | CN54: 6770 | DJ54: 9БТСП.0411.4 (700х400х29) | DN54: 8406 | DO54: 9БТС.0417.6 (1600х400х29) | DT54: 15525 | DU54: 9БТС.0417.8 (1600х400х29) | DY54: 16064
AV55: 010.БТК.185 (1800х27х500) | AW55: 10268 | AX55: 11611 | BD55: 010.БТБГ.145 (1400х27х500) | BF55: 7209 | BG55: 8116 | BM55: 010.ФДБ.165 (1600х20х500) | BN55: 9964 | BO55: 11344 | BU55: 010.ФТ.805 (800х20х500) | BW55: 5765 | BX55: 6588 | CA55: 10ББО.504 (500х4х400) | CF55: 4992 | CG55: 4052 | CH55: 10БФО.144 (1400х4х400) | CM55: 8425 | CN55: 7486 | DJ55: 9БТСП.0412.4 (800х400х29) | DN55: 8848 | DO55: 9БТС.0418.6 (1800х400х29) | DT55: 16659 | DU55: 9БТС.0418.8 (1800х400х29) | DY55: 17217
BD56: 010.БТБГ.165 (1600х27х500) | BF56: 7628 | BG56: 8981 | CA56: 10ББО.604 (600х4х400) | CF56: 5349 | CG56: 4409 | CH56: 10БФО.164 (1600х4х400) | CM56: 9140 | CN56: 8201 | DE56: Порошк. покрытие | DF56: Металл глянец | DJ56: Барьеры в алюминевом профиле, вставка стекло
BD57: 010.БТБГ.185 (1800х27х500) | BF57: 9030 | BG57: 12456 | CA57: 10ББО.704 (700х4х400) | CF57: 5707 | CG57: 4768 | CH57: 10БФО.184 (1800х4х400) | CM57: 11348 | CN57: 9939 | DJ57: Барьеры боковые | DO57: Барьеры фронтальные | DU57: Барьеры фронтальные
AB58: Кронштейны перегородки крепятся к столешнице снизу | AF58: Кронштейны перегородки крепятся к металлу снизу | AK58: Кронштейны перегородки крепятся к 2 столешницам снизу. Столешница мин.16мм, макс.38мм | CA58: 10ББО.804 (800х4х400) | CF58: 6064 | CG58: 5125 | CH58: 10БФО.105 (1000х4х500) | CM58: 7929 | CN58: 6989 | CZ58: Порошк. покрытие | DA58: Металл глянец | DB58: 10БФН.104 (1000х4х400) | DE58: 8839 | DF58: 9871
P59: 011.МП.1212 | Q59: 12540 | W59: 011.МП.1412 | X59: 13592 | AB59: Столешница мин.16мм, макс.38мм | AF59: Размер столешницы с металлом мин.56мм, макс.70мм | AS59: Барьеры мягкие фронтальные для сдвоенного бенч с карманами, двухсторонние | BJ59: Доступные для изготовления цвета металлических креплений по данному прайсу - алюминий матовый, черный, белый, графит. | CA59: 10ББО.505 (500х4х500) | CF59: 5439 | CG59: 4499 | CH59: 10БФО.125 (1200х4х500) | CM59: 8866 | CN59: 7927 | DB59: 10БФН.124 (1200х4х400) | DE59: 10211 | DF59: 11151 | DJ59: 9БСЛ.0402.4 (700х400х29) | DN59: 5755 | DO59: 9БС.0406.6 (1200х400х29) | DT59: 9154 | DU59: 9БС.0406.8 (1200х400х29) | DY59: 9667
AC60: 6БР.306.1 | AD60: (1000х300х18) | AE60: 4053 | AG60: 6БР.306.2 | AH60: (1000х300х18) | AI60: 4139 | AM60: 6БР.306.3 | AN60: (1000х300х18) | AO60: 4389 | BJ60: Производитель оставляет за собой право изменять конструкцию и фурнитуру без изменения внешнего вида и назначения изделия. | CA60: 10ББО.605 (600х4х500) | CF60: 5885 | CG60: 4946 | CH60: 10БФО.145 (1400х4х500) | CM60: 9677 | CN60: 8737 | CU60: Порошк. покрытие | CV60: Металл глянец | CW60: 10ББН.504 (500х4х400) | CZ60: 5515 | DA60: 6454 | DB60: 10БФН.144 (1400х4х400) | DE60: 11523 | DF60: 12431 | DJ60: 9БСЛ.0403.4 (800х400х29) | DN60: 6192 | DO60: 9БС.0407.6 (1400х400х29) | DT60: 9997 | DU60: 9БС.0407.8 (1400х400х29) | DY60: 10511
AC61: 6БР.307.1 | AD61: (1200х300х18) | AE61: 4457 | AG61: 6БР.307.2 | AH61: (1200х300х18) | AI61: 4544 | AM61: 6БР.307.3 | AN61: (1200х300х18) | AO61: 4790 | AS61: Способ установки: крепление к столешнице снизу | AY61: Способ установки: крепление к двум столешницам снизу | BJ61: В комплект барьера входит фурнитура для крепления к столешнице. | CA61: 10ББО.705 (700х4х500) | CF61: 6332 | CG61: 5393 | CH61: 10БФО.165 (1600х4х500) | CM61: 10570 | CN61: 9631 | CW61: 10ББН.604 (600х4х400) | CZ61: 6146 | DA61: 7086 | DB61: 10БФН.164 (1600х4х400) | DE61: 12865 | DF61: 13545 | DJ61: 9БСП.0402.4 (700х400х29) | DN61: 5755 | DO61: 9БС.0408.6 (1600х400х29) | DT61: 10777 | DU61: 9БС.0408.8 (1600х400х29) | DY61: 11291
AC62: 6БР.308.1 | AD62: (1400х300х18) | AE62: 5067 | AG62: 6БР.308.2 | AH62: (1400х300х18) | AI62: 5154 | AM62: 6БР.308.3 | AN62: (1400х300х18) | AO62: 5400 | AS62: Толщина столешницы мин.16мм, макс.38мм | AY62: Толщина столешницы мин.16мм, макс.38мм | BJ62: * В одном изделии (перегородки, барьеры) возможно комбинировать любые два декора обивок из прайс-листа** | CA62: 10ББО.805 (800х4х500) | CF62: 6780 | CG62: 5840 | CH62: 10БФО.185 (1800х4х500) | CM62: 12957 | CN62: 11548 | CR62: 10БТН.604 (600х4х400) | CU62: 5745 | CV62: 6443 | CW62: 10ББН.704 (700х4х400) | CZ62: 6795 | DA62: 7734 | DB62: 10БФН.184 (1800х4х400) | DE62: 14993 | DF62: 16486 | DJ62: 9БСП.0403.4 (800х400х29) | DN62: 6192 | DO62: 9БС.0409.6 (1800х400х29) | DT62: 11874 | DU62: 9БС.0409.8 (1800х400х29) | DY62: 12388
AC63: 6БР.309.1 | AD63: (1600х300х18) | AE63: 5682 | AG63: 6БР.309.2 | AH63: (1600х300х18) | AI63: 5769 | AM63: 6БР.309.3 | AN63: (1600х300х18) | AO63: 6014 | AV63: 010.БТДК.104 (1000х138х400) | AW63: 6745 | AX63: 7668 | BJ63: ** ВАЖНО! Обивки Ricco/Stone/Violet - комбинируются только между собой! | CA63: Барьеры для сдвоенного бенч, оргстекло | CH63: Барьеры торцевые, оргстекло | CR63: 10БТН.704 (700х4х400) | CU63: 6417 | CV63: 7115 | CW63: 10ББН.804 (800х4х400) | CZ63: 7427 | DA63: 8367 | DB63: 10БФН.105 (1000х4х500) | DE63: 10527 | DF63: 11467
AC64: 6БР.406.1 | AD64: (1000х400х18) | AE64: 4199 | AG64: 6БР.406.2 | AH64: (1000х400х18) | AI64: 4286 | AM64: 6БР.406.3 | AN64: (1000х400х18) | AO64: 4532 | AV64: 010.БТДК.124 (1200х138х400) | AW64: 7138 | AX64: 8072 | BJ64: ***Размер скидки на комбинированные изделия уменьшается на 5%. | CR64: 10БТН.804 (800х4х400) | CU64: 7089 | CV64: 7787 | CW64: 10ББН.505 (500х4х500) | CZ64: 6304 | DA64: 7243 | DB64: 10БФН.125 (1200х4х500) | DE64: 12187 | DF64: 13063
P65: 011.МП.1214 | Q65: 13136 | W65: 011.МП.1414 | X65: 14257 | AC65: 6БР.407.1 | AD65: (1200х400х18) | AE65: 4625 | AG65: 6БР.407.2 | AH65: (1200х400х18) | AI65: 4712 | AM65: 6БР.407.3 | AN65: (1200х400х18) | AO65: 4958 | AV65: 010.БТДК.144 (1400х138х400) | AW65: 7529 | AX65: 8449 | CR65: 10БТН.605 (600х4х500) | CU65: 6749 | CV65: 7447 | CW65: 10ББН.605 (600х4х500) | CZ65: 7111 | DA65: 8051 | DB65: 10БФН.145 (1400х4х500) | DE65: 13860 | DF65: 14508
AC66: 6БР.408.1 | AD66: (1400х400х18) | AE66: 5278 | AG66: 6БР.408.2 | AH66: (1400х400х18) | AI66: 5365 | AM66: 6БР.408.3 | AN66: (1400х400х18) | AO66: 5612 | AV66: 010.БТДК.164 (1600х138х400) | AW66: 8743 | AX66: 9647 | BD66: 010.БТТ.604 (600х27х400) | BF66: 4365 | BG66: 5085 | CF66: Молочный белый/ Металл глянец | CG66: Молочный белый/ порошк. покрытие | CR66: 10БТН.705 (700х4х500) | CU66: 7587 | CV66: 8285 | CW66: 10ББН.705 (700х4х500) | CZ66: 7901 | DA66: 8841 | DB66: 10БФН.165 (1600х4х500) | DE66: 15532 | DF66: 16257
AC67: 6БР.409.1 | AD67: (1600х400х18) | AE67: 5907 | AG67: 6БР.409.2 | AH67: (1600х400х18) | AI67: 5994 | AM67: 6БР.409.3 | AN67: (1600х400х18) | AO67: 6241 | AV67: 010.БТДК.184 (1800х138х400) | AW67: 10099 | AX67: 11437 | BD67: 010.БТТ.704 (700х27х400) | BF67: 4678 | BG67: 5242 | CR67: 10БТН.805 (800х4х500) | CU67: 8423 | CV67: 9121 | CW67: 10ББН.805 (800х4х500) | CZ67: 8707 | DA67: 9647 | DB67: 10БФН.185 (1800х4х500) | DE67: 17990 | DF67: 19347
AB68: Барьеры боковые | BD68: 010.БТТ.804 (800х27х400) | BF68: 4989 | BG68: 5544 | CR68: Барьеры для сдвоенного бенч HLP | CZ68: Экраны подстольные HPL
AV69: 010.БТДК.105 (1000х138х500) | AW69: 6916 | AX69: 7848 | BD69: 010.БТТ.605 (600х27х500) | BF69: 4560 | BG69: 5260
AV70: 010.БТДК.125 (1200х138х500) | AW70: 7334 | AX70: 8276 | BD70: 010.БТТ.705 (700х27х500) | BF70: 4901 | BG70: 5601 | CA70: 10БСБО.104 (1000х4х400) | CF70: 6982 | CG70: 6054 | CM70: Молочный белый/ Металл глянец | CN70: Молочный белый/ порошк. покрытие
P71: 011.МП.1216 | Q71: 14283 | V71: 1350 | W71: 011.МП.1316 | X71: 14595 | AV71: 010.БТДК.145 (1400х138х500) | AW71: 7756 | AX71: 8687 | BD71: 010.БТТ.805 (800х27х500) | BF71: 5239 | BG71: 5939 | CA71: 10БСБО.124 (1200х4х400) | CF71: 7697 | CG71: 6769
AV72: 010.БТДК.165 (1600х138х500) | AW72: 9009 | AX72: 9919 | CA72: 10БСБО.144 (1400х4х400) | CF72: 8412 | CG72: 7484
AV73: 010.БТДК.185 (1800х138х500) | AW73: 10401 | AX73: 11754 | CA73: 10БСБО.164 (1600х4х400) | CF73: 9127 | CG73: 8199 | CX73: Порошк. покрытие | CY73: Металл глянец | DF73: Порошк. Покрытие (Черный)
AB74: Кронштейны перегородки крепятся к столешнице снизу | AF74: Кронштейны перегородки крепятся к столешнице снизу | AS74: Производитель оставляет за собой право изменять конструкцию и фурнитуру без изменения внешнего вида и назначения изделия. | CA74: 10БСБО.184 (1800х4х400) | CF74: 11328 | CG74: 9936 | CH74: 10БТО.604 (600х4х400) | CM74: 4641 | CN74: 3802
AC75: 6БР.312.1 | AD75: (580х300х18) | AE75: 2850 | AG75: 6БР.312.2 | AH75: (580х300х18) | AI75: 2908 | AK75: Кронштейны перегородки крепятся к столешнице снизу и устанавливаются по ее торцам. Ширина столешницы 25мм | CA75: 10БСБО.105 (1000х4х500) | CF75: 7915 | CG75: 6987 | CH75: 10БТО.704 (700х4х400) | CM75: 4999 | CN75: 4160 | CR75: 10БСБН.104 (1000х4х400) | CX75: 8929 | CY75: 9857
AC76: 6БР.304.1 | AD76: (600х300х18) | AE76: 2892 | AG76: 6БР.304.2 | AH76: (600х300х18) | AI76: 2950 | AS76: ** Подушка крепится к топу на липучку. Липучка входит в комплект. | CA76: 10БСБО.125 (1200х4х500) | CF76: 8853 | CG76: 7925 | CH76: 10БТО.804 (800х4х400) | CM76: 5356 | CN76: 4517 | CR76: 10БСБН.124 (1200х4х400) | CX76: 10094 | CY76: 11137
AC77: 6БР.301.1 | AD77: (680х300х18) | AE77: 3026 | AG77: 6БР.301.2 | AH77: (680х300х18) | AI77: 3084 | CA77: 10БСБО.145 (1400х4х500) | CF77: 9663 | CG77: 8735 | CH77: 10БТО.605 (600х4х400) | CM77: 5177 | CN77: 4338 | CR77: 10БСБН.144 (1400х4х400) | CX77: 11437 | CY77: 12279 | CZ77: 10ЭН.050.1 (1000х4х300) | DF77: 6076
V78: Ширина | W78: Высота | X78: Цена | AC78: 6БР.305.1 | AD78: (700х300х18) | AE78: 3066 | AG78: 6БР.305.2 | AH78: (700х300х18) | AI78: 3124 | CA78: 10БСБО.165 (1600х4х500) | CF78: 10557 | CG78: 9629 | CH78: 10БТО.705 (700х4х400) | CM78: 5624 | CN78: 4785 | CR78: 10БСБН.164 (1600х4х400) | CX78: 12779 | CY78: 13621 | CZ78: 10ЭН.010.1 (1200х4х300) | DF78: 7095
U79: моб. опоры | V79: 1600мм | W79: 1100мм | X79: 17263 | AC79: 6БР.311.1 | AD79: (780х300х18) | AE79: 3199 | AG79: 6БР.311.2 | AH79: (780х300х18) | AI79: 3257 | CA79: 10БСБО.185 (1800х4х500) | CF79: 12937 | CG79: 11545 | CH79: 10БТО.805 (800х4х400) | CM79: 6072 | CN79: 5233 | CR79: 10БСБН.184 (1800х4х400) | CX79: 14864 | CY79: 16466 | CZ79: 10ЭН.020.1 (1400х4х300) | DF79: 7986
AC80: 6БР.303.1 | AD80: (800х300х18) | AE80: 3239 | AG80: 6БР.303.2 | AH80: (800х300х18) | AI80: 3297 | CR80: 10БСБН.105 (1000х4х500) | CX80: 10427 | CY80: 11454 | CZ80: 10ЭН.030.1 (1600х4х300) | DF80: 9427
U81: 011.МП.1611 | AC81: 6БР.412.1 | AD81: (580х400х18) | AE81: 2950 | AG81: 6БР.412.2 | AH81: (580х400х18) | AI81: 3008 | AM81: 6БР.304.4 | AN81: (600х300х18) | AO81: 3579 | CR81: 10БСБН.125 (1200х4х500) | CX81: 12101 | CY81: 12943 | CZ81: 10ЭН.150.1 (1000х4х400) | DF81: 7739
U82: стац. опоры | AC82: 6БР.404.1 | AD82: (600х400х18) | AE82: 2974 | AG82: 6БР.404.2 | AH82: (600х400х18) | AI82: 3032 | AM82: 6БР.305.4 | AN82: (700х300х18) | AO82: 3828 | CR82: 10БСБН.145 (1400х4х500) | CX82: 13774 | CY82: 14646 | CZ82: 10ЭН.110.1 (1200х4х400) | DF82: 9087
AC83: 6БР.401.1 | AD83: (680х400х18) | AE83: 3128 | AG83: 6БР.401.2 | AH83: (680х400х18) | AI83: 3186 | AM83: 6БР.303.4 | AN83: (800х300х18) | AO83: 3979 | CR83: 10БСБН.165 (1600х4х500) | CX83: 15446 | CY83: 16288 | CZ83: 10ЭН.120.1 (1400х4х400) | DF83: 10459
U84: 011.МПО.1611 | AC84: 6БР.405.1 | AD84: (700х400х18) | AE84: 3164 | AG84: 6БР.405.2 | AH84: (700х400х18) | AI84: 3222 | AM84: 6БР.404.4 | AN84: (600х400х18) | AO84: 3777 | CR84: 10БСБН.185 (1800х4х500) | CX84: 17935 | CY84: 19124 | CZ84: 10ЭН.130.1 (1600х4х400) | DF84: 12018
U85: моб. опоры | W85: 1200мм | X85: 17484 | AC85: 6БР.411.1 | AD85: (780х400х18) | AE85: 3311 | AG85: 6БР.411.2 | AH85: (780х400х18) | AI85: 3369 | AM85: 6БР.405.4 | AN85: (700х400х18) | AO85: 3790
AC86: 6БР.403.1 | AD86: (800х400х18) | AE86: 3348 | AG86: 6БР.403.2 | AH86: (800х400х18) | AI86: 3405 | AM86: 6БР.403.4 | AN86: (800х400х18) | AO86: 4093
U87: 011.МП.1612 | AB87: Кронштейны перегородки крепятся на столешницу | AE87: 6БР.312.7 (580х300х18) | AG87: 3189 | AH87: Кронштейн перегородки крепится у столешнице снизу. Уголки крепятся к перегородке. Ширина столешницы 25мм | AM87: 6БРЛ.312.9 (580х300х18) | AO87: 3984
U88: стац. опоры | AE88: 6БР.304.7 (600х300х18) | AG88: 3189 | AM88: 6БРЛ.301.9 (680х300х18) | AO88: 4158
AE89: 6БР.301.7 (680х300х18) | AG89: 3310 | AM89: 6БРЛ.311.9 (780х300х18) | AO89: 4332
U90: 011.МПО.1612 | AE90: 6БР.305.7 (700х300х18) | AG90: 3310 | AM90: 6БРЛ.412.9 (580х400х18) | AO90: 4085
U91: моб. опоры | W91: 1400мм | X91: 17911 | AE91: 6БР.311.7 (780х300х18) | AG91: 3406 | AM91: 6БРЛ.401.9 (680х400х18) | AO91: 4260
AE92: 6БР.303.7 (800х300х18) | AG92: 3508 | AM92: 6БРЛ.411.9 (780х400х18) | AO92: 4449
U93: 011.МП.1614 | AE93: 6БР.412.7 (580х400х18) | AG93: 3228 | AM93: 6БРП.312.9 (580х300х18) | AO93: 3984
U94: стац. опоры | AE94: 6БР.404.7 (600х400х18) | AG94: 3228 | AM94: 6БРП.301.9 (680х300х18) | AO94: 4158
AE95: 6БР.401.7 (680х400х18) | AG95: 3366 | AM95: 6БРП.311.9 (780х300х18) | AO95: 4332
U96: 011.МПО.1614 | AE96: 6БР.405.7 (700х400х18) | AG96: 3366 | AM96: 6БРП.412.9 (580х400х18) | AO96: 4085
AE97: 6БР.411.7 (780х400х18) | AG97: 3583 | AM97: 6БРП.401.9 (680х400х18) | AO97: 4260
K98: Возможна комбинация в двух цветах. Пример. | AE98: 6БР.403.7 (800х400х18) | AG98: 3545 | AM98: 6БРП.411.9 (780х400х18) | AO98: 4449
AB99: Подушка для тумбы
R101: За комбинацию наценка 5% | AE101: *9ПТ.001 (450х450х50) | AG101: 2472 | AM101: *6ПТ.002 (394х454х50h) | AO101: 2371
K105: Производитель оставляет за собой право изменять конструкцию и фурнитуру без изменения внешнего вида и назначения изделия.
K106: Глубина перегородки с опорой 377мм | AB106: Съемный чехол на липучке. Рекомендуемый размер топа 450х450мм | AH106: Съемный чехол на липучке. Рекомендуемый размер топа 394х454мм
K107: Глубина перегородки без опоры 27мм
...

Sheet Лист1
